Workbook

Sheet T und E
C1: NT11 | Q1: E11 (radial) | AD1: E22 (axial) | AQ1: E33 (tangential)
A2: Node | C2: 871 | D2: 3699 | E2: 4056 | F2: 4413 | G2: 4770 | H2: 301 | I2: 2182 | J2: 2063 | K2: 1944 | L2: 1825 | M2: 1706 | Q2: 871 | R2: 3699 | S2: 4056 | T2: 4413 | U2: 4770 | V2: 301 | W2: 2182 | X2: 2063 | Y2: 1944 | Z2: 1825 | AA2: 1706 | AD2: 871 | AE2: 3699 | AF2: 4056 | AG2: 4413 | AH2: 4770 | AI2: 301 | AJ2: 2182 | AK2: 2063 | AL2: 1944 | AM2: 1825 | AN2: 1706 | AQ2: 871 | AR2: 3699 | AS2: 4056 | AT2: 4413 | AU2: 4770 | AV2: 301 | AW2: 2182 | AX2: 2063 | AY2: 1944 | AZ2: 1825 | BA2: 1706
A3: x [m] | C3: 0.025 | D3: 0.0249918 | E3: 0.0249738 | F3: 0.024934 | G3: 0.0248458 | H3: 0.0246509 | I3: 0.0221897 | J3: 0.0197285 | K3: 0.0172673 | L3: 0.0148061 | M3: 0.0123449 | Q3: 0.025 | R3: 0.0249918 | S3: 0.0249738 | T3: 0.024934 | U3: 0.0248458 | V3: 0.0246509 | W3: 0.0221897 | X3: 0.0197285 | Y3: 0.0172673 | Z3: 0.0148061 | AA3: 0.0123449 | AD3: 0.025 | AE3: 0.0249918 | AF3: 0.0249738 | AG3: 0.024934 | AH3: 0.0248458 | AI3: 0.0246509 | AJ3: 0.0221897 | AK3: 0.0197285 | AL3: 0.0172673 | AM3: 0.0148061 | AN3: 0.0123449 | AQ3: 0.025 | AR3: 0.0249918 | AS3: 0.0249738 | AT3: 0.024934 | AU3: 0.0248458 | AV3: 0.0246509 | AW3: 0.0221897 | AX3: 0.0197285 | AY3: 0.0172673 | AZ3: 0.0148061 | BA3: 0.0123449
A4: y [m] | C4: 0.0883433 | D4: 0.0883422 | E4: 0.0883398 | F4: 0.0883345 | G4: 0.0883228 | H4: 0.0882968 | I4: 0.0882968 | J4: 0.0882968 | K4: 0.0882968 | L4: 0.0882968 | M4: 0.0882968 | Q4: 0.0883433 | R4: 0.0883422 | S4: 0.0883398 | T4: 0.0883345 | U4: 0.0883228 | V4: 0.0882968 | W4: 0.0882968 | X4: 0.0882968 | Y4: 0.0882968 | Z4: 0.0882968 | AA4: 0.0882968 | AD4: 0.0883433 | AE4: 0.0883422 | AF4: 0.0883398 | AG4: 0.0883345 | AH4: 0.0883228 | AI4: 0.0882968 | AJ4: 0.0882968 | AK4: 0.0882968 | AL4: 0.0882968 | AM4: 0.0882968 | AN4: 0.0882968 | AQ4: 0.0883433 | AR4: 0.0883422 | AS4: 0.0883398 | AT4: 0.0883345 | AU4: 0.0883228 | AV4: 0.0882968 | AW4: 0.0882968 | AX4: 0.0882968 | AY4: 0.0882968 | AZ4: 0.0882968 | BA4: 0.0882968
A5: z [m] | C5: 0 | D5: 0 | E5: 0 | F5: 0 | G5: 0 | H5: 0 | I5: 0 | J5: 0 | K5: 0 | L5: 0 | M5: 0 | Q5: 0 | R5: 0 | S5: 0 | T5: 0 | U5: 0 | V5: 0 | W5: 0 | X5: 0 | Y5: 0 | Z5: 0 | AA5: 0 | AD5: 0 | AE5: 0 | AF5: 0 | AG5: 0 | AH5: 0 | AI5: 0 | AJ5: 0 | AK5: 0 | AL5: 0 | AM5: 0 | AN5: 0 | AQ5: 0 | AR5: 0 | AS5: 0 | AT5: 0 | AU5: 0 | AV5: 0 | AW5: 0 | AX5: 0 | AY5: 0 | AZ5: 0 | BA5: 0
A6: Abstand zu Oberfläche [mm] | C6: =ABS(C3-$C$3)*1000 -> 0 | D6: =ABS(D3-$C$3)*1000 -> 0.0082 | E6: =ABS(E3-$C$3)*1000 -> 0.0262 | F6: =ABS(F3-$C$3)*1000 -> 0.066 | G6: =ABS(G3-$C$3)*1000 -> 0.1542 | H6: =ABS(H3-$C$3)*1000 -> 0.3491 | I6: =ABS(I3-$C$3)*1000 -> 2.8103 | J6: =ABS(J3-$C$3)*1000 -> 5.2715 | ... M6: =ABS(M3-$C$3)*1000 -> 12.6551 | Q6: =ABS(Q3-$C$3)*1000 -> 0 | R6: =ABS(R3-$C$3)*1000 -> 0.0082 | S6: =ABS(S3-$C$3)*1000 -> 0.0262 | T6: =ABS(T3-$C$3)*1000 -> 0.066 | U6: =ABS(U3-$C$3)*1000 -> 0.1542 | V6: =ABS(V3-$C$3)*1000 -> 0.3491 | W6: =ABS(W3-$C$3)*1000 -> 2.8103 | X6: =ABS(X3-$C$3)*1000 -> 5.2715 | ... AA6: =ABS(AA3-$C$3)*1000 -> 12.6551 | AD6: =ABS(AD3-$C$3)*1000 -> 0 | AE6: =ABS(AE3-$C$3)*1000 -> 0.0082 | AF6: =ABS(AF3-$C$3)*1000 -> 0.0262 | AG6: =ABS(AG3-$C$3)*1000 -> 0.066 | AH6: =ABS(AH3-$C$3)*1000 -> 0.1542 | AI6: =ABS(AI3-$C$3)*1000 -> 0.3491 | AJ6: =ABS(AJ3-$C$3)*1000 -> 2.8103 | AK6: =ABS(AK3-$C$3)*1000 -> 5.2715 | ... AN6: =ABS(AN3-$C$3)*1000 -> 12.6551 | AQ6: =ABS(AQ3-$C$3)*1000 -> 0 | AR6: =ABS(AR3-$C$3)*1000 -> 0.0082 | AS6: =ABS(AS3-$C$3)*1000 -> 0.0262 | AT6: =ABS(AT3-$C$3)*1000 -> 0.066 | AU6: =ABS(AU3-$C$3)*1000 -> 0.1542 | AV6: =ABS(AV3-$C$3)*1000 -> 0.3491 | AW6: =ABS(AW3-$C$3)*1000 -> 2.8103 | AX6: =ABS(AX3-$C$3)*1000 -> 5.2715 | ... BA6: =ABS(BA3-$C$3)*1000 -> 12.6551
B7: 0 | C7: 20 | D7: 20 | E7: 20 | F7: 20 | G7: 20 | H7: 20 | I7: 20 | J7: 20 | K7: 20 | L7: 20 | M7: 20 | P7: 0 | Q7: 0 | R7: 0 | S7: 0 | T7: 0 | U7: 0 | V7: 0 | W7: 0 | X7: 0 | Y7: 0 | Z7: 0 | AA7: 0 | AC7: 0 | AD7: 0 | AE7: 0 | AF7: 0 | AG7: 0 | AH7: 0 | AI7: 0 | AJ7: 0 | AK7: 0 | AL7: 0 | AM7: 0 | AN7: 0 | AP7: 0 | AQ7: 0 | AR7: 0 | AS7: 0 | AT7: 0 | AU7: 0 | AV7: 0 | AW7: 0 | AX7: 0 | AY7: 0 | AZ7: 0 | BA7: 0
B8: 0.1 | C8: 95.0187 | D8: 94.9344 | E8: 94.2915 | F8: 91.7433 | G8: 84.8466 | H8: 70.2581 | I8: 27.2872 | J8: 21.0401 | K8: 20.1488 | L8: 20.0215 | M8: 20.0031 | P8: 0.1 | Q8: 0.0015801 | R8: 0.00157835 | S8: 0.00156396 | T8: 0.00150674 | U8: 0.00135266 | V8: 0.000841414 | W8: 0.000330125 | X8: 5.08201e-05 | Y8: 2.44879e-05 | Z8: 2.84203e-05 | AA8: 3.30649e-05 | AC8: 0.1 | AD8: 0.000180239 | AE8: 0.000180241 | AF8: 0.000180243 | AG8: 0.000180227 | AH8: 0.000180101 | AI8: 0.000171634 | AJ8: 0.00014401 | AK8: 0.000104217 | AL8: 7.00667e-05 | AM8: 4.69509e-05 | AN8: 3.19459e-05 | AP8: 0.1 | AQ8: 0.000112703 | AR8: 0.000112284 | AS8: 0.000111184 | AT8: 0.000108732 | AU8: 0.000103642 | AV8: 8.2094e-05 | AW8: 5.19563e-05 | AX8: 3.49775e-05 | AY8: 3.46638e-05 | AZ8: 3.60317e-05 | BA8: 3.70749e-05
B9: 0.2 | C9: 139.729 | D9: 139.644 | E9: 138.996 | F9: 136.41 | G9: 129.327 | H9: 113.972 | I9: 39.2296 | J9: 23.541 | K9: 20.6197 | L9: 20.1057 | M9: 20.0179 | P9: 0.2 | Q9: 0.0025211 | R9: 0.00251942 | S9: 0.00250437 | T9: 0.0024433 | U9: 0.0022768 | V9: 0.00156844 | W9: 0.00067727 | X9: 0.000140829 | Y9: 5.7181e-05 | Z9: 5.5823e-05 | AA9: 6.32978e-05 | AC9: 0.2 | AD9: 0.000363047 | AE9: 0.000363003 | AF9: 0.000362888 | AG9: 0.000362603 | AH9: 0.000361802 | AI9: 0.000342921 | AJ9: 0.000286401 | AK9: 0.000208121 | AL9: 0.000142026 | AM9: 9.68031e-05 | AN9: 6.7106e-05 | AP9: 0.2 | AQ9: 0.000221948 | AR9: 0.000221302 | AS9: 0.000219589 | AT9: 0.000215757 | AU9: 0.000207627 | AV9: 0.000168033 | AW9: 0.000108316 | AX9: 7.13367e-05 | AY9: 6.75766e-05 | AZ9: 6.94511e-05 | BA9: 7.14105e-05
B10: 0.35 | C10: 185.836 | D10: 185.768 | E10: 185.234 | F10: 183.034 | G10: 176.755 | H10: 162.673 | I10: 60.6134 | J10: 29.7868 | K10: 22.1317 | L10: 20.4371 | M10: 20.0865 | P10: 0.35 | Q10: 0.0034969 | R10: 0.00349587 | S10: 0.00348396 | T10: 0.00343191 | U10: 0.00328258 | V10: 0.00242817 | W10: 0.00115959 | X10: 0.000319728 | Y10: 0.000120638 | Z10: 9.38222e-05 | AA10: 0.000100306 | AC10: 0.35 | AD10: 0.000609723 | AE10: 0.000609561 | AF10: 0.000609148 | AG10: 0.00060819 | AH10: 0.000605863 | AI10: 0.000571666 | AJ10: 0.000477812 | AK10: 0.00035311 | AL10: 0.000249037 | AM10: 0.000176068 | AN10: 0.000126984 | AP10: 0.35 | AQ10: 0.000369884 | AR10: 0.000369017 | AS10: 0.000366701 | AT10: 0.000361496 | AU10: 0.000350266 | AV10: 0.00028956 | AW10: 0.000191496 | AX10: 0.000123863 | AY10: 0.00011052 | AZ10: 0.000111193 | BA10: 0.000114022
B11: 0.575 | C11: 237.331 | D11: 237.266 | E11: 236.755 | F11: 234.624 | G11: 228.477 | H11: 214.552 | I11: 93.8748 | J11: 43.8035 | K11: 26.7682 | L11: 21.7688 | M11: 20.4369 | P11: 0.575 | Q11: 0.00458953 | R11: 0.00458884 | S11: 0.00457785 | T11: 0.00452745 | U11: 0.00437987 | V11: 0.00340862 | W11: 0.00182035 | X11: 0.000645263 | Y11: 0.00025861 | Z11: 0.000162124 | AA11: 0.000152229 | AC11: 0.575 | AD11: 0.000947938 | AE11: 0.000947582 | AF11: 0.000946691 | AG11: 0.000944673 | AH11: 0.000939991 | AI11: 0.000885346 | AJ11: 0.000744188 | AK11: 0.000562146 | AL11: 0.000410781 | AM11: 0.000301559 | AN11: 0.000225981 | AP11: 0.575 | AQ11: 0.000577041 | AR11: 0.000575944 | AS11: 0.00057298 | AT11: 0.000566296 | AU11: 0.00055178 | AV11: 0.000466932 | AW11: 0.000320313 | AX11: 0.000207357 | AY11: 0.00017315 | AZ11: 0.000167295 | BA11: 0.000169424
B12: 0.9125 | C12: 293.568 | D12: 293.508 | E12: 293.022 | F12: 290.974 | G12: 284.979 | H12: 271.216 | I12: 139.212 | J12: 69.6965 | K12: 38.3752 | L12: 26.1793 | M12: 21.9397 | P12: 0.9125 | Q12: 0.0057791 | R12: 0.00577878 | S12: 0.00576886 | T12: 0.00572037 | U12: 0.00557456 | V12: 0.00452695 | W12: 0.00267986 | X12: 0.00116889 | Y12: 0.000534214 | Z12: 0.000301452 | AA12: 0.00023769 | AC12: 0.9125 | AD12: 0.0014014 | AE12: 0.00140078 | AF12: 0.00139925 | AG12: 0.00139581 | AH12: 0.00138801 | AI12: 0.00130789 | AJ12: 0.00110955 | AK12: 0.000859294 | AL12: 0.000651162 | AM12: 0.0004965 | AN12: 0.000386039 | AP12: 0.9125 | AQ12: 0.000864588 | AR12: 0.000863265 | AS12: 0.000859642 | AT12: 0.000851443 | AU12: 0.00083356 | AV12: 0.000721908 | AW12: 0.000516952 | AX12: 0.000342228 | AY12: 0.000270527 | AZ12: 0.000246695 | BA12: 0.000242493
B13: 1.41875 | C13: 355.775 | D13: 355.718 | E13: 355.253 | F13: 353.269 | G13: 347.381 | H13: 333.735 | I13: 195.71 | J13: 110.431 | K13: 62.4007 | L13: 38.2094 | M13: 27.2903 | P13: 1.41875 | Q13: 0.00734165 | R13: 0.00734263 | S13: 0.00733042 | T13: 0.00726032 | U13: 0.00704008 | V13: 0.0057982 | W13: 0.00375868 | X13: 0.0019453 | Y13: 0.00101916 | Z13: 0.000584179 | AA13: 0.000403478 | AC13: 1.41875 | AD13: 0.0019863 | AE13: 0.00198539 | AF13: 0.0019831 | AG13: 0.00197794 | AH13: 0.00196592 | AI13: 0.00185992 | AJ13: 0.00160334 | AK13: 0.00128028 | AL13: 0.00100714 | AM13: 0.000797421 | AN13: 0.000642617 | AP13: 1.41875 | AQ13: 0.00126482 | AR13: 0.0012632 | AS13: 0.00125872 | AT13: 0.00124855 | AU13: 0.00122642 | AV13: 0.00108554 | AW13: 0.000814156 | AX13: 0.000560547 | AY13: 0.000430184 | AZ13: 0.000369415 | BA13: 0.000345385
B14: 2.01875 | C14: 413.096 | D14: 413.042 | E14: 412.59 | F14: 410.643 | G14: 404.805 | H14: 391.179 | I14: 249.837 | J14: 155.083 | K14: 94.499 | L14: 58.3936 | M14: 38.5837 | P14: 2.01875 | Q14: 0.00891484 | R14: 0.00891674 | S14: 0.00890811 | T14: 0.00884885 | U14: 0.00865438 | V14: 0.00717971 | W14: 0.0048064 | X14: 0.00278063 | Y14: 0.00161543 | Z14: 0.000982044 | AA14: 0.000657386 | AC14: 2.01875 | AD14: 0.0025902 | AE14: 0.00258898 | AF14: 0.00258592 | AG14: 0.00257909 | AH14: 0.00256394 | AI14: 0.00243217 | AJ14: 0.00212243 | AK14: 0.00173844 | AL14: 0.00141254 | AM14: 0.00115486 | AN14: 0.000958663 | AP14: 2.01875 | AQ14: 0.00170482 | AR14: 0.0017029 | AS14: 0.00169759 | AT14: 0.00168553 | AU14: 0.00165912 | AV14: 0.0014906 | AW14: 0.0011598 | AX14: 0.000831499 | AY14: 0.000637649 | AZ14: 0.000528887 | BA14: 0.000472019
B15: 2.61875 | C15: 458.984 | D15: 458.933 | E15: 458.496 | F15: 456.598 | G15: 450.863 | H15: 437.403 | I15: 294.692 | J15: 194.839 | K15: 126.504 | L15: 81.6832 | M15: 53.9929 | P15: 2.61875 | Q15: 0.00995796 | R15: 0.00996038 | S15: 0.00995333 | T15: 0.00989766 | U15: 0.00970983 | V15: 0.0081775 | W15: 0.00566868 | X15: 0.00352427 | Y15: 0.0021942 | Z15: 0.00140305 | AA15: 0.000955009 | AC15: 2.61875 | AD15: 0.00313534 | AE15: 0.00313389 | AF15: 0.00313024 | AG15: 0.00312214 | AH15: 0.0031042 | AI15: 0.00295164 | AJ15: 0.00259752 | AK15: 0.00216368 | AL15: 0.00179667 | AM15: 0.00150274 | AN15: 0.00127468 | AP15: 2.61875 | AQ15: 0.00210919 | AR15: 0.00210712 | AS15: 0.00210134 | AT15: 0.00208819 | AU15: 0.00205935 | AV15: 0.00187245 | AW15: 0.0014982 | AX15: 0.00111159 | AY15: 0.000863241 | AZ15: 0.000708892 | BA15: 0.000616417
B16: 3.21875 | C16: 498.549 | D16: 498.499 | E16: 498.065 | F16: 496.173 | G16: 490.439 | H16: 476.954 | I16: 333.299 | J16: 230.3 | K16: 156.895 | L16: 105.891 | M16: 71.9062 | P16: 3.21875 | Q16: 0.0108776 | R16: 0.0108805 | S16: 0.0108745 | T16: 0.010821 | U16: 0.0106369 | V16: 0.00911023 | W16: 0.00648937 | X16: 0.00417218 | Y16: 0.00272335 | Z16: 0.00181324 | AA16: 0.00125917 | AC16: 3.21875 | AD16: 0.00355736 | AE16: 0.0035556 | AF16: 0.00355125 | AG16: 0.00354167 | AH16: 0.00352048 | AI16: 0.00335399 | AJ16: 0.00298812 | AK16: 0.00255084 | AL16: 0.00217098 | AM16: 0.00184956 | AN16: 0.00159522 | AP16: 3.21875 | AQ16: 0.0024988 | AR16: 0.00249661 | AS16: 0.00249045 | AT16: 0.00247639 | AU16: 0.00244553 | AV16: 0.00224022 | AW16: 0.00182319 | AX16: 0.00138533 | AY16: 0.00109191 | AZ16: 0.000897418 | BA16: 0.00077138
B17: 3.81875 | C17: 533.366 | D17: 533.317 | E17: 532.891 | F17: 531.021 | G17: 525.322 | H17: 511.876 | I17: 367.498 | J17: 262.21 | K17: 185.387 | L17: 129.943 | M17: 91.0692 | P17: 3.81875 | Q17: 0.0116403 | R17: 0.0116436 | S17: 0.0116395 | T17: 0.0115914 | U17: 0.0114205 | V17: 0.00992155 | W17: 0.00721246 | X17: 0.00475378 | Y17: 0.00320906 | Z17: 0.00219932 | AA17: 0.00155538 | AC17: 3.81875 | AD17: 0.00391063 | AE17: 0.00390881 | AF17: 0.00390429 | AG17: 0.00389431 | AH17: 0.0038725 | AI17: 0.00370115 | AJ17: 0.00333112 | AK17: 0.00289568 | AL17: 0.00251664 | AM17: 0.00218636 | AN17: 0.00191555 | AP17: 3.81875 | AQ17: 0.00286002 | AR17: 0.00285774 | AS17: 0.00285128 | AT17: 0.00283654 | AU17: 0.00280412 | AV17: 0.00258354 | AW17: 0.00213067 | AX17: 0.00164961 | AY17: 0.00131761 | AZ17: 0.0010881 | BA17: 0.000932081
B18: 4.41875 | C18: 564.891 | D18: 564.843 | E18: 564.422 | F18: 562.561 | G18: 556.871 | H18: 543.415 | I18: 398.375 | J18: 291.417 | K18: 212.128 | L18: 153.418 | M18: 110.78 | P18: 4.41875 | Q18: 0.0124983 | R18: 0.0125011 | S18: 0.0124909 | T18: 0.0124148 | U18: 0.0121601 | V18: 0.0106 | W18: 0.00784091 | X18: 0.00527955 | Y18: 0.00366556 | Z18: 0.00257949 | AA18: 0.0018562 | AC18: 4.41875 | AD18: 0.00426359 | AE18: 0.00426157 | AF18: 0.00425663 | AG18: 0.00424599 | AH18: 0.0042226 | AI18: 0.00404674 | AJ18: 0.00367142 | AK18: 0.00322996 | AL18: 0.00284486 | AM18: 0.00250632 | AN18: 0.00222425 | AP18: 4.41875 | AQ18: 0.00320423 | AR18: 0.00320181 | AS18: 0.00319497 | AT18: 0.00317933 | AU18: 0.0031451 | AV18: 0.00291244 | AW18: 0.00243146 | AX18: 0.00191577 | AY18: 0.00155152 | AZ18: 0.00129122 | BA18: 0.00110782
... B302: 22 | C302: 65.6865 | D302: 65.7936 | E302: 66.0304 | F302: 66.5543 | G302: 67.7135 | H302: 70.281 | I302: 103.332 | J302: 136.101 | K302: 167.437 | L302: 196.086 | M302: 221.189 | P302: 22 | Q302: -0.0075555 | R302: -0.0075237 | S302: -0.00744978 | T302: -0.00730199 | U302: -0.00697515 | V302: -0.00351308 | W302: 0.00250797 | X302: 0.0058635 | Y302: 0.00392846 | Z302: 0.00172005 | AA302: 0.00173608 | AC302: 22 | AD302: 0.00611744 | AE302: 0.00610114 | AF302: 0.00606367 | AG302: 0.00599547 | AH302: 0.00584504 | AI302: 0.00367545 | AJ302: -4.58274e-05 | AK302: -0.00145605 | AL302: -0.0001866 | AM302: 0.00107512 | AN302: 0.00175656 | AP302: 22 | AQ302: 0.00246752 | AR302: 0.00246971 | AS302: 0.00247707 | AT302: 0.00249414 | AU302: 0.00253097 | AV302: 0.00268665 | AW302: 0.00280486 | AX302: 0.00262381 | AY302: 0.00230183 | AZ302: 0.00222331 | BA302: 0.00232396

Sheet dT und dE
C1: dNT11 | Q1: dE11 (radial) | AD1: dE22 (axial) | AQ1: dE33 (tangential)
A2: Node | C2: 871 | D2: 3699 | E2: 4056 | F2: 4413 | G2: 4770 | H2: 301 | I2: 2182 | J2: 2063 | K2: 1944 | L2: 1825 | M2: 1706 | Q2: 871 | R2: 3699 | S2: 4056 | T2: 4413 | U2: 4770 | V2: 301 | W2: 2182 | X2: 2063 | Y2: 1944 | Z2: 1825 | AA2: 1706 | AD2: 871 | AE2: 3699 | AF2: 4056 | AG2: 4413 | AH2: 4770 | AI2: 301 | AJ2: 2182 | AK2: 2063 | AL2: 1944 | AM2: 1825 | AN2: 1706 | AQ2: 871 | AR2: 3699 | AS2: 4056 | AT2: 4413 | AU2: 4770 | AV2: 301 | AW2: 2182 | AX2: 2063 | AY2: 1944 | AZ2: 1825 | BA2: 1706
A3: x [m] | C3: 0.025 | D3: 0.0249918 | E3: 0.0249738 | F3: 0.024934 | G3: 0.0248458 | H3: 0.0246509 | I3: 0.0221897 | J3: 0.0197285 | K3: 0.0172673 | L3: 0.0148061 | M3: 0.0123449 | Q3: 0.025 | R3: 0.0249918 | S3: 0.0249738 | T3: 0.024934 | U3: 0.0248458 | V3: 0.0246509 | W3: 0.0221897 | X3: 0.0197285 | Y3: 0.0172673 | Z3: 0.0148061 | AA3: 0.0123449 | AD3: 0.025 | AE3: 0.0249918 | AF3: 0.0249738 | AG3: 0.024934 | AH3: 0.0248458 | AI3: 0.0246509 | AJ3: 0.0221897 | AK3: 0.0197285 | AL3: 0.0172673 | AM3: 0.0148061 | AN3: 0.0123449 | AQ3: 0.025 | AR3: 0.0249918 | AS3: 0.0249738 | AT3: 0.024934 | AU3: 0.0248458 | AV3: 0.0246509 | AW3: 0.0221897 | AX3: 0.0197285 | AY3: 0.0172673 | AZ3: 0.0148061 | BA3: 0.0123449
A4: y [m] | C4: 0.0883433 | D4: 0.0883422 | E4: 0.0883398 | F4: 0.0883345 | G4: 0.0883228 | H4: 0.0882968 | I4: 0.0882968 | J4: 0.0882968 | K4: 0.0882968 | L4: 0.0882968 | M4: 0.0882968 | Q4: 0.0883433 | R4: 0.0883422 | S4: 0.0883398 | T4: 0.0883345 | U4: 0.0883228 | V4: 0.0882968 | W4: 0.0882968 | X4: 0.0882968 | Y4: 0.0882968 | Z4: 0.0882968 | AA4: 0.0882968 | AD4: 0.0883433 | AE4: 0.0883422 | AF4: 0.0883398 | AG4: 0.0883345 | AH4: 0.0883228 | AI4: 0.0882968 | AJ4: 0.0882968 | AK4: 0.0882968 | AL4: 0.0882968 | AM4: 0.0882968 | AN4: 0.0882968 | AQ4: 0.0883433 | AR4: 0.0883422 | AS4: 0.0883398 | AT4: 0.0883345 | AU4: 0.0883228 | AV4: 0.0882968 | AW4: 0.0882968 | AX4: 0.0882968 | AY4: 0.0882968 | AZ4: 0.0882968 | BA4: 0.0882968
A5: z [m] | C5: 0 | D5: 0 | E5: 0 | F5: 0 | G5: 0 | H5: 0 | I5: 0 | J5: 0 | K5: 0 | L5: 0 | M5: 0 | Q5: 0 | R5: 0 | S5: 0 | T5: 0 | U5: 0 | V5: 0 | W5: 0 | X5: 0 | Y5: 0 | Z5: 0 | AA5: 0 | AD5: 0 | AE5: 0 | AF5: 0 | AG5: 0 | AH5: 0 | AI5: 0 | AJ5: 0 | AK5: 0 | AL5: 0 | AM5: 0 | AN5: 0 | AQ5: 0 | AR5: 0 | AS5: 0 | AT5: 0 | AU5: 0 | AV5: 0 | AW5: 0 | AX5: 0 | AY5: 0 | AZ5: 0 | BA5: 0
A6: Abstand zu Oberfläche [mm] | C6: =ABS(C3-$C$3)*1000 -> 0 | D6: =ABS(D3-$C$3)*1000 -> 0.0082 | E6: =ABS(E3-$C$3)*1000 -> 0.0262 | F6: =ABS(F3-$C$3)*1000 -> 0.066 | G6: =ABS(G3-$C$3)*1000 -> 0.1542 | H6: =ABS(H3-$C$3)*1000 -> 0.3491 | I6: =ABS(I3-$C$3)*1000 -> 2.8103 | J6: =ABS(J3-$C$3)*1000 -> 5.2715 | ... M6: =ABS(M3-$C$3)*1000 -> 12.6551 | Q6: =ABS(Q3-$C$3)*1000 -> 0 | R6: =ABS(R3-$C$3)*1000 -> 0.0082 | S6: =ABS(S3-$C$3)*1000 -> 0.0262 | T6: =ABS(T3-$C$3)*1000 -> 0.066 | U6: =ABS(U3-$C$3)*1000 -> 0.1542 | V6: =ABS(V3-$C$3)*1000 -> 0.3491 | W6: =ABS(W3-$C$3)*1000 -> 2.8103 | X6: =ABS(X3-$C$3)*1000 -> 5.2715 | ... AA6: =ABS(AA3-$C$3)*1000 -> 12.6551 | AD6: =ABS(AD3-$C$3)*1000 -> 0 | AE6: =ABS(AE3-$C$3)*1000 -> 0.0082 | AF6: =ABS(AF3-$C$3)*1000 -> 0.0262 | AG6: =ABS(AG3-$C$3)*1000 -> 0.066 | AH6: =ABS(AH3-$C$3)*1000 -> 0.1542 | AI6: =ABS(AI3-$C$3)*1000 -> 0.3491 | AJ6: =ABS(AJ3-$C$3)*1000 -> 2.8103 | AK6: =ABS(AK3-$C$3)*1000 -> 5.2715 | ... AN6: =ABS(AN3-$C$3)*1000 -> 12.6551 | AQ6: =ABS(AQ3-$C$3)*1000 -> 0 | AR6: =ABS(AR3-$C$3)*1000 -> 0.0082 | AS6: =ABS(AS3-$C$3)*1000 -> 0.0262 | AT6: =ABS(AT3-$C$3)*1000 -> 0.066 | AU6: =ABS(AU3-$C$3)*1000 -> 0.1542 | AV6: =ABS(AV3-$C$3)*1000 -> 0.3491 | AW6: =ABS(AW3-$C$3)*1000 -> 2.8103 | AX6: =ABS(AX3-$C$3)*1000 -> 5.2715 | ... BA6: =ABS(BA3-$C$3)*1000 -> 12.6551
B7: ='T und E'!B7 -> 0 | C7: =('T und E'!C8-'T und E'!C7)/('T und E'!$B8-'T und E'!$B7) -> 750.187 | D7: =('T und E'!D8-'T und E'!D7)/('T und E'!$B8-'T und E'!$B7) -> 749.344 | E7: =('T und E'!E8-'T und E'!E7)/('T und E'!$B8-'T und E'!$B7) -> 742.915 | F7: =('T und E'!F8-'T und E'!F7)/('T und E'!$B8-'T und E'!$B7) -> 717.433 | G7: =('T und E'!G8-'T und E'!G7)/('T und E'!$B8-'T und E'!$B7) -> 648.466 | H7: =('T und E'!H8-'T und E'!H7)/('T und E'!$B8-'T und E'!$B7) -> 502.581 | I7: =('T und E'!I8-'T und E'!I7)/('T und E'!$B8-'T und E'!$B7) -> 72.872 | J7: =('T und E'!J8-'T und E'!J7)/('T und E'!$B8-'T und E'!$B7) -> 10.401 | ... M7: =('T und E'!M8-'T und E'!M7)/('T und E'!$B8-'T und E'!$B7) -> 0.031 | P7: ='T und E'!P7 -> 0 | Q7: =('T und E'!Q8-'T und E'!Q7)/('T und E'!$B8-'T und E'!$B7) -> 0.015801 | R7: =('T und E'!R8-'T und E'!R7)/('T und E'!$B8-'T und E'!$B7) -> 0.0157835 | S7: =('T und E'!S8-'T und E'!S7)/('T und E'!$B8-'T und E'!$B7) -> 0.0156396 | T7: =('T und E'!T8-'T und E'!T7)/('T und E'!$B8-'T und E'!$B7) -> 0.0150674 | U7: =('T und E'!U8-'T und E'!U7)/('T und E'!$B8-'T und E'!$B7) -> 0.0135266 | V7: =('T und E'!V8-'T und E'!V7)/('T und E'!$B8-'T und E'!$B7) -> 0.00841414 | W7: =('T und E'!W8-'T und E'!W7)/('T und E'!$B8-'T und E'!$B7) -> 0.00330125 | X7: =('T und E'!X8-'T und E'!X7)/('T und E'!$B8-'T und E'!$B7) -> 0.000508201 | ... AA7: =('T und E'!AA8-'T und E'!AA7)/('T und E'!$B8-'T und E'!$B7) -> 0.000330649 | AC7: ='T und E'!AC7 -> 0 | AD7: =('T und E'!AD8-'T und E'!AD7)/('T und E'!$B8-'T und E'!$B7) -> 0.00180239 | AE7: =('T und E'!AE8-'T und E'!AE7)/('T und E'!$B8-'T und E'!$B7) -> 0.00180241 | AF7: =('T und E'!AF8-'T und E'!AF7)/('T und E'!$B8-'T und E'!$B7) -> 0.00180243 | AG7: =('T und E'!AG8-'T und E'!AG7)/('T und E'!$B8-'T und E'!$B7) -> 0.00180227 | AH7: =('T und E'!AH8-'T und E'!AH7)/('T und E'!$B8-'T und E'!$B7) -> 0.00180101 | AI7: =('T und E'!AI8-'T und E'!AI7)/('T und E'!$B8-'T und E'!$B7) -> 0.00171634 | AJ7: =('T und E'!AJ8-'T und E'!AJ7)/('T und E'!$B8-'T und E'!$B7) -> 0.0014401 | AK7: =('T und E'!AK8-'T und E'!AK7)/('T und E'!$B8-'T und E'!$B7) -> 0.00104217 | ... AN7: =('T und E'!AN8-'T und E'!AN7)/('T und E'!$B8-'T und E'!$B7) -> 0.000319459 | AP7: ='T und E'!AP7 -> 0 | AQ7: =('T und E'!AQ8-'T und E'!AQ7)/('T und E'!$B8-'T und E'!$B7) -> 0.00112703 | AR7: =('T und E'!AR8-'T und E'!AR7)/('T und E'!$B8-'T und E'!$B7) -> 0.00112284 | AS7: =('T und E'!AS8-'T und E'!AS7)/('T und E'!$B8-'T und E'!$B7) -> 0.00111184 | AT7: =('T und E'!AT8-'T und E'!AT7)/('T und E'!$B8-'T und E'!$B7) -> 0.00108732 | AU7: =('T und E'!AU8-'T und E'!AU7)/('T und E'!$B8-'T und E'!$B7) -> 0.00103642 | AV7: =('T und E'!AV8-'T und E'!AV7)/('T und E'!$B8-'T und E'!$B7) -> 0.00082094 | AW7: =('T und E'!AW8-'T und E'!AW7)/('T und E'!$B8-'T und E'!$B7) -> 0.000519563 | AX7: =('T und E'!AX8-'T und E'!AX7)/('T und E'!$B8-'T und E'!$B7) -> 0.000349775 | ... BA7: =('T und E'!BA8-'T und E'!BA7)/('T und E'!$B8-'T und E'!$B7) -> 0.000370749
B8: ='T und E'!B8 -> 0.1 | C8: =('T und E'!C9-'T und E'!C8)/('T und E'!$B9-'T und E'!$B8) -> 447.103 | D8: =('T und E'!D9-'T und E'!D8)/('T und E'!$B9-'T und E'!$B8) -> 447.096 | E8: =('T und E'!E9-'T und E'!E8)/('T und E'!$B9-'T und E'!$B8) -> 447.045 | F8: =('T und E'!F9-'T und E'!F8)/('T und E'!$B9-'T und E'!$B8) -> 446.667 | G8: =('T und E'!G9-'T und E'!G8)/('T und E'!$B9-'T und E'!$B8) -> 444.804 | H8: =('T und E'!H9-'T und E'!H8)/('T und E'!$B9-'T und E'!$B8) -> 437.139 | I8: =('T und E'!I9-'T und E'!I8)/('T und E'!$B9-'T und E'!$B8) -> 119.424 | J8: =('T und E'!J9-'T und E'!J8)/('T und E'!$B9-'T und E'!$B8) -> 25.009 | ... M8: =('T und E'!M9-'T und E'!M8)/('T und E'!$B9-'T und E'!$B8) -> 0.148 | P8: ='T und E'!P8 -> 0.1 | Q8: =('T und E'!Q9-'T und E'!Q8)/('T und E'!$B9-'T und E'!$B8) -> 0.00941 | R8: =('T und E'!R9-'T und E'!R8)/('T und E'!$B9-'T und E'!$B8) -> 0.0094107 | S8: =('T und E'!S9-'T und E'!S8)/('T und E'!$B9-'T und E'!$B8) -> 0.0094041 | T8: =('T und E'!T9-'T und E'!T8)/('T und E'!$B9-'T und E'!$B8) -> 0.0093656 | U8: =('T und E'!U9-'T und E'!U8)/('T und E'!$B9-'T und E'!$B8) -> 0.0092414 | V8: =('T und E'!V9-'T und E'!V8)/('T und E'!$B9-'T und E'!$B8) -> 0.00727026 | W8: =('T und E'!W9-'T und E'!W8)/('T und E'!$B9-'T und E'!$B8) -> 0.00347145 | X8: =('T und E'!X9-'T und E'!X8)/('T und E'!$B9-'T und E'!$B8) -> 0.000900089 | ... AA8: =('T und E'!AA9-'T und E'!AA8)/('T und E'!$B9-'T und E'!$B8) -> 0.000302329 | AC8: ='T und E'!AC8 -> 0.1 | AD8: =('T und E'!AD9-'T und E'!AD8)/('T und E'!$B9-'T und E'!$B8) -> 0.00182808 | AE8: =('T und E'!AE9-'T und E'!AE8)/('T und E'!$B9-'T und E'!$B8) -> 0.00182762 | AF8: =('T und E'!AF9-'T und E'!AF8)/('T und E'!$B9-'T und E'!$B8) -> 0.00182645 | AG8: =('T und E'!AG9-'T und E'!AG8)/('T und E'!$B9-'T und E'!$B8) -> 0.00182376 | AH8: =('T und E'!AH9-'T und E'!AH8)/('T und E'!$B9-'T und E'!$B8) -> 0.00181701 | AI8: =('T und E'!AI9-'T und E'!AI8)/('T und E'!$B9-'T und E'!$B8) -> 0.00171287 | AJ8: =('T und E'!AJ9-'T und E'!AJ8)/('T und E'!$B9-'T und E'!$B8) -> 0.00142391 | AK8: =('T und E'!AK9-'T und E'!AK8)/('T und E'!$B9-'T und E'!$B8) -> 0.00103904 | ... AN8: =('T und E'!AN9-'T und E'!AN8)/('T und E'!$B9-'T und E'!$B8) -> 0.000351601 | AP8: ='T und E'!AP8 -> 0.1 | AQ8: =('T und E'!AQ9-'T und E'!AQ8)/('T und E'!$B9-'T und E'!$B8) -> 0.00109245 | AR8: =('T und E'!AR9-'T und E'!AR8)/('T und E'!$B9-'T und E'!$B8) -> 0.00109018 | AS8: =('T und E'!AS9-'T und E'!AS8)/('T und E'!$B9-'T und E'!$B8) -> 0.00108405 | AT8: =('T und E'!AT9-'T und E'!AT8)/('T und E'!$B9-'T und E'!$B8) -> 0.00107025 | AU8: =('T und E'!AU9-'T und E'!AU8)/('T und E'!$B9-'T und E'!$B8) -> 0.00103985 | AV8: =('T und E'!AV9-'T und E'!AV8)/('T und E'!$B9-'T und E'!$B8) -> 0.00085939 | AW8: =('T und E'!AW9-'T und E'!AW8)/('T und E'!$B9-'T und E'!$B8) -> 0.000563597 | AX8: =('T und E'!AX9-'T und E'!AX8)/('T und E'!$B9-'T und E'!$B8) -> 0.000363592 | ... BA8: =('T und E'!BA9-'T und E'!BA8)/('T und E'!$B9-'T und E'!$B8) -> 0.000343356
B9: ='T und E'!B9 -> 0.2 | C9: =('T und E'!C10-'T und E'!C9)/('T und E'!$B10-'T und E'!$B9) -> 307.38 | D9: =('T und E'!D10-'T und E'!D9)/('T und E'!$B10-'T und E'!$B9) -> 307.49333 | E9: =('T und E'!E10-'T und E'!E9)/('T und E'!$B10-'T und E'!$B9) -> 308.25333 | F9: =('T und E'!F10-'T und E'!F9)/('T und E'!$B10-'T und E'!$B9) -> 310.82667 | G9: =('T und E'!G10-'T und E'!G9)/('T und E'!$B10-'T und E'!$B9) -> 316.18667 | H9: =('T und E'!H10-'T und E'!H9)/('T und E'!$B10-'T und E'!$B9) -> 324.67333 | I9: =('T und E'!I10-'T und E'!I9)/('T und E'!$B10-'T und E'!$B9) -> 142.55867 | J9: =('T und E'!J10-'T und E'!J9)/('T und E'!$B10-'T und E'!$B9) -> 41.638667 | ... M9: =('T und E'!M10-'T und E'!M9)/('T und E'!$B10-'T und E'!$B9) -> 0.45733333 | P9: ='T und E'!P9 -> 0.2 | Q9: =('T und E'!Q10-'T und E'!Q9)/('T und E'!$B10-'T und E'!$B9) -> 0.0065053333 | R9: =('T und E'!R10-'T und E'!R9)/('T und E'!$B10-'T und E'!$B9) -> 0.0065096667 | S9: =('T und E'!S10-'T und E'!S9)/('T und E'!$B10-'T und E'!$B9) -> 0.0065306 | T9: =('T und E'!T10-'T und E'!T9)/('T und E'!$B10-'T und E'!$B9) -> 0.0065907333 | U9: =('T und E'!U10-'T und E'!U9)/('T und E'!$B10-'T und E'!$B9) -> 0.0067052 | V9: =('T und E'!V10-'T und E'!V9)/('T und E'!$B10-'T und E'!$B9) -> 0.0057315333 | W9: =('T und E'!W10-'T und E'!W9)/('T und E'!$B10-'T und E'!$B9) -> 0.0032154667 | X9: =('T und E'!X10-'T und E'!X9)/('T und E'!$B10-'T und E'!$B9) -> 0.00119266 | ... AA9: =('T und E'!AA10-'T und E'!AA9)/('T und E'!$B10-'T und E'!$B9) -> 0.00024672133 | AC9: ='T und E'!AC9 -> 0.2 | AD9: =('T und E'!AD10-'T und E'!AD9)/('T und E'!$B10-'T und E'!$B9) -> 0.0016445067 | AE9: =('T und E'!AE10-'T und E'!AE9)/('T und E'!$B10-'T und E'!$B9) -> 0.00164372 | AF9: =('T und E'!AF10-'T und E'!AF9)/('T und E'!$B10-'T und E'!$B9) -> 0.0016417333 | AG9: =('T und E'!AG10-'T und E'!AG9)/('T und E'!$B10-'T und E'!$B9) -> 0.0016372467 | AH9: =('T und E'!AH10-'T und E'!AH9)/('T und E'!$B10-'T und E'!$B9) -> 0.0016270733 | AI9: =('T und E'!AI10-'T und E'!AI9)/('T und E'!$B10-'T und E'!$B9) -> 0.0015249667 | AJ9: =('T und E'!AJ10-'T und E'!AJ9)/('T und E'!$B10-'T und E'!$B9) -> 0.0012760733 | AK9: =('T und E'!AK10-'T und E'!AK9)/('T und E'!$B10-'T und E'!$B9) -> 0.00096659333 | ... AN9: =('T und E'!AN10-'T und E'!AN9)/('T und E'!$B10-'T und E'!$B9) -> 0.00039918667 | AP9: ='T und E'!AP9 -> 0.2 | AQ9: =('T und E'!AQ10-'T und E'!AQ9)/('T und E'!$B10-'T und E'!$B9) -> 0.00098624 | AR9: =('T und E'!AR10-'T und E'!AR9)/('T und E'!$B10-'T und E'!$B9) -> 0.00098476667 | AS9: =('T und E'!AS10-'T und E'!AS9)/('T und E'!$B10-'T und E'!$B9) -> 0.00098074667 | AT9: =('T und E'!AT10-'T und E'!AT9)/('T und E'!$B10-'T und E'!$B9) -> 0.00097159333 | AU9: =('T und E'!AU10-'T und E'!AU9)/('T und E'!$B10-'T und E'!$B9) -> 0.00095092667 | AV9: =('T und E'!AV10-'T und E'!AV9)/('T und E'!$B10-'T und E'!$B9) -> 0.00081018 | AW9: =('T und E'!AW10-'T und E'!AW9)/('T und E'!$B10-'T und E'!$B9) -> 0.00055453333 | AX9: =('T und E'!AX10-'T und E'!AX9)/('T und E'!$B10-'T und E'!$B9) -> 0.00035017533 | ... BA9: =('T und E'!BA10-'T und E'!BA9)/('T und E'!$B10-'T und E'!$B9) -> 0.00028407667
B10: ='T und E'!B10 -> 0.35 | C10: =('T und E'!C11-'T und E'!C10)/('T und E'!$B11-'T und E'!$B10) -> 228.86667 | D10: =('T und E'!D11-'T und E'!D10)/('T und E'!$B11-'T und E'!$B10) -> 228.88 | E10: =('T und E'!E11-'T und E'!E10)/('T und E'!$B11-'T und E'!$B10) -> 228.98222 | F10: =('T und E'!F11-'T und E'!F10)/('T und E'!$B11-'T und E'!$B10) -> 229.28889 | G10: =('T und E'!G11-'T und E'!G10)/('T und E'!$B11-'T und E'!$B10) -> 229.87556 | H10: =('T und E'!H11-'T und E'!H10)/('T und E'!$B11-'T und E'!$B10) -> 230.57333 | I10: =('T und E'!I11-'T und E'!I10)/('T und E'!$B11-'T und E'!$B10) -> 147.82844 | J10: =('T und E'!J11-'T und E'!J10)/('T und E'!$B11-'T und E'!$B10) -> 62.296444 | ... M10: =('T und E'!M11-'T und E'!M10)/('T und E'!$B11-'T und E'!$B10) -> 1.5573333 | P10: ='T und E'!P10 -> 0.35 | Q10: =('T und E'!Q11-'T und E'!Q10)/('T und E'!$B11-'T und E'!$B10) -> 0.0048561333 | R10: =('T und E'!R11-'T und E'!R10)/('T und E'!$B11-'T und E'!$B10) -> 0.0048576444 | S10: =('T und E'!S11-'T und E'!S10)/('T und E'!$B11-'T und E'!$B10) -> 0.0048617333 | T10: =('T und E'!T11-'T und E'!T10)/('T und E'!$B11-'T und E'!$B10) -> 0.0048690667 | U10: =('T und E'!U11-'T und E'!U10)/('T und E'!$B11-'T und E'!$B10) -> 0.0048768444 | V10: =('T und E'!V11-'T und E'!V10)/('T und E'!$B11-'T und E'!$B10) -> 0.0043575556 | W10: =('T und E'!W11-'T und E'!W10)/('T und E'!$B11-'T und E'!$B10) -> 0.0029367111 | X10: =('T und E'!X11-'T und E'!X10)/('T und E'!$B11-'T und E'!$B10) -> 0.0014468222 | ... AA10: =('T und E'!AA11-'T und E'!AA10)/('T und E'!$B11-'T und E'!$B10) -> 0.00023076889 | AC10: ='T und E'!AC10 -> 0.35 | AD10: =('T und E'!AD11-'T und E'!AD10)/('T und E'!$B11-'T und E'!$B10) -> 0.0015031778 | AE10: =('T und E'!AE11-'T und E'!AE10)/('T und E'!$B11-'T und E'!$B10) -> 0.0015023156 | AF10: =('T und E'!AF11-'T und E'!AF10)/('T und E'!$B11-'T und E'!$B10) -> 0.0015001911 | AG10: =('T und E'!AG11-'T und E'!AG10)/('T und E'!$B11-'T und E'!$B10) -> 0.00149548 | AH10: =('T und E'!AH11-'T und E'!AH10)/('T und E'!$B11-'T und E'!$B10) -> 0.0014850133 | AI10: =('T und E'!AI11-'T und E'!AI10)/('T und E'!$B11-'T und E'!$B10) -> 0.0013941333 | AJ10: =('T und E'!AJ11-'T und E'!AJ10)/('T und E'!$B11-'T und E'!$B10) -> 0.0011838933 | AK10: =('T und E'!AK11-'T und E'!AK10)/('T und E'!$B11-'T und E'!$B10) -> 0.00092904889 | ... AN10: =('T und E'!AN11-'T und E'!AN10)/('T und E'!$B11-'T und E'!$B10) -> 0.00043998667 | AP10: ='T und E'!AP10 -> 0.35 | AQ10: =('T und E'!AQ11-'T und E'!AQ10)/('T und E'!$B11-'T und E'!$B10) -> 0.00092069778 | AR10: =('T und E'!AR11-'T und E'!AR10)/('T und E'!$B11-'T und E'!$B10) -> 0.00091967556 | AS10: =('T und E'!AS11-'T und E'!AS10)/('T und E'!$B11-'T und E'!$B10) -> 0.00091679556 | AT10: =('T und E'!AT11-'T und E'!AT10)/('T und E'!$B11-'T und E'!$B10) -> 0.00091022222 | AU10: =('T und E'!AU11-'T und E'!AU10)/('T und E'!$B11-'T und E'!$B10) -> 0.00089561778 | AV10: =('T und E'!AV11-'T und E'!AV10)/('T und E'!$B11-'T und E'!$B10) -> 0.00078832 | AW10: =('T und E'!AW11-'T und E'!AW10)/('T und E'!$B11-'T und E'!$B10) -> 0.00057252 | AX10: =('T und E'!AX11-'T und E'!AX10)/('T und E'!$B11-'T und E'!$B10) -> 0.00037108444 | ... BA10: =('T und E'!BA11-'T und E'!BA10)/('T und E'!$B11-'T und E'!$B10) -> 0.00024623111
B11: ='T und E'!B11 -> 0.575 | C11: =('T und E'!C12-'T und E'!C11)/('T und E'!$B12-'T und E'!$B11) -> 166.62815 | D11: =('T und E'!D12-'T und E'!D11)/('T und E'!$B12-'T und E'!$B11) -> 166.64296 | E11: =('T und E'!E12-'T und E'!E11)/('T und E'!$B12-'T und E'!$B11) -> 166.71704 | F11: =('T und E'!F12-'T und E'!F11)/('T und E'!$B12-'T und E'!$B11) -> 166.96296 | G11: =('T und E'!G12-'T und E'!G11)/('T und E'!$B12-'T und E'!$B11) -> 167.41333 | H11: =('T und E'!H12-'T und E'!H11)/('T und E'!$B12-'T und E'!$B11) -> 167.89333 | I11: =('T und E'!I12-'T und E'!I11)/('T und E'!$B12-'T und E'!$B11) -> 134.33244 | J11: =('T und E'!J12-'T und E'!J11)/('T und E'!$B12-'T und E'!$B11) -> 76.72 | ... M11: =('T und E'!M12-'T und E'!M11)/('T und E'!$B12-'T und E'!$B11) -> 4.4527407 | P11: ='T und E'!P11 -> 0.575 | Q11: =('T und E'!Q12-'T und E'!Q11)/('T und E'!$B12-'T und E'!$B11) -> 0.0035246519 | R11: =('T und E'!R12-'T und E'!R11)/('T und E'!$B12-'T und E'!$B11) -> 0.0035257481 | S11: =('T und E'!S12-'T und E'!S11)/('T und E'!$B12-'T und E'!$B11) -> 0.0035289185 | T11: =('T und E'!T12-'T und E'!T11)/('T und E'!$B12-'T und E'!$B11) -> 0.0035345778 | U11: =('T und E'!U12-'T und E'!U11)/('T und E'!$B12-'T und E'!$B11) -> 0.0035398222 | V11: =('T und E'!V12-'T und E'!V11)/('T und E'!$B12-'T und E'!$B11) -> 0.0033135704 | W11: =('T und E'!W12-'T und E'!W11)/('T und E'!$B12-'T und E'!$B11) -> 0.0025466963 | X11: =('T und E'!X12-'T und E'!X11)/('T und E'!$B12-'T und E'!$B11) -> 0.0015514874 | ... AA11: =('T und E'!AA12-'T und E'!AA11)/('T und E'!$B12-'T und E'!$B11) -> 0.00025321778 | AC11: ='T und E'!AC11 -> 0.575 | AD11: =('T und E'!AD12-'T und E'!AD11)/('T und E'!$B12-'T und E'!$B11) -> 0.0013435911 | AE11: =('T und E'!AE12-'T und E'!AE11)/('T und E'!$B12-'T und E'!$B11) -> 0.0013428089 | AF11: =('T und E'!AF12-'T und E'!AF11)/('T und E'!$B12-'T und E'!$B11) -> 0.0013409156 | AG11: =('T und E'!AG12-'T und E'!AG11)/('T und E'!$B12-'T und E'!$B11) -> 0.0013367022 | AH11: =('T und E'!AH12-'T und E'!AH11)/('T und E'!$B12-'T und E'!$B11) -> 0.0013274637 | AI11: =('T und E'!AI12-'T und E'!AI11)/('T und E'!$B12-'T und E'!$B11) -> 0.0012519822 | AJ11: =('T und E'!AJ12-'T und E'!AJ11)/('T und E'!$B12-'T und E'!$B11) -> 0.0010825541 | AK11: =('T und E'!AK12-'T und E'!AK11)/('T und E'!$B12-'T und E'!$B11) -> 0.00088043852 | ... AN11: =('T und E'!AN12-'T und E'!AN11)/('T und E'!$B12-'T und E'!$B11) -> 0.00047424593 | AP11: ='T und E'!AP11 -> 0.575 | AQ11: =('T und E'!AQ12-'T und E'!AQ11)/('T und E'!$B12-'T und E'!$B11) -> 0.00085199111 | AR11: =('T und E'!AR12-'T und E'!AR11)/('T und E'!$B12-'T und E'!$B11) -> 0.00085132148 | AS11: =('T und E'!AS12-'T und E'!AS11)/('T und E'!$B12-'T und E'!$B11) -> 0.00084936889 | AT11: =('T und E'!AT12-'T und E'!AT11)/('T und E'!$B12-'T und E'!$B11) -> 0.00084488 | AU11: =('T und E'!AU12-'T und E'!AU11)/('T und E'!$B12-'T und E'!$B11) -> 0.0008349037 | AV11: =('T und E'!AV12-'T und E'!AV11)/('T und E'!$B12-'T und E'!$B11) -> 0.00075548444 | AW11: =('T und E'!AW12-'T und E'!AW11)/('T und E'!$B12-'T und E'!$B11) -> 0.00058263407 | AX11: =('T und E'!AX12-'T und E'!AX11)/('T und E'!$B12-'T und E'!$B11) -> 0.00039961778 | ... BA11: =('T und E'!BA12-'T und E'!BA11)/('T und E'!$B12-'T und E'!$B11) -> 0.00021650074
B12: ='T und E'!B12 -> 0.9125 | C12: =('T und E'!C13-'T und E'!C12)/('T und E'!$B13-'T und E'!$B12) -> 122.87802 | D12: =('T und E'!D13-'T und E'!D12)/('T und E'!$B13-'T und E'!$B12) -> 122.88395 | E12: =('T und E'!E13-'T und E'!E12)/('T und E'!$B13-'T und E'!$B12) -> 122.92543 | F12: =('T und E'!F13-'T und E'!F12)/('T und E'!$B13-'T und E'!$B12) -> 123.05185 | G12: =('T und E'!G13-'T und E'!G12)/('T und E'!$B13-'T und E'!$B12) -> 123.26321 | H12: =('T und E'!H13-'T und E'!H12)/('T und E'!$B13-'T und E'!$B12) -> 123.49432 | I12: =('T und E'!I13-'T und E'!I12)/('T und E'!$B13-'T und E'!$B12) -> 111.60099 | J12: =('T und E'!J13-'T und E'!J12)/('T und E'!$B13-'T und E'!$B12) -> 80.46321 | ... M12: =('T und E'!M13-'T und E'!M12)/('T und E'!$B13-'T und E'!$B12) -> 10.569086 | P12: ='T und E'!P12 -> 0.9125 | Q12: =('T und E'!Q13-'T und E'!Q12)/('T und E'!$B13-'T und E'!$B12) -> 0.0030865185 | R12: =('T und E'!R13-'T und E'!R12)/('T und E'!$B13-'T und E'!$B12) -> 0.0030890864 | S12: =('T und E'!S13-'T und E'!S12)/('T und E'!$B13-'T und E'!$B12) -> 0.003084563 | T12: =('T und E'!T13-'T und E'!T12)/('T und E'!$B13-'T und E'!$B12) -> 0.0030418765 | U12: =('T und E'!U13-'T und E'!U12)/('T und E'!$B13-'T und E'!$B12) -> 0.0028948543 | V12: =('T und E'!V13-'T und E'!V12)/('T und E'!$B13-'T und E'!$B12) -> 0.0025111111 | W12: =('T und E'!W13-'T und E'!W12)/('T und E'!$B13-'T und E'!$B12) -> 0.0021310025 | X12: =('T und E'!X13-'T und E'!X12)/('T und E'!$B13-'T und E'!$B12) -> 0.0015336494 | ... AA12: =('T und E'!AA13-'T und E'!AA12)/('T und E'!$B13-'T und E'!$B12) -> 0.00032748247 | AC12: ='T und E'!AC12 -> 0.9125 | AD12: =('T und E'!AD13-'T und E'!AD12)/('T und E'!$B13-'T und E'!$B12) -> 0.001155358 | AE12: =('T und E'!AE13-'T und E'!AE12)/('T und E'!$B13-'T und E'!$B12) -> 0.0011547852 | AF12: =('T und E'!AF13-'T und E'!AF12)/('T und E'!$B13-'T und E'!$B12) -> 0.001153284 | AG12: =('T und E'!AG13-'T und E'!AG12)/('T und E'!$B13-'T und E'!$B12) -> 0.0011498864 | AH12: =('T und E'!AH13-'T und E'!AH12)/('T und E'!$B13-'T und E'!$B12) -> 0.0011415506 | AI12: =('T und E'!AI13-'T und E'!AI12)/('T und E'!$B13-'T und E'!$B12) -> 0.0010904296 | AJ12: =('T und E'!AJ13-'T und E'!AJ12)/('T und E'!$B13-'T und E'!$B12) -> 0.00097538765 | AK12: =('T und E'!AK13-'T und E'!AK12)/('T und E'!$B13-'T und E'!$B12) -> 0.00083157728 | ... AN12: =('T und E'!AN13-'T und E'!AN12)/('T und E'!$B13-'T und E'!$B12) -> 0.00050682074 | AP12: ='T und E'!AP12 -> 0.9125 | AQ12: =('T und E'!AQ13-'T und E'!AQ12)/('T und E'!$B13-'T und E'!$B12) -> 0.00079058173 | AR12: =('T und E'!AR13-'T und E'!AR12)/('T und E'!$B13-'T und E'!$B12) -> 0.00078999506 | AS12: =('T und E'!AS13-'T und E'!AS12)/('T und E'!$B13-'T und E'!$B12) -> 0.00078830222 | AT12: =('T und E'!AT13-'T und E'!AT12)/('T und E'!$B13-'T und E'!$B12) -> 0.00078440889 | AU12: =('T und E'!AU13-'T und E'!AU12)/('T und E'!$B13-'T und E'!$B12) -> 0.00077601975 | AV12: =('T und E'!AV13-'T und E'!AV12)/('T und E'!$B13-'T und E'!$B12) -> 0.00071828543 | AW12: =('T und E'!AW13-'T und E'!AW12)/('T und E'!$B13-'T und E'!$B12) -> 0.00058706963 | AX12: =('T und E'!AX13-'T und E'!AX12)/('T und E'!$B13-'T und E'!$B12) -> 0.00043124741 | ... BA12: =('T und E'!BA13-'T und E'!BA12)/('T und E'!$B13-'T und E'!$B12) -> 0.00020324346
B13: ='T und E'!B13 -> 1.41875 | C13: =('T und E'!C14-'T und E'!C13)/('T und E'!$B14-'T und E'!$B13) -> 95.535 | D13: =('T und E'!D14-'T und E'!D13)/('T und E'!$B14-'T und E'!$B13) -> 95.54 | E13: =('T und E'!E14-'T und E'!E13)/('T und E'!$B14-'T und E'!$B13) -> 95.561667 | F13: =('T und E'!F14-'T und E'!F13)/('T und E'!$B14-'T und E'!$B13) -> 95.623333 | G13: =('T und E'!G14-'T und E'!G13)/('T und E'!$B14-'T und E'!$B13) -> 95.706667 | H13: =('T und E'!H14-'T und E'!H13)/('T und E'!$B14-'T und E'!$B13) -> 95.74 | I13: =('T und E'!I14-'T und E'!I13)/('T und E'!$B14-'T und E'!$B13) -> 90.211667 | J13: =('T und E'!J14-'T und E'!J13)/('T und E'!$B14-'T und E'!$B13) -> 74.42 | ... M13: =('T und E'!M14-'T und E'!M13)/('T und E'!$B14-'T und E'!$B13) -> 18.822333 | P13: ='T und E'!P13 -> 1.41875 | Q13: =('T und E'!Q14-'T und E'!Q13)/('T und E'!$B14-'T und E'!$B13) -> 0.0026219833 | R13: =('T und E'!R14-'T und E'!R13)/('T und E'!$B14-'T und E'!$B13) -> 0.0026235167 | S13: =('T und E'!S14-'T und E'!S13)/('T und E'!$B14-'T und E'!$B13) -> 0.0026294833 | T13: =('T und E'!T14-'T und E'!T13)/('T und E'!$B14-'T und E'!$B13) -> 0.00264755 | U13: =('T und E'!U14-'T und E'!U13)/('T und E'!$B14-'T und E'!$B13) -> 0.0026905 | V13: =('T und E'!V14-'T und E'!V13)/('T und E'!$B14-'T und E'!$B13) -> 0.0023025167 | W13: =('T und E'!W14-'T und E'!W13)/('T und E'!$B14-'T und E'!$B13) -> 0.0017462 | X13: =('T und E'!X14-'T und E'!X13)/('T und E'!$B14-'T und E'!$B13) -> 0.0013922167 | ... AA13: =('T und E'!AA14-'T und E'!AA13)/('T und E'!$B14-'T und E'!$B13) -> 0.00042318 | AC13: ='T und E'!AC13 -> 1.41875 | AD13: =('T und E'!AD14-'T und E'!AD13)/('T und E'!$B14-'T und E'!$B13) -> 0.0010065 | AE13: =('T und E'!AE14-'T und E'!AE13)/('T und E'!$B14-'T und E'!$B13) -> 0.0010059833 | AF13: =('T und E'!AF14-'T und E'!AF13)/('T und E'!$B14-'T und E'!$B13) -> 0.0010047 | AG13: =('T und E'!AG14-'T und E'!AG13)/('T und E'!$B14-'T und E'!$B13) -> 0.0010019167 | AH13: =('T und E'!AH14-'T und E'!AH13)/('T und E'!$B14-'T und E'!$B13) -> 0.0009967 | AI13: =('T und E'!AI14-'T und E'!AI13)/('T und E'!$B14-'T und E'!$B13) -> 0.00095375 | AJ13: =('T und E'!AJ14-'T und E'!AJ13)/('T und E'!$B14-'T und E'!$B13) -> 0.00086515 | AK13: =('T und E'!AK14-'T und E'!AK13)/('T und E'!$B14-'T und E'!$B13) -> 0.0007636 | ... AN13: =('T und E'!AN14-'T und E'!AN13)/('T und E'!$B14-'T und E'!$B13) -> 0.00052674333 | AP13: ='T und E'!AP13 -> 1.41875 | AQ13: =('T und E'!AQ14-'T und E'!AQ13)/('T und E'!$B14-'T und E'!$B13) -> 0.00073333333 | AR13: =('T und E'!AR14-'T und E'!AR13)/('T und E'!$B14-'T und E'!$B13) -> 0.00073283333 | AS13: =('T und E'!AS14-'T und E'!AS13)/('T und E'!$B14-'T und E'!$B13) -> 0.00073145 | AT13: =('T und E'!AT14-'T und E'!AT13)/('T und E'!$B14-'T und E'!$B13) -> 0.0007283 | AU13: =('T und E'!AU14-'T und E'!AU13)/('T und E'!$B14-'T und E'!$B13) -> 0.00072116667 | AV13: =('T und E'!AV14-'T und E'!AV13)/('T und E'!$B14-'T und E'!$B13) -> 0.0006751 | AW13: =('T und E'!AW14-'T und E'!AW13)/('T und E'!$B14-'T und E'!$B13) -> 0.00057607333 | AX13: =('T und E'!AX14-'T und E'!AX13)/('T und E'!$B14-'T und E'!$B13) -> 0.00045158667 | ... BA13: =('T und E'!BA14-'T und E'!BA13)/('T und E'!$B14-'T und E'!$B13) -> 0.00021105667
B14: ='T und E'!B14 -> 2.01875 | C14: =('T und E'!C15-'T und E'!C14)/('T und E'!$B15-'T und E'!$B14) -> 76.48 | D14: =('T und E'!D15-'T und E'!D14)/('T und E'!$B15-'T und E'!$B14) -> 76.485 | E14: =('T und E'!E15-'T und E'!E14)/('T und E'!$B15-'T und E'!$B14) -> 76.51 | F14: =('T und E'!F15-'T und E'!F14)/('T und E'!$B15-'T und E'!$B14) -> 76.591667 | G14: =('T und E'!G15-'T und E'!G14)/('T und E'!$B15-'T und E'!$B14) -> 76.763333 | H14: =('T und E'!H15-'T und E'!H14)/('T und E'!$B15-'T und E'!$B14) -> 77.04 | I14: =('T und E'!I15-'T und E'!I14)/('T und E'!$B15-'T und E'!$B14) -> 74.758333 | J14: =('T und E'!J15-'T und E'!J14)/('T und E'!$B15-'T und E'!$B14) -> 66.26 | ... M14: =('T und E'!M15-'T und E'!M14)/('T und E'!$B15-'T und E'!$B14) -> 25.682 | P14: ='T und E'!P14 -> 2.01875 | Q14: =('T und E'!Q15-'T und E'!Q14)/('T und E'!$B15-'T und E'!$B14) -> 0.0017385333 | R14: =('T und E'!R15-'T und E'!R14)/('T und E'!$B15-'T und E'!$B14) -> 0.0017394 | S14: =('T und E'!S15-'T und E'!S14)/('T und E'!$B15-'T und E'!$B14) -> 0.0017420333 | T14: =('T und E'!T15-'T und E'!T14)/('T und E'!$B15-'T und E'!$B14) -> 0.0017480167 | U14: =('T und E'!U15-'T und E'!U14)/('T und E'!$B15-'T und E'!$B14) -> 0.0017590833 | V14: =('T und E'!V15-'T und E'!V14)/('T und E'!$B15-'T und E'!$B14) -> 0.0016629833 | W14: =('T und E'!W15-'T und E'!W14)/('T und E'!$B15-'T und E'!$B14) -> 0.0014371333 | X14: =('T und E'!X15-'T und E'!X14)/('T und E'!$B15-'T und E'!$B14) -> 0.0012394 | ... AA14: =('T und E'!AA15-'T und E'!AA14)/('T und E'!$B15-'T und E'!$B14) -> 0.00049603833 | AC14: ='T und E'!AC14 -> 2.01875 | AD14: =('T und E'!AD15-'T und E'!AD14)/('T und E'!$B15-'T und E'!$B14) -> 0.00090856667 | AE14: =('T und E'!AE15-'T und E'!AE14)/('T und E'!$B15-'T und E'!$B14) -> 0.00090818333 | AF14: =('T und E'!AF15-'T und E'!AF14)/('T und E'!$B15-'T und E'!$B14) -> 0.0009072 | AG14: =('T und E'!AG15-'T und E'!AG14)/('T und E'!$B15-'T und E'!$B14) -> 0.00090508333 | AH14: =('T und E'!AH15-'T und E'!AH14)/('T und E'!$B15-'T und E'!$B14) -> 0.00090043333 | AI14: =('T und E'!AI15-'T und E'!AI14)/('T und E'!$B15-'T und E'!$B14) -> 0.00086578333 | AJ14: =('T und E'!AJ15-'T und E'!AJ14)/('T und E'!$B15-'T und E'!$B14) -> 0.00079181667 | AK14: =('T und E'!AK15-'T und E'!AK14)/('T und E'!$B15-'T und E'!$B14) -> 0.00070873333 | ... AN14: =('T und E'!AN15-'T und E'!AN14)/('T und E'!$B15-'T und E'!$B14) -> 0.000526695 | AP14: ='T und E'!AP14 -> 2.01875 | AQ14: =('T und E'!AQ15-'T und E'!AQ14)/('T und E'!$B15-'T und E'!$B14) -> 0.00067395 | AR14: =('T und E'!AR15-'T und E'!AR14)/('T und E'!$B15-'T und E'!$B14) -> 0.0006737 | AS14: =('T und E'!AS15-'T und E'!AS14)/('T und E'!$B15-'T und E'!$B14) -> 0.00067291667 | AT14: =('T und E'!AT15-'T und E'!AT14)/('T und E'!$B15-'T und E'!$B14) -> 0.0006711 | AU14: =('T und E'!AU15-'T und E'!AU14)/('T und E'!$B15-'T und E'!$B14) -> 0.00066705 | AV14: =('T und E'!AV15-'T und E'!AV14)/('T und E'!$B15-'T und E'!$B14) -> 0.00063641667 | AW14: =('T und E'!AW15-'T und E'!AW14)/('T und E'!$B15-'T und E'!$B14) -> 0.000564 | AX14: =('T und E'!AX15-'T und E'!AX14)/('T und E'!$B15-'T und E'!$B14) -> 0.00046681833 | ... BA14: =('T und E'!BA15-'T und E'!BA14)/('T und E'!$B15-'T und E'!$B14) -> 0.00024066333
B15: ='T und E'!B15 -> 2.61875 | C15: =('T und E'!C16-'T und E'!C15)/('T und E'!$B16-'T und E'!$B15) -> 65.941667 | D15: =('T und E'!D16-'T und E'!D15)/('T und E'!$B16-'T und E'!$B15) -> 65.943333 | E15: =('T und E'!E16-'T und E'!E15)/('T und E'!$B16-'T und E'!$B15) -> 65.948333 | F15: =('T und E'!F16-'T und E'!F15)/('T und E'!$B16-'T und E'!$B15) -> 65.958333 | G15: =('T und E'!G16-'T und E'!G15)/('T und E'!$B16-'T und E'!$B15) -> 65.96 | H15: =('T und E'!H16-'T und E'!H15)/('T und E'!$B16-'T und E'!$B15) -> 65.918333 | I15: =('T und E'!I16-'T und E'!I15)/('T und E'!$B16-'T und E'!$B15) -> 64.345 | J15: =('T und E'!J16-'T und E'!J15)/('T und E'!$B16-'T und E'!$B15) -> 59.101667 | ... M15: =('T und E'!M16-'T und E'!M15)/('T und E'!$B16-'T und E'!$B15) -> 29.8555 | P15: ='T und E'!P15 -> 2.61875 | Q15: =('T und E'!Q16-'T und E'!Q15)/('T und E'!$B16-'T und E'!$B15) -> 0.0015327333 | R15: =('T und E'!R16-'T und E'!R15)/('T und E'!$B16-'T und E'!$B15) -> 0.0015335333 | S15: =('T und E'!S16-'T und E'!S15)/('T und E'!$B16-'T und E'!$B15) -> 0.0015352833 | T15: =('T und E'!T16-'T und E'!T15)/('T und E'!$B16-'T und E'!$B15) -> 0.0015389 | U15: =('T und E'!U16-'T und E'!U15)/('T und E'!$B16-'T und E'!$B15) -> 0.0015451167 | V15: =('T und E'!V16-'T und E'!V15)/('T und E'!$B16-'T und E'!$B15) -> 0.00155455 | W15: =('T und E'!W16-'T und E'!W15)/('T und E'!$B16-'T und E'!$B15) -> 0.0013678167 | X15: =('T und E'!X16-'T und E'!X15)/('T und E'!$B16-'T und E'!$B15) -> 0.00107985 | ... AA15: =('T und E'!AA16-'T und E'!AA15)/('T und E'!$B16-'T und E'!$B15) -> 0.000506935 | AC15: ='T und E'!AC15 -> 2.61875 | AD15: =('T und E'!AD16-'T und E'!AD15)/('T und E'!$B16-'T und E'!$B15) -> 0.00070336667 | AE15: =('T und E'!AE16-'T und E'!AE15)/('T und E'!$B16-'T und E'!$B15) -> 0.00070285 | AF15: =('T und E'!AF16-'T und E'!AF15)/('T und E'!$B16-'T und E'!$B15) -> 0.00070168333 | AG15: =('T und E'!AG16-'T und E'!AG15)/('T und E'!$B16-'T und E'!$B15) -> 0.00069921667 | AH15: =('T und E'!AH16-'T und E'!AH15)/('T und E'!$B16-'T und E'!$B15) -> 0.0006938 | AI15: =('T und E'!AI16-'T und E'!AI15)/('T und E'!$B16-'T und E'!$B15) -> 0.00067058333 | AJ15: =('T und E'!AJ16-'T und E'!AJ15)/('T und E'!$B16-'T und E'!$B15) -> 0.000651 | AK15: =('T und E'!AK16-'T und E'!AK15)/('T und E'!$B16-'T und E'!$B15) -> 0.00064526667 | ... AN15: =('T und E'!AN16-'T und E'!AN15)/('T und E'!$B16-'T und E'!$B15) -> 0.00053423333 | AP15: ='T und E'!AP15 -> 2.61875 | AQ15: =('T und E'!AQ16-'T und E'!AQ15)/('T und E'!$B16-'T und E'!$B15) -> 0.00064935 | AR15: =('T und E'!AR16-'T und E'!AR15)/('T und E'!$B16-'T und E'!$B15) -> 0.00064915 | AS15: =('T und E'!AS16-'T und E'!AS15)/('T und E'!$B16-'T und E'!$B15) -> 0.00064851667 | AT15: =('T und E'!AT16-'T und E'!AT15)/('T und E'!$B16-'T und E'!$B15) -> 0.000647 | AU15: =('T und E'!AU16-'T und E'!AU15)/('T und E'!$B16-'T und E'!$B15) -> 0.00064363333 | AV15: =('T und E'!AV16-'T und E'!AV15)/('T und E'!$B16-'T und E'!$B15) -> 0.00061295 | AW15: =('T und E'!AW16-'T und E'!AW15)/('T und E'!$B16-'T und E'!$B15) -> 0.00054165 | AX15: =('T und E'!AX16-'T und E'!AX15)/('T und E'!$B16-'T und E'!$B15) -> 0.00045623333 | ... BA15: =('T und E'!BA16-'T und E'!BA15)/('T und E'!$B16-'T und E'!$B15) -> 0.00025827167
B16: ='T und E'!B16 -> 3.21875 | C16: =('T und E'!C17-'T und E'!C16)/('T und E'!$B17-'T und E'!$B16) -> 58.028333 | D16: =('T und E'!D17-'T und E'!D16)/('T und E'!$B17-'T und E'!$B16) -> 58.03 | E16: =('T und E'!E17-'T und E'!E16)/('T und E'!$B17-'T und E'!$B16) -> 58.043333 | F16: =('T und E'!F17-'T und E'!F16)/('T und E'!$B17-'T und E'!$B16) -> 58.08 | G16: =('T und E'!G17-'T und E'!G16)/('T und E'!$B17-'T und E'!$B16) -> 58.138333 | H16: =('T und E'!H17-'T und E'!H16)/('T und E'!$B17-'T und E'!$B16) -> 58.203333 | I16: =('T und E'!I17-'T und E'!I16)/('T und E'!$B17-'T und E'!$B16) -> 56.998333 | J16: =('T und E'!J17-'T und E'!J16)/('T und E'!$B17-'T und E'!$B16) -> 53.183333 | ... M16: =('T und E'!M17-'T und E'!M16)/('T und E'!$B17-'T und E'!$B16) -> 31.938333 | P16: ='T und E'!P16 -> 3.21875 | Q16: =('T und E'!Q17-'T und E'!Q16)/('T und E'!$B17-'T und E'!$B16) -> 0.0012711667 | R16: =('T und E'!R17-'T und E'!R16)/('T und E'!$B17-'T und E'!$B16) -> 0.0012718333 | S16: =('T und E'!S17-'T und E'!S16)/('T und E'!$B17-'T und E'!$B16) -> 0.001275 | T16: =('T und E'!T17-'T und E'!T16)/('T und E'!$B17-'T und E'!$B16) -> 0.001284 | U16: =('T und E'!U17-'T und E'!U16)/('T und E'!$B17-'T und E'!$B16) -> 0.001306 | V16: =('T und E'!V17-'T und E'!V16)/('T und E'!$B17-'T und E'!$B16) -> 0.0013522 | W16: =('T und E'!W17-'T und E'!W16)/('T und E'!$B17-'T und E'!$B16) -> 0.00120515 | X16: =('T und E'!X17-'T und E'!X16)/('T und E'!$B17-'T und E'!$B16) -> 0.00096933333 | ... AA16: =('T und E'!AA17-'T und E'!AA16)/('T und E'!$B17-'T und E'!$B16) -> 0.00049368333 | AC16: ='T und E'!AC16 -> 3.21875 | AD16: =('T und E'!AD17-'T und E'!AD16)/('T und E'!$B17-'T und E'!$B16) -> 0.00058878333 | AE16: =('T und E'!AE17-'T und E'!AE16)/('T und E'!$B17-'T und E'!$B16) -> 0.00058868333 | AF16: =('T und E'!AF17-'T und E'!AF16)/('T und E'!$B17-'T und E'!$B16) -> 0.0005884 | AG16: =('T und E'!AG17-'T und E'!AG16)/('T und E'!$B17-'T und E'!$B16) -> 0.00058773333 | AH16: =('T und E'!AH17-'T und E'!AH16)/('T und E'!$B17-'T und E'!$B16) -> 0.0005867 | AI16: =('T und E'!AI17-'T und E'!AI16)/('T und E'!$B17-'T und E'!$B16) -> 0.0005786 | AJ16: =('T und E'!AJ17-'T und E'!AJ16)/('T und E'!$B17-'T und E'!$B16) -> 0.00057166667 | AK16: =('T und E'!AK17-'T und E'!AK16)/('T und E'!$B17-'T und E'!$B16) -> 0.00057473333 | ... AN16: =('T und E'!AN17-'T und E'!AN16)/('T und E'!$B17-'T und E'!$B16) -> 0.00053388333 | AP16: ='T und E'!AP16 -> 3.21875 | AQ16: =('T und E'!AQ17-'T und E'!AQ16)/('T und E'!$B17-'T und E'!$B16) -> 0.00060203333 | AR16: =('T und E'!AR17-'T und E'!AR16)/('T und E'!$B17-'T und E'!$B16) -> 0.00060188333 | AS16: =('T und E'!AS17-'T und E'!AS16)/('T und E'!$B17-'T und E'!$B16) -> 0.00060138333 | AT16: =('T und E'!AT17-'T und E'!AT16)/('T und E'!$B17-'T und E'!$B16) -> 0.00060025 | AU16: =('T und E'!AU17-'T und E'!AU16)/('T und E'!$B17-'T und E'!$B16) -> 0.00059765 | AV16: =('T und E'!AV17-'T und E'!AV16)/('T und E'!$B17-'T und E'!$B16) -> 0.0005722 | AW16: =('T und E'!AW17-'T und E'!AW16)/('T und E'!$B17-'T und E'!$B16) -> 0.00051246667 | AX16: =('T und E'!AX17-'T und E'!AX16)/('T und E'!$B17-'T und E'!$B16) -> 0.00044046667 | ... BA16: =('T und E'!BA17-'T und E'!BA16)/('T und E'!$B17-'T und E'!$B16) -> 0.000267835
B17: ='T und E'!B17 -> 3.81875 | C17: =('T und E'!C18-'T und E'!C17)/('T und E'!$B18-'T und E'!$B17) -> 52.541667 | D17: =('T und E'!D18-'T und E'!D17)/('T und E'!$B18-'T und E'!$B17) -> 52.543333 | E17: =('T und E'!E18-'T und E'!E17)/('T und E'!$B18-'T und E'!$B17) -> 52.551667 | F17: =('T und E'!F18-'T und E'!F17)/('T und E'!$B18-'T und E'!$B17) -> 52.566667 | G17: =('T und E'!G18-'T und E'!G17)/('T und E'!$B18-'T und E'!$B17) -> 52.581667 | H17: =('T und E'!H18-'T und E'!H17)/('T und E'!$B18-'T und E'!$B17) -> 52.565 | I17: =('T und E'!I18-'T und E'!I17)/('T und E'!$B18-'T und E'!$B17) -> 51.461667 | J17: =('T und E'!J18-'T und E'!J17)/('T und E'!$B18-'T und E'!$B17) -> 48.678333 | ... M17: =('T und E'!M18-'T und E'!M17)/('T und E'!$B18-'T und E'!$B17) -> 32.851333 | P17: ='T und E'!P17 -> 3.81875 | Q17: =('T und E'!Q18-'T und E'!Q17)/('T und E'!$B18-'T und E'!$B17) -> 0.00143 | R17: =('T und E'!R18-'T und E'!R17)/('T und E'!$B18-'T und E'!$B17) -> 0.0014291667 | S17: =('T und E'!S18-'T und E'!S17)/('T und E'!$B18-'T und E'!$B17) -> 0.001419 | T17: =('T und E'!T18-'T und E'!T17)/('T und E'!$B18-'T und E'!$B17) -> 0.0013723333 | U17: =('T und E'!U18-'T und E'!U17)/('T und E'!$B18-'T und E'!$B17) -> 0.0012326667 | V17: =('T und E'!V18-'T und E'!V17)/('T und E'!$B18-'T und E'!$B17) -> 0.00113075 | W17: =('T und E'!W18-'T und E'!W17)/('T und E'!$B18-'T und E'!$B17) -> 0.0010474167 | X17: =('T und E'!X18-'T und E'!X17)/('T und E'!$B18-'T und E'!$B17) -> 0.00087628333 | ... AA17: =('T und E'!AA18-'T und E'!AA17)/('T und E'!$B18-'T und E'!$B17) -> 0.00050136667 | AC17: ='T und E'!AC17 -> 3.81875 | AD17: =('T und E'!AD18-'T und E'!AD17)/('T und E'!$B18-'T und E'!$B17) -> 0.00058826667 | AE17: =('T und E'!AE18-'T und E'!AE17)/('T und E'!$B18-'T und E'!$B17) -> 0.00058793333 | AF17: =('T und E'!AF18-'T und E'!AF17)/('T und E'!$B18-'T und E'!$B17) -> 0.00058723333 | AG17: =('T und E'!AG18-'T und E'!AG17)/('T und E'!$B18-'T und E'!$B17) -> 0.00058613333 | AH17: =('T und E'!AH18-'T und E'!AH17)/('T und E'!$B18-'T und E'!$B17) -> 0.0005835 | AI17: =('T und E'!AI18-'T und E'!AI17)/('T und E'!$B18-'T und E'!$B17) -> 0.00057598333 | AJ17: =('T und E'!AJ18-'T und E'!AJ17)/('T und E'!$B18-'T und E'!$B17) -> 0.00056716667 | AK17: =('T und E'!AK18-'T und E'!AK17)/('T und E'!$B18-'T und E'!$B17) -> 0.00055713333 | ... AN17: =('T und E'!AN18-'T und E'!AN17)/('T und E'!$B18-'T und E'!$B17) -> 0.0005145 | AP17: ='T und E'!AP17 -> 3.81875 | AQ17: =('T und E'!AQ18-'T und E'!AQ17)/('T und E'!$B18-'T und E'!$B17) -> 0.00057368333 | AR17: =('T und E'!AR18-'T und E'!AR17)/('T und E'!$B18-'T und E'!$B17) -> 0.00057345 | AS17: =('T und E'!AS18-'T und E'!AS17)/('T und E'!$B18-'T und E'!$B17) -> 0.00057281667 | AT17: =('T und E'!AT18-'T und E'!AT17)/('T und E'!$B18-'T und E'!$B17) -> 0.00057131667 | AU17: =('T und E'!AU18-'T und E'!AU17)/('T und E'!$B18-'T und E'!$B17) -> 0.0005683 | AV17: =('T und E'!AV18-'T und E'!AV17)/('T und E'!$B18-'T und E'!$B17) -> 0.00054816667 | AW17: =('T und E'!AW18-'T und E'!AW17)/('T und E'!$B18-'T und E'!$B17) -> 0.00050131667 | AX17: =('T und E'!AX18-'T und E'!AX17)/('T und E'!$B18-'T und E'!$B17) -> 0.0004436 | ... BA17: =('T und E'!BA18-'T und E'!BA17)/('T und E'!$B18-'T und E'!$B17) -> 0.00029289833
B18: ='T und E'!B18 -> 4.41875 | C18: =('T und E'!C19-'T und E'!C18)/('T und E'!$B19-'T und E'!$B18) -> 48.508333 | D18: =('T und E'!D19-'T und E'!D18)/('T und E'!$B19-'T und E'!$B18) -> 48.511667 | E18: =('T und E'!E19-'T und E'!E18)/('T und E'!$B19-'T und E'!$B18) -> 48.515 | F18: =('T und E'!F19-'T und E'!F18)/('T und E'!$B19-'T und E'!$B18) -> 48.518333 | G18: =('T und E'!G19-'T und E'!G18)/('T und E'!$B19-'T und E'!$B18) -> 48.5 | H18: =('T und E'!H19-'T und E'!H18)/('T und E'!$B19-'T und E'!$B18) -> 48.421667 | I18: =('T und E'!I19-'T und E'!I18)/('T und E'!$B19-'T und E'!$B18) -> 47.235 | J18: =('T und E'!J19-'T und E'!J18)/('T und E'!$B19-'T und E'!$B18) -> 45.108333 | ... M18: =('T und E'!M19-'T und E'!M18)/('T und E'!$B19-'T und E'!$B18) -> 33.018333 | P18: ='T und E'!P18 -> 4.41875 | Q18: =('T und E'!Q19-'T und E'!Q18)/('T und E'!$B19-'T und E'!$B18) -> 0.0017878333 | R18: =('T und E'!R19-'T und E'!R18)/('T und E'!$B19-'T und E'!$B18) -> 0.001788 | S18: =('T und E'!S19-'T und E'!S18)/('T und E'!$B19-'T und E'!$B18) -> 0.001787 | T18: =('T und E'!T19-'T und E'!T18)/('T und E'!$B19-'T und E'!$B18) -> 0.0017801667 | U18: =('T und E'!U19-'T und E'!U18)/('T und E'!$B19-'T und E'!$B18) -> 0.0017563333 | V18: =('T und E'!V19-'T und E'!V18)/('T und E'!$B19-'T und E'!$B18) -> 0.0013288333 | W18: =('T und E'!W19-'T und E'!W18)/('T und E'!$B19-'T und E'!$B18) -> 0.00094831667 | X18: =('T und E'!X19-'T und E'!X18)/('T und E'!$B19-'T und E'!$B18) -> 0.00080061667 | ... AA18: =('T und E'!AA19-'T und E'!AA18)/('T und E'!$B19-'T und E'!$B18) -> 0.00049588333 | AC18: ='T und E'!AC18 -> 4.41875 | AD18: =('T und E'!AD19-'T und E'!AD18)/('T und E'!$B19-'T und E'!$B18) -> 0.00052948333 | AE18: =('T und E'!AE19-'T und E'!AE18)/('T und E'!$B19-'T und E'!$B18) -> 0.0005295 | AF18: =('T und E'!AF19-'T und E'!AF18)/('T und E'!$B19-'T und E'!$B18) -> 0.00052938333 | AG18: =('T und E'!AG19-'T und E'!AG18)/('T und E'!$B19-'T und E'!$B18) -> 0.0005286 | AH18: =('T und E'!AH19-'T und E'!AH18)/('T und E'!$B19-'T und E'!$B18) -> 0.00052641667 | AI18: =('T und E'!AI19-'T und E'!AI18)/('T und E'!$B19-'T und E'!$B18) -> 0.00052493333 | AJ18: =('T und E'!AJ19-'T und E'!AJ18)/('T und E'!$B19-'T und E'!$B18) -> 0.00053086667 | AK18: =('T und E'!AK19-'T und E'!AK18)/('T und E'!$B19-'T und E'!$B18) -> 0.00053638333 | ... AN18: =('T und E'!AN19-'T und E'!AN18)/('T und E'!$B19-'T und E'!$B18) -> 0.0005037 | AP18: ='T und E'!AP18 -> 4.41875 | AQ18: =('T und E'!AQ19-'T und E'!AQ18)/('T und E'!$B19-'T und E'!$B18) -> 0.00055788333 | AR18: =('T und E'!AR19-'T und E'!AR18)/('T und E'!$B19-'T und E'!$B18) -> 0.00055751667 | AS18: =('T und E'!AS19-'T und E'!AS18)/('T und E'!$B19-'T und E'!$B18) -> 0.0005566 | AT18: =('T und E'!AT19-'T und E'!AT18)/('T und E'!$B19-'T und E'!$B18) -> 0.00055455 | AU18: =('T und E'!AU19-'T und E'!AU18)/('T und E'!$B19-'T und E'!$B18) -> 0.00055003333 | AV18: =('T und E'!AV19-'T und E'!AV18)/('T und E'!$B19-'T und E'!$B18) -> 0.00052758333 | AW18: =('T und E'!AW19-'T und E'!AW18)/('T und E'!$B19-'T und E'!$B18) -> 0.00048681667 | AX18: =('T und E'!AX19-'T und E'!AX18)/('T und E'!$B19-'T und E'!$B18) -> 0.00043825 | ... BA18: =('T und E'!BA19-'T und E'!BA18)/('T und E'!$B19-'T und E'!$B18) -> 0.00031071667
... B46: ='T und E'!B46 -> 8.44897 | C46: =('T und E'!C47-'T und E'!C46)/('T und E'!$B47-'T und E'!$B46) -> 971.96262 | D46: =('T und E'!D47-'T und E'!D46)/('T und E'!$B47-'T und E'!$B46) -> 973.13084 | E46: =('T und E'!E47-'T und E'!E46)/('T und E'!$B47-'T und E'!$B46) -> 971.96262 | F46: =('T und E'!F47-'T und E'!F46)/('T und E'!$B47-'T und E'!$B46) -> 973.13084 | G46: =('T und E'!G47-'T und E'!G46)/('T und E'!$B47-'T und E'!$B46) -> 975.46729 | H46: =('T und E'!H47-'T und E'!H46)/('T und E'!$B47-'T und E'!$B46) -> 984.81308 | I46: =('T und E'!I47-'T und E'!I46)/('T und E'!$B47-'T und E'!$B46) -> 567.87383 | J46: =('T und E'!J47-'T und E'!J46)/('T und E'!$B47-'T und E'!$B46) -> 149.76636 | ... M46: =('T und E'!M47-'T und E'!M46)/('T und E'!$B47-'T und E'!$B46) -> 31.191589 | P46: ='T und E'!P46 -> 8.44897 | Q46: =('T und E'!Q47-'T und E'!Q46)/('T und E'!$B47-'T und E'!$B46) -> 0.0075934579 | R46: =('T und E'!R47-'T und E'!R46)/('T und E'!$B47-'T und E'!$B46) -> 0.0075817757 | S46: =('T und E'!S47-'T und E'!S46)/('T und E'!$B47-'T und E'!$B46) -> 0.0075817757 | T46: =('T und E'!T47-'T und E'!T46)/('T und E'!$B47-'T und E'!$B46) -> 0.0077219626 | U46: =('T und E'!U47-'T und E'!U46)/('T und E'!$B47-'T und E'!$B46) -> 0.0083995327 | V46: =('T und E'!V47-'T und E'!V46)/('T und E'!$B47-'T und E'!$B46) -> 0.019415888 | W46: =('T und E'!W47-'T und E'!W46)/('T und E'!$B47-'T und E'!$B46) -> 0.024672897 | X46: =('T und E'!X47-'T und E'!X46)/('T und E'!$B47-'T und E'!$B46) -> 0.011873832 | ... AA46: =('T und E'!AA47-'T und E'!AA46)/('T und E'!$B47-'T und E'!$B46) -> 2.2196262e-05 | AC46: ='T und E'!AC46 -> 8.44897 | AD46: =('T und E'!AD47-'T und E'!AD46)/('T und E'!$B47-'T und E'!$B46) -> 0.031061916 | AE46: =('T und E'!AE47-'T und E'!AE46)/('T und E'!$B47-'T und E'!$B46) -> 0.030969626 | AF46: =('T und E'!AF47-'T und E'!AF46)/('T und E'!$B47-'T und E'!$B46) -> 0.030768692 | AG46: =('T und E'!AG47-'T und E'!AG46)/('T und E'!$B47-'T und E'!$B46) -> 0.03033528 | AH46: =('T und E'!AH47-'T und E'!AH46)/('T und E'!$B47-'T und E'!$B46) -> -0.031533879 | AI46: =('T und E'!AI47-'T und E'!AI46)/('T und E'!$B47-'T und E'!$B46) -> 0.016808411 | AJ46: =('T und E'!AJ47-'T und E'!AJ46)/('T und E'!$B47-'T und E'!$B46) -> 0.0026413551 | AK46: =('T und E'!AK47-'T und E'!AK46)/('T und E'!$B47-'T und E'!$B46) -> -0.002432243 | ... AN46: =('T und E'!AN47-'T und E'!AN46)/('T und E'!$B47-'T und E'!$B46) -> 0.00072313084 | AP46: ='T und E'!AP46 -> 8.44897 | AQ46: =('T und E'!AQ47-'T und E'!AQ46)/('T und E'!$B47-'T und E'!$B46) -> 0.005228972 | AR46: =('T und E'!AR47-'T und E'!AR46)/('T und E'!$B47-'T und E'!$B46) -> 0.0052278037 | AS46: =('T und E'!AS47-'T und E'!AS46)/('T und E'!$B47-'T und E'!$B46) -> 0.0052266355 | AT46: =('T und E'!AT47-'T und E'!AT46)/('T und E'!$B47-'T und E'!$B46) -> 0.0052207944 | AU46: =('T und E'!AU47-'T und E'!AU46)/('T und E'!$B47-'T und E'!$B46) -> 0.0052102804 | AV46: =('T und E'!AV47-'T und E'!AV46)/('T und E'!$B47-'T und E'!$B46) -> 0.0046086449 | AW46: =('T und E'!AW47-'T und E'!AW46)/('T und E'!$B47-'T und E'!$B46) -> 0.0028095794 | AX46: =('T und E'!AX47-'T und E'!AX46)/('T und E'!$B47-'T und E'!$B46) -> 0.00088084112 | ... BA46: =('T und E'!BA47-'T und E'!BA46)/('T und E'!$B47-'T und E'!$B46) -> 0.00013901869
B47: ='T und E'!B47 -> 8.45753 | C47: =('T und E'!C48-'T und E'!C47)/('T und E'!$B48-'T und E'!$B47) -> 964.17445 | D47: =('T und E'!D48-'T und E'!D47)/('T und E'!$B48-'T und E'!$B47) -> 962.61682 | E47: =('T und E'!E48-'T und E'!E47)/('T und E'!$B48-'T und E'!$B47) -> 964.17445 | F47: =('T und E'!F48-'T und E'!F47)/('T und E'!$B48-'T und E'!$B47) -> 964.17445 | G47: =('T und E'!G48-'T und E'!G47)/('T und E'!$B48-'T und E'!$B47) -> 967.28972 | H47: =('T und E'!H48-'T und E'!H47)/('T und E'!$B48-'T und E'!$B47) -> 976.63551 | I47: =('T und E'!I48-'T und E'!I47)/('T und E'!$B48-'T und E'!$B47) -> 562.92835 | J47: =('T und E'!J48-'T und E'!J47)/('T und E'!$B48-'T und E'!$B47) -> 150.46729 | ... M47: =('T und E'!M48-'T und E'!M47)/('T und E'!$B48-'T und E'!$B47) -> 30.996885 | P47: ='T und E'!P47 -> 8.45753 | Q47: =('T und E'!Q48-'T und E'!Q47)/('T und E'!$B48-'T und E'!$B47) -> 0.0045015576 | R47: =('T und E'!R48-'T und E'!R47)/('T und E'!$B48-'T und E'!$B47) -> 0.0045327103 | S47: =('T und E'!S48-'T und E'!S47)/('T und E'!$B48-'T und E'!$B47) -> 0.0046105919 | T47: =('T und E'!T48-'T und E'!T47)/('T und E'!$B48-'T und E'!$B47) -> 0.0046884735 | U47: =('T und E'!U48-'T und E'!U47)/('T und E'!$B48-'T und E'!$B47) -> 0.0059190031 | V47: =('T und E'!V48-'T und E'!V47)/('T und E'!$B48-'T und E'!$B47) -> 0.019065421 | W47: =('T und E'!W48-'T und E'!W47)/('T und E'!$B48-'T und E'!$B47) -> 0.02453271 | X47: =('T und E'!X48-'T und E'!X47)/('T und E'!$B48-'T und E'!$B47) -> 0.011400312 | ... AA47: =('T und E'!AA48-'T und E'!AA47)/('T und E'!$B48-'T und E'!$B47) -> -5.9190031e-05 | AC47: ='T und E'!AC47 -> 8.45753 | AD47: =('T und E'!#REF!-'T und E'!AD47)/('T und E'!$B48-'T und E'!$B47) -> #REF! | AE47: =('T und E'!AE48-'T und E'!AE47)/('T und E'!$B48-'T und E'!$B47) -> -0.030690031 | AF47: =('T und E'!AF48-'T und E'!AF47)/('T und E'!$B48-'T und E'!$B47) -> -0.029481308 | AG47: =('T und E'!AG48-'T und E'!AG47)/('T und E'!$B48-'T und E'!$B47) -> -0.030588785 | AH47: =('T und E'!AH48-'T und E'!AH47)/('T und E'!$B48-'T und E'!$B47) -> 0.041205607 | AI47: =('T und E'!AI48-'T und E'!AI47)/('T und E'!$B48-'T und E'!$B47) -> 0.016509346 | AJ47: =('T und E'!AJ48-'T und E'!AJ47)/('T und E'!$B48-'T und E'!$B47) -> 0.0017647975 | AK47: =('T und E'!AK48-'T und E'!AK47)/('T und E'!$B48-'T und E'!$B47) -> -0.0024610592 | AL47: =('T und E'!AL48-'T und E'!AL47)/('T und E'!$B48-'T und E'!$B47) -> 0.00015420561 | ... AN47: =('T und E'!AN48-'T und E'!AN47)/('T und E'!$B48-'T und E'!$B47) -> 0.00076791277 | AP47: ='T und E'!AP47 -> 8.45753 | AQ47: =('T und E'!AQ48-'T und E'!AQ47)/('T und E'!$B48-'T und E'!$B47) -> 0.0051012461 | AR47: =('T und E'!AR48-'T und E'!AR47)/('T und E'!$B48-'T und E'!$B47) -> 0.0051028037 | AS47: =('T und E'!AS48-'T und E'!AS47)/('T und E'!$B48-'T und E'!$B47) -> 0.0051012461 | AT47: =('T und E'!AT48-'T und E'!AT47)/('T und E'!$B48-'T und E'!$B47) -> 0.0051028037 | AU47: =('T und E'!AU48-'T und E'!AU47)/('T und E'!$B48-'T und E'!$B47) -> 0.0051043614 | AV47: =('T und E'!AV48-'T und E'!AV47)/('T und E'!$B48-'T und E'!$B47) -> 0.0045109034 | AW47: =('T und E'!AW48-'T und E'!AW47)/('T und E'!$B48-'T und E'!$B47) -> 0.0027024922 | AX47: =('T und E'!AX48-'T und E'!AX47)/('T und E'!$B48-'T und E'!$B47) -> 0.00080062305 | ... BA47: =('T und E'!BA48-'T und E'!BA47)/('T und E'!$B48-'T und E'!$B47) -> 9.1900312e-05
B48: ='T und E'!B48 -> 8.46395 | C48: =('T und E'!C49-'T und E'!C48)/('T und E'!$B49-'T und E'!$B48) -> 957.46888 | D48: =('T und E'!D49-'T und E'!D48)/('T und E'!$B49-'T und E'!$B48) -> 957.46888 | E48: =('T und E'!E49-'T und E'!E48)/('T und E'!$B49-'T und E'!$B48) -> 958.50622 | F48: =('T und E'!F49-'T und E'!F48)/('T und E'!$B49-'T und E'!$B48) -> 958.50622 | G48: =('T und E'!G49-'T und E'!G48)/('T und E'!$B49-'T und E'!$B48) -> 960.58091 | H48: =('T und E'!H49-'T und E'!H48)/('T und E'!$B49-'T und E'!$B48) -> 970.95436 | I48: =('T und E'!I49-'T und E'!I48)/('T und E'!$B49-'T und E'!$B48) -> 558.81743 | J48: =('T und E'!J49-'T und E'!J48)/('T und E'!$B49-'T und E'!$B48) -> 150.72614 | ... M48: =('T und E'!M49-'T und E'!M48)/('T und E'!$B49-'T und E'!$B48) -> 31.224066 | P48: ='T und E'!P48 -> 8.46395 | Q48: =('T und E'!Q49-'T und E'!Q48)/('T und E'!$B49-'T und E'!$B48) -> 0.0051763485 | R48: =('T und E'!R49-'T und E'!R48)/('T und E'!$B49-'T und E'!$B48) -> 0.0052385892 | S48: =('T und E'!S49-'T und E'!S48)/('T und E'!$B49-'T und E'!$B48) -> 0.0054356846 | T48: =('T und E'!T49-'T und E'!T48)/('T und E'!$B49-'T und E'!$B48) -> 0.0058298755 | U48: =('T und E'!U49-'T und E'!U48)/('T und E'!$B49-'T und E'!$B48) -> 0.0069087137 | V48: =('T und E'!V49-'T und E'!V48)/('T und E'!$B49-'T und E'!$B48) -> 0.022738589 | W48: =('T und E'!W49-'T und E'!W48)/('T und E'!$B49-'T und E'!$B48) -> 0.027562241 | X48: =('T und E'!X49-'T und E'!X48)/('T und E'!$B49-'T und E'!$B48) -> 0.011390041 | ... AA48: =('T und E'!AA49-'T und E'!AA48)/('T und E'!$B49-'T und E'!$B48) -> -0.00017946058 | AC48: ='T und E'!AC48 -> 8.46395 | AD48: =('T und E'!AD48-'T und E'!#REF!)/('T und E'!$B49-'T und E'!$B48) -> #REF! | AE48: =('T und E'!AE49-'T und E'!AE48)/('T und E'!$B49-'T und E'!$B48) -> 0.080565353 | AF48: =('T und E'!AF49-'T und E'!AF48)/('T und E'!$B49-'T und E'!$B48) -> 0.078658714 | AG48: =('T und E'!AG49-'T und E'!AG48)/('T und E'!$B49-'T und E'!$B48) -> 0.07718361 | AH48: =('T und E'!AH49-'T und E'!AH48)/('T und E'!$B49-'T und E'!$B48) -> 0.033966805 | AI48: =('T und E'!AI49-'T und E'!AI48)/('T und E'!$B49-'T und E'!$B48) -> 0.011442946 | AJ48: =('T und E'!AJ49-'T und E'!AJ48)/('T und E'!$B49-'T und E'!$B48) -> -0.00060892116 | AK48: =('T und E'!AK49-'T und E'!AK48)/('T und E'!$B49-'T und E'!$B48) -> -0.0027634855 | AL48: =('T und E'!AL49-'T und E'!AL48)/('T und E'!$B49-'T und E'!$B48) -> 5.4979253e-05 | ... AN48: =('T und E'!AN49-'T und E'!AN48)/('T und E'!$B49-'T und E'!$B48) -> 0.00081327801 | AP48: ='T und E'!AP48 -> 8.46395 | AQ48: =('T und E'!AQ49-'T und E'!AQ48)/('T und E'!$B49-'T und E'!$B48) -> 0.0056545643 | AR48: =('T und E'!AR49-'T und E'!AR48)/('T und E'!$B49-'T und E'!$B48) -> 0.0056545643 | AS48: =('T und E'!AS49-'T und E'!AS48)/('T und E'!$B49-'T und E'!$B48) -> 0.005656639 | AT48: =('T und E'!AT49-'T und E'!AT48)/('T und E'!$B49-'T und E'!$B48) -> 0.0056576763 | AU48: =('T und E'!AU49-'T und E'!AU48)/('T und E'!$B49-'T und E'!$B48) -> 0.0056587137 | AV48: =('T und E'!AV49-'T und E'!AV48)/('T und E'!$B49-'T und E'!$B48) -> 0.0049211618 | AW48: =('T und E'!AW49-'T und E'!AW48)/('T und E'!$B49-'T und E'!$B48) -> 0.0028029046 | AX48: =('T und E'!AX49-'T und E'!AX48)/('T und E'!$B49-'T und E'!$B48) -> 0.00072717842 | ... BA48: =('T und E'!BA49-'T und E'!BA48)/('T und E'!$B49-'T und E'!$B48) -> 1.0373444e-05
B49: ='T und E'!B49 -> 8.47359 | C49: =('T und E'!C50-'T und E'!C49)/('T und E'!$B50-'T und E'!$B49) -> 950.1385 | D49: =('T und E'!D50-'T und E'!D49)/('T und E'!$B50-'T und E'!$B49) -> 951.52355 | E49: =('T und E'!E50-'T und E'!E49)/('T und E'!$B50-'T und E'!$B49) -> 951.52355 | F49: =('T und E'!F50-'T und E'!F49)/('T und E'!$B50-'T und E'!$B49) -> 952.90859 | G49: =('T und E'!G50-'T und E'!G49)/('T und E'!$B50-'T und E'!$B49) -> 955.67867 | H49: =('T und E'!H50-'T und E'!H49)/('T und E'!$B50-'T und E'!$B49) -> 965.37396 | I49: =('T und E'!I50-'T und E'!I49)/('T und E'!$B50-'T und E'!$B49) -> 554.98615 | J49: =('T und E'!J50-'T und E'!J49)/('T und E'!$B50-'T und E'!$B49) -> 151.66205 | ... M49: =('T und E'!M50-'T und E'!M49)/('T und E'!$B50-'T und E'!$B49) -> 31.163435 | P49: ='T und E'!P49 -> 8.47359 | Q49: =('T und E'!Q50-'T und E'!Q49)/('T und E'!$B50-'T und E'!$B49) -> 0.0057894737 | R49: =('T und E'!R50-'T und E'!R49)/('T und E'!$B50-'T und E'!$B49) -> 0.0059279778 | S49: =('T und E'!S50-'T und E'!S49)/('T und E'!$B50-'T und E'!$B49) -> 0.0062465374 | T49: =('T und E'!T50-'T und E'!T49)/('T und E'!$B50-'T und E'!$B49) -> 0.0067174515 | U49: =('T und E'!U50-'T und E'!U49)/('T und E'!$B50-'T und E'!$B49) -> 0.0074238227 | V49: =('T und E'!V50-'T und E'!V49)/('T und E'!$B50-'T und E'!$B49) -> 0.022229917 | W49: =('T und E'!W50-'T und E'!W49)/('T und E'!$B50-'T und E'!$B49) -> 0.027590028 | X49: =('T und E'!X50-'T und E'!X49)/('T und E'!$B50-'T und E'!$B49) -> 0.011689751 | ... AA49: =('T und E'!AA50-'T und E'!AA49)/('T und E'!$B50-'T und E'!$B49) -> -0.0001800554 | AC49: ='T und E'!AC49 -> 8.47359 | AD49: =('T und E'!AD49-'T und E'!AD48)/('T und E'!$B50-'T und E'!$B49) -> -0.015264543 | AE49: =('T und E'!AE50-'T und E'!AE49)/('T und E'!$B50-'T und E'!$B49) -> 0.031351801 | AF49: =('T und E'!AF50-'T und E'!AF49)/('T und E'!$B50-'T und E'!$B49) -> 0.030612188 | AG49: =('T und E'!AG50-'T und E'!AG49)/('T und E'!$B50-'T und E'!$B49) -> 0.029163435 | AH49: =('T und E'!AH50-'T und E'!AH49)/('T und E'!$B50-'T und E'!$B49) -> 0.084587258 | AI49: =('T und E'!AI50-'T und E'!AI49)/('T und E'!$B50-'T und E'!$B49) -> 0.011139889 | AJ49: =('T und E'!AJ50-'T und E'!AJ49)/('T und E'!$B50-'T und E'!$B49) -> -0.00059141274 | AK49: =('T und E'!AK50-'T und E'!AK49)/('T und E'!$B50-'T und E'!$B49) -> -0.0029252078 | AL49: =('T und E'!AL50-'T und E'!AL49)/('T und E'!$B50-'T und E'!$B49) -> -6.9252078e-05 | ... AN49: =('T und E'!AN50-'T und E'!AN49)/('T und E'!$B50-'T und E'!$B49) -> 0.00079778393 | AP49: ='T und E'!AP49 -> 8.47359 | AQ49: =('T und E'!AQ50-'T und E'!AQ49)/('T und E'!$B50-'T und E'!$B49) -> 0.0056814404 | AR49: =('T und E'!AR50-'T und E'!AR49)/('T und E'!$B50-'T und E'!$B49) -> 0.0056828255 | AS49: =('T und E'!AS50-'T und E'!AS49)/('T und E'!$B50-'T und E'!$B49) -> 0.0056828255 | AT49: =('T und E'!AT50-'T und E'!AT49)/('T und E'!$B50-'T und E'!$B49) -> 0.0056828255 | AU49: =('T und E'!AU50-'T und E'!AU49)/('T und E'!$B50-'T und E'!$B49) -> 0.0056800554 | AV49: =('T und E'!AV50-'T und E'!AV49)/('T und E'!$B50-'T und E'!$B49) -> 0.0049515235 | AW49: =('T und E'!AW50-'T und E'!AW49)/('T und E'!$B50-'T und E'!$B49) -> 0.0028434903 | AX49: =('T und E'!AX50-'T und E'!AX49)/('T und E'!$B50-'T und E'!$B49) -> 0.00075069252 | ... BA49: =('T und E'!BA50-'T und E'!BA49)/('T und E'!$B50-'T und E'!$B49) -> 2.7700831e-06
B50: ='T und E'!B50 -> 8.48081 | C50: =('T und E'!C51-'T und E'!C50)/('T und E'!$B51-'T und E'!$B50) -> 944.64945 | D50: =('T und E'!D51-'T und E'!D50)/('T und E'!$B51-'T und E'!$B50) -> 943.72694 | E50: =('T und E'!E51-'T und E'!E50)/('T und E'!$B51-'T und E'!$B50) -> 943.72694 | F50: =('T und E'!F51-'T und E'!F50)/('T und E'!$B51-'T und E'!$B50) -> 944.64945 | G50: =('T und E'!G51-'T und E'!G50)/('T und E'!$B51-'T und E'!$B50) -> 947.41697 | H50: =('T und E'!H51-'T und E'!H50)/('T und E'!$B51-'T und E'!$B50) -> 958.48708 | I50: =('T und E'!I51-'T und E'!I50)/('T und E'!$B51-'T und E'!$B50) -> 550.83026 | J50: =('T und E'!J51-'T und E'!J50)/('T und E'!$B51-'T und E'!$B50) -> 151.84502 | ... M50: =('T und E'!M51-'T und E'!M50)/('T und E'!$B51-'T und E'!$B50) -> 31.180812 | P50: ='T und E'!P50 -> 8.48081 | Q50: =('T und E'!Q51-'T und E'!Q50)/('T und E'!$B51-'T und E'!$B50) -> 0.0055073801 | R50: =('T und E'!R51-'T und E'!R50)/('T und E'!$B51-'T und E'!$B50) -> 0.0055535055 | S50: =('T und E'!S51-'T und E'!S50)/('T und E'!$B51-'T und E'!$B50) -> 0.0056826568 | T50: =('T und E'!T51-'T und E'!T50)/('T und E'!$B51-'T und E'!$B50) -> 0.0062361624 | U50: =('T und E'!U51-'T und E'!U50)/('T und E'!$B51-'T und E'!$B50) -> 0.0070848708 | V50: =('T und E'!V51-'T und E'!V50)/('T und E'!$B51-'T und E'!$B50) -> 0.021429889 | W50: =('T und E'!W51-'T und E'!W50)/('T und E'!$B51-'T und E'!$B50) -> 0.027509225 | X50: =('T und E'!X51-'T und E'!X50)/('T und E'!$B51-'T und E'!$B50) -> 0.012066421 | ... AA50: =('T und E'!AA51-'T und E'!AA50)/('T und E'!$B51-'T und E'!$B50) -> -0.00018081181 | AC50: ='T und E'!AC50 -> 8.48081 | AD50: =('T und E'!AD50-'T und E'!AD49)/('T und E'!$B51-'T und E'!$B50) -> 0.021104244 | AE50: =('T und E'!AE51-'T und E'!AE50)/('T und E'!$B51-'T und E'!$B50) -> 0.030012915 | AF50: =('T und E'!AF51-'T und E'!AF50)/('T und E'!$B51-'T und E'!$B50) -> 0.029269373 | AG50: =('T und E'!AG51-'T und E'!AG50)/('T und E'!$B51-'T und E'!$B50) -> 0.027882841 | AH50: =('T und E'!AH51-'T und E'!AH50)/('T und E'!$B51-'T und E'!$B50) -> 0.025027675 | AI50: =('T und E'!AI51-'T und E'!AI50)/('T und E'!$B51-'T und E'!$B50) -> 0.011397601 | AJ50: =('T und E'!AJ51-'T und E'!AJ50)/('T und E'!$B51-'T und E'!$B50) -> -0.00045479705 | AK50: =('T und E'!AK51-'T und E'!AK50)/('T und E'!$B51-'T und E'!$B50) -> -0.0031752768 | AL50: =('T und E'!AL51-'T und E'!AL50)/('T und E'!$B51-'T und E'!$B50) -> -0.00019188192 | ... AN50: =('T und E'!AN51-'T und E'!AN50)/('T und E'!$B51-'T und E'!$B50) -> 0.00078136531 | AP50: ='T und E'!AP50 -> 8.48081 | AQ50: =('T und E'!AQ51-'T und E'!AQ50)/('T und E'!$B51-'T und E'!$B50) -> 0.0056642066 | AR50: =('T und E'!AR51-'T und E'!AR50)/('T und E'!$B51-'T und E'!$B50) -> 0.0056642066 | AS50: =('T und E'!AS51-'T und E'!AS50)/('T und E'!$B51-'T und E'!$B50) -> 0.0056651292 | AT50: =('T und E'!AT51-'T und E'!AT50)/('T und E'!$B51-'T und E'!$B50) -> 0.0056660517 | AU50: =('T und E'!AU51-'T und E'!AU50)/('T und E'!$B51-'T und E'!$B50) -> 0.0056660517 | AV50: =('T und E'!AV51-'T und E'!AV50)/('T und E'!$B51-'T und E'!$B50) -> 0.0049594096 | AW50: =('T und E'!AW51-'T und E'!AW50)/('T und E'!$B51-'T und E'!$B50) -> 0.0028800738 | AX50: =('T und E'!AX51-'T und E'!AX50)/('T und E'!$B51-'T und E'!$B50) -> 0.00077398524 | ... BA50: =('T und E'!BA51-'T und E'!BA50)/('T und E'!$B51-'T und E'!$B50) -> -5.5350554e-06
B51: ='T und E'!B51 -> 8.49165 | C51: =('T und E'!C52-'T und E'!C51)/('T und E'!$B52-'T und E'!$B51) -> 937.19212 | D51: =('T und E'!D52-'T und E'!D51)/('T und E'!$B52-'T und E'!$B51) -> 938.42365 | E51: =('T und E'!E52-'T und E'!E51)/('T und E'!$B52-'T und E'!$B51) -> 938.42365 | F51: =('T und E'!F52-'T und E'!F51)/('T und E'!$B52-'T und E'!$B51) -> 938.42365 | G51: =('T und E'!G52-'T und E'!G51)/('T und E'!$B52-'T und E'!$B51) -> 942.11823 | H51: =('T und E'!H52-'T und E'!H51)/('T und E'!$B52-'T und E'!$B51) -> 950.73892 | I51: =('T und E'!I52-'T und E'!I51)/('T und E'!$B52-'T und E'!$B51) -> 546.92118 | J51: =('T und E'!J52-'T und E'!J51)/('T und E'!$B52-'T und E'!$B51) -> 152.46305 | ... M51: =('T und E'!M52-'T und E'!M51)/('T und E'!$B52-'T und E'!$B51) -> 31.280788 | P51: ='T und E'!P51 -> 8.49165 | Q51: =('T und E'!Q52-'T und E'!Q51)/('T und E'!$B52-'T und E'!$B51) -> 0.0066995074 | R51: =('T und E'!R52-'T und E'!R51)/('T und E'!$B52-'T und E'!$B51) -> 0.0066995074 | S51: =('T und E'!S52-'T und E'!S51)/('T und E'!$B52-'T und E'!$B51) -> 0.0069211823 | T51: =('T und E'!T52-'T und E'!T51)/('T und E'!$B52-'T und E'!$B51) -> 0.0072660099 | U51: =('T und E'!U52-'T und E'!U51)/('T und E'!$B52-'T und E'!$B51) -> 0.0080049261 | V51: =('T und E'!V52-'T und E'!V51)/('T und E'!$B52-'T und E'!$B51) -> 0.021514778 | W51: =('T und E'!W52-'T und E'!W51)/('T und E'!$B52-'T und E'!$B51) -> 0.028756158 | X51: =('T und E'!X52-'T und E'!X51)/('T und E'!$B52-'T und E'!$B51) -> 0.013312808 | ... AA51: =('T und E'!AA52-'T und E'!AA51)/('T und E'!$B52-'T und E'!$B51) -> -0.00024753695 | AC51: ='T und E'!AC51 -> 8.49165 | AD51: =('T und E'!AD51-'T und E'!AD50)/('T und E'!$B52-'T und E'!$B51) -> 0.040530788 | AE51: =('T und E'!AE52-'T und E'!AE51)/('T und E'!$B52-'T und E'!$B51) -> 0.026849754 | AF51: =('T und E'!AF52-'T und E'!AF51)/('T und E'!$B52-'T und E'!$B51) -> 0.026130542 | AG51: =('T und E'!AG52-'T und E'!AG51)/('T und E'!$B52-'T und E'!$B51) -> 0.024761084 | AH51: =('T und E'!AH52-'T und E'!AH51)/('T und E'!$B52-'T und E'!$B51) -> 0.022008621 | AI51: =('T und E'!AI52-'T und E'!AI51)/('T und E'!$B52-'T und E'!$B51) -> 0.0096625616 | AJ51: =('T und E'!AJ52-'T und E'!AJ51)/('T und E'!$B52-'T und E'!$B51) -> -0.0019889163 | AK51: =('T und E'!AK52-'T und E'!AK51)/('T und E'!$B52-'T und E'!$B51) -> -0.0042610837 | AL51: =('T und E'!AL52-'T und E'!AL51)/('T und E'!$B52-'T und E'!$B51) -> -0.00033743842 | ... AN51: =('T und E'!AN52-'T und E'!AN51)/('T und E'!$B52-'T und E'!$B51) -> 0.00079187192 | AP51: ='T und E'!AP51 -> 8.49165 | AQ51: =('T und E'!AQ52-'T und E'!AQ51)/('T und E'!$B52-'T und E'!$B51) -> 0.0058583744 | AR51: =('T und E'!AR52-'T und E'!AR51)/('T und E'!$B52-'T und E'!$B51) -> 0.0058583744 | AS51: =('T und E'!AS52-'T und E'!AS51)/('T und E'!$B52-'T und E'!$B51) -> 0.0058583744 | AT51: =('T und E'!AT52-'T und E'!AT51)/('T und E'!$B52-'T und E'!$B51) -> 0.0058596059 | AU51: =('T und E'!AU52-'T und E'!AU51)/('T und E'!$B52-'T und E'!$B51) -> 0.0058571429 | AV51: =('T und E'!AV52-'T und E'!AV51)/('T und E'!$B52-'T und E'!$B51) -> 0.0051551724 | AW51: =('T und E'!AW52-'T und E'!AW51)/('T und E'!$B52-'T und E'!$B51) -> 0.003023399 | AX51: =('T und E'!AX52-'T und E'!AX51)/('T und E'!$B52-'T und E'!$B51) -> 0.00077832512 | ... BA51: =('T und E'!BA52-'T und E'!BA51)/('T und E'!$B52-'T und E'!$B51) -> -5.4187192e-05
B52: ='T und E'!B52 -> 8.49977 | C52: =('T und E'!C53-'T und E'!C52)/('T und E'!$B53-'T und E'!$B52) -> -1242.623 | D52: =('T und E'!D53-'T und E'!D52)/('T und E'!$B53-'T und E'!$B52) -> -1241.8033 | E52: =('T und E'!E53-'T und E'!E52)/('T und E'!$B53-'T und E'!$B52) -> -1236.0656 | F52: =('T und E'!F53-'T und E'!F52)/('T und E'!$B53-'T und E'!$B52) -> -1198.3607 | G52: =('T und E'!G53-'T und E'!G52)/('T und E'!$B53-'T und E'!$B52) -> -995.08197 | H52: =('T und E'!H53-'T und E'!H52)/('T und E'!$B53-'T und E'!$B52) -> 177.86885 | I52: =('T und E'!I53-'T und E'!I52)/('T und E'!$B53-'T und E'!$B52) -> 398.03279 | J52: =('T und E'!J53-'T und E'!J52)/('T und E'!$B53-'T und E'!$B52) -> 218.36066 | ... M52: =('T und E'!M53-'T und E'!M52)/('T und E'!$B53-'T und E'!$B52) -> 31.311475 | P52: ='T und E'!P52 -> 8.49977 | Q52: =('T und E'!Q53-'T und E'!Q52)/('T und E'!$B53-'T und E'!$B52) -> -0.042065574 | R52: =('T und E'!R53-'T und E'!R52)/('T und E'!$B53-'T und E'!$B52) -> -0.042 | S52: =('T und E'!S53-'T und E'!S52)/('T und E'!$B53-'T und E'!$B52) -> -0.041778689 | T52: =('T und E'!T53-'T und E'!T52)/('T und E'!$B53-'T und E'!$B52) -> -0.040696721 | U52: =('T und E'!U53-'T und E'!U52)/('T und E'!$B53-'T und E'!$B52) -> -0.034836066 | V52: =('T und E'!V53-'T und E'!V52)/('T und E'!$B53-'T und E'!$B52) -> -0.002647541 | W52: =('T und E'!W53-'T und E'!W52)/('T und E'!$B53-'T und E'!$B52) -> 0.015762295 | X52: =('T und E'!X53-'T und E'!X52)/('T und E'!$B53-'T und E'!$B52) -> 0.013 | ... AA52: =('T und E'!AA53-'T und E'!AA52)/('T und E'!$B53-'T und E'!$B52) -> -0.00019016393 | AC52: ='T und E'!AC52 -> 8.49977 | AD52: =('T und E'!AD52-'T und E'!AD51)/('T und E'!$B53-'T und E'!$B52) -> 0.018095082 | AE52: =('T und E'!AE53-'T und E'!AE52)/('T und E'!$B53-'T und E'!$B52) -> 0.019840984 | AF52: =('T und E'!AF53-'T und E'!AF52)/('T und E'!$B53-'T und E'!$B52) -> 0.01955 | AG52: =('T und E'!AG53-'T und E'!AG52)/('T und E'!$B53-'T und E'!$B52) -> 0.018891803 | AH52: =('T und E'!AH53-'T und E'!AH52)/('T und E'!$B53-'T und E'!$B52) -> 0.017319672 | AI52: =('T und E'!AI53-'T und E'!AI52)/('T und E'!$B53-'T und E'!$B52) -> 0.0086885246 | AJ52: =('T und E'!AJ53-'T und E'!AJ52)/('T und E'!$B53-'T und E'!$B52) -> -0.0014319672 | AK52: =('T und E'!AK53-'T und E'!AK52)/('T und E'!$B53-'T und E'!$B52) -> -0.0036180328 | AL52: =('T und E'!AL53-'T und E'!AL52)/('T und E'!$B53-'T und E'!$B52) -> -0.00045491803 | ... AN52: =('T und E'!AN53-'T und E'!AN52)/('T und E'!$B53-'T und E'!$B52) -> 0.00073770492 | AP52: ='T und E'!AP52 -> 8.49977 | AQ52: =('T und E'!AQ53-'T und E'!AQ52)/('T und E'!$B53-'T und E'!$B52) -> 0.0028934426 | AR52: =('T und E'!AR53-'T und E'!AR52)/('T und E'!$B53-'T und E'!$B52) -> 0.002907377 | AS52: =('T und E'!AS53-'T und E'!AS52)/('T und E'!$B53-'T und E'!$B52) -> 0.0029409836 | AT52: =('T und E'!AT53-'T und E'!AT52)/('T und E'!$B53-'T und E'!$B52) -> 0.0030163934 | AU52: =('T und E'!AU53-'T und E'!AU52)/('T und E'!$B53-'T und E'!$B52) -> 0.0031770492 | AV52: =('T und E'!AV53-'T und E'!AV52)/('T und E'!$B53-'T und E'!$B52) -> 0.0032860656 | AW52: =('T und E'!AW53-'T und E'!AW52)/('T und E'!$B53-'T und E'!$B52) -> 0.0024516393 | AX52: =('T und E'!AX53-'T und E'!AX52)/('T und E'!$B53-'T und E'!$B52) -> 0.00095327869 | ... BA52: =('T und E'!BA53-'T und E'!BA52)/('T und E'!$B53-'T und E'!$B52) -> 3.2786885e-06
B53: ='T und E'!B53 -> 8.51197 | C53: =('T und E'!C54-'T und E'!C53)/('T und E'!$B54-'T und E'!$B53) -> -478.11816 | D53: =('T und E'!D54-'T und E'!D53)/('T und E'!$B54-'T und E'!$B53) -> -478.11816 | E53: =('T und E'!E54-'T und E'!E53)/('T und E'!$B54-'T und E'!$B53) -> -474.83589 | F53: =('T und E'!F54-'T und E'!F53)/('T und E'!$B54-'T und E'!$B53) -> -457.33042 | G53: =('T und E'!G54-'T und E'!G53)/('T und E'!$B54-'T und E'!$B53) -> -363.23851 | H53: =('T und E'!H54-'T und E'!H53)/('T und E'!$B54-'T und E'!$B53) -> 16.411379 | I53: =('T und E'!I54-'T und E'!I53)/('T und E'!$B54-'T und E'!$B53) -> 387.85558 | J53: =('T und E'!J54-'T und E'!J53)/('T und E'!$B54-'T und E'!$B53) -> 217.50547 | ... M53: =('T und E'!M54-'T und E'!M53)/('T und E'!$B54-'T und E'!$B53) -> 31.400438 | P53: ='T und E'!P53 -> 8.51197 | Q53: =('T und E'!Q54-'T und E'!Q53)/('T und E'!$B54-'T und E'!$B53) -> -0.022045952 | R53: =('T und E'!R54-'T und E'!R53)/('T und E'!$B54-'T und E'!$B53) -> -0.022045952 | S53: =('T und E'!S54-'T und E'!S53)/('T und E'!$B54-'T und E'!$B53) -> -0.021947484 | T53: =('T und E'!T54-'T und E'!T53)/('T und E'!$B54-'T und E'!$B53) -> -0.021378556 | U53: =('T und E'!U54-'T und E'!U53)/('T und E'!$B54-'T und E'!$B53) -> -0.019004376 | V53: =('T und E'!V54-'T und E'!V53)/('T und E'!$B54-'T und E'!$B53) -> -0.0036870897 | W53: =('T und E'!W54-'T und E'!W53)/('T und E'!$B54-'T und E'!$B53) -> 0.013796499 | X53: =('T und E'!X54-'T und E'!X53)/('T und E'!$B54-'T und E'!$B53) -> 0.013107221 | ... AA53: =('T und E'!AA54-'T und E'!AA53)/('T und E'!$B54-'T und E'!$B53) -> -0.00017177243 | AC53: ='T und E'!AC53 -> 8.51197 | AD53: =('T und E'!AD53-'T und E'!AD52)/('T und E'!$B54-'T und E'!$B53) -> 0.026635667 | AE53: =('T und E'!AE54-'T und E'!AE53)/('T und E'!$B54-'T und E'!$B53) -> 0.017584245 | AF53: =('T und E'!AF54-'T und E'!AF53)/('T und E'!$B54-'T und E'!$B53) -> 0.017389497 | AG53: =('T und E'!AG54-'T und E'!AG53)/('T und E'!$B54-'T und E'!$B53) -> 0.017016411 | AH53: =('T und E'!AH54-'T und E'!AH53)/('T und E'!$B54-'T und E'!$B53) -> 0.016332604 | AI53: =('T und E'!AI54-'T und E'!AI53)/('T und E'!$B54-'T und E'!$B53) -> 0.0088796499 | AJ53: =('T und E'!AJ54-'T und E'!AJ53)/('T und E'!$B54-'T und E'!$B53) -> -0.0015196937 | AK53: =('T und E'!AK54-'T und E'!AK53)/('T und E'!$B54-'T und E'!$B53) -> -0.0037964989 | AL53: =('T und E'!AL54-'T und E'!AL53)/('T und E'!$B54-'T und E'!$B53) -> -0.00038293217 | ... AN53: =('T und E'!AN54-'T und E'!AN53)/('T und E'!$B54-'T und E'!$B53) -> 0.00074070022 | AP53: ='T und E'!AP53 -> 8.51197 | AQ53: =('T und E'!AQ54-'T und E'!AQ53)/('T und E'!$B54-'T und E'!$B53) -> 0.0027221007 | AR53: =('T und E'!AR54-'T und E'!AR53)/('T und E'!$B54-'T und E'!$B53) -> 0.0027286652 | AS53: =('T und E'!AS54-'T und E'!AS53)/('T und E'!$B54-'T und E'!$B53) -> 0.0027483589 | AT53: =('T und E'!AT54-'T und E'!AT53)/('T und E'!$B54-'T und E'!$B53) -> 0.0027888403 | AU53: =('T und E'!AU54-'T und E'!AU53)/('T und E'!$B54-'T und E'!$B53) -> 0.0028785558 | AV53: =('T und E'!AV54-'T und E'!AV53)/('T und E'!$B54-'T und E'!$B53) -> 0.0029912473 | AW53: =('T und E'!AW54-'T und E'!AW53)/('T und E'!$B54-'T und E'!$B53) -> 0.0023577681 | AX53: =('T und E'!AX54-'T und E'!AX53)/('T und E'!$B54-'T und E'!$B53) -> 0.00096061269 | ... BA53: =('T und E'!BA54-'T und E'!BA53)/('T und E'!$B54-'T und E'!$B53) -> 2.297593e-05
B54: ='T und E'!B54 -> 8.52111 | C54: =('T und E'!C55-'T und E'!C54)/('T und E'!$B55-'T und E'!$B54) -> -178.57143 | D54: =('T und E'!D55-'T und E'!D54)/('T und E'!$B55-'T und E'!$B54) -> -178.57143 | E54: =('T und E'!E55-'T und E'!E54)/('T und E'!$B55-'T und E'!$B54) -> -177.84257 | F54: =('T und E'!F55-'T und E'!F54)/('T und E'!$B55-'T und E'!$B54) -> -172.01166 | G54: =('T und E'!G55-'T und E'!G54)/('T und E'!$B55-'T und E'!$B54) -> -142.85714 | H54: =('T und E'!H55-'T und E'!H54)/('T und E'!$B55-'T und E'!$B54) -> -26.239067 | I54: =('T und E'!I55-'T und E'!I54)/('T und E'!$B55-'T und E'!$B54) -> 378.13411 | J54: =('T und E'!J55-'T und E'!J54)/('T und E'!$B55-'T und E'!$B54) -> 214.65015 | ... M54: =('T und E'!M55-'T und E'!M54)/('T und E'!$B55-'T und E'!$B54) -> 31.413994 | P54: ='T und E'!P54 -> 8.52111 | Q54: =('T und E'!Q55-'T und E'!Q54)/('T und E'!$B55-'T und E'!$B54) -> -0.013928571 | R54: =('T und E'!R55-'T und E'!R54)/('T und E'!$B55-'T und E'!$B54) -> -0.013950437 | S54: =('T und E'!S55-'T und E'!S54)/('T und E'!$B55-'T und E'!$B54) -> -0.013965015 | T54: =('T und E'!T55-'T und E'!T54)/('T und E'!$B55-'T und E'!$B54) -> -0.013928571 | U54: =('T und E'!U55-'T und E'!U54)/('T und E'!$B55-'T und E'!$B54) -> -0.013316327 | V54: =('T und E'!V55-'T und E'!V54)/('T und E'!$B55-'T und E'!$B54) -> -0.0035787172 | W54: =('T und E'!W55-'T und E'!W54)/('T und E'!$B55-'T und E'!$B54) -> 0.013338192 | X54: =('T und E'!X55-'T und E'!X54)/('T und E'!$B55-'T und E'!$B54) -> 0.013061224 | ... AA54: =('T und E'!AA55-'T und E'!AA54)/('T und E'!$B55-'T und E'!$B54) -> -0.00018075802 | AC54: ='T und E'!AC54 -> 8.52111 | AD54: =('T und E'!AD54-'T und E'!AD53)/('T und E'!$B55-'T und E'!$B54) -> 0.011774781 | AE54: =('T und E'!AE55-'T und E'!AE54)/('T und E'!$B55-'T und E'!$B54) -> 0.016573615 | AF54: =('T und E'!AF55-'T und E'!AF54)/('T und E'!$B55-'T und E'!$B54) -> 0.016406706 | AG54: =('T und E'!AG55-'T und E'!AG54)/('T und E'!$B55-'T und E'!$B54) -> 0.016131195 | AH54: =('T und E'!AH55-'T und E'!AH54)/('T und E'!$B55-'T und E'!$B54) -> 0.015569242 | AI54: =('T und E'!AI55-'T und E'!AI54)/('T und E'!$B55-'T und E'!$B54) -> 0.0083571429 | AJ54: =('T und E'!AJ55-'T und E'!AJ54)/('T und E'!$B55-'T und E'!$B54) -> -0.0017463557 | AK54: =('T und E'!AK55-'T und E'!AK54)/('T und E'!$B55-'T und E'!$B54) -> -0.0038228863 | AL54: =('T und E'!AL55-'T und E'!AL54)/('T und E'!$B55-'T und E'!$B54) -> -0.00040889213 | ... AN54: =('T und E'!AN55-'T und E'!AN54)/('T und E'!$B55-'T und E'!$B54) -> 0.00074344023 | AP54: ='T und E'!AP54 -> 8.52111 | AQ54: =('T und E'!AQ55-'T und E'!AQ54)/('T und E'!$B55-'T und E'!$B54) -> 0.0027223032 | AR54: =('T und E'!AR55-'T und E'!AR54)/('T und E'!$B55-'T und E'!$B54) -> 0.0027274052 | AS54: =('T und E'!AS55-'T und E'!AS54)/('T und E'!$B55-'T und E'!$B54) -> 0.0027397959 | AT54: =('T und E'!AT55-'T und E'!AT54)/('T und E'!$B55-'T und E'!$B54) -> 0.0027682216 | AU54: =('T und E'!AU55-'T und E'!AU54)/('T und E'!$B55-'T und E'!$B54) -> 0.0028301749 | AV54: =('T und E'!AV55-'T und E'!AV54)/('T und E'!$B55-'T und E'!$B54) -> 0.0029285714 | AW54: =('T und E'!AW55-'T und E'!AW54)/('T und E'!$B55-'T und E'!$B54) -> 0.0023360058 | AX54: =('T und E'!AX55-'T und E'!AX54)/('T und E'!$B55-'T und E'!$B54) -> 0.00096720117 | ... BA54: =('T und E'!BA55-'T und E'!BA54)/('T und E'!$B55-'T und E'!$B54) -> 1.7492711e-05
B55: ='T und E'!B55 -> 8.53483 | C55: =('T und E'!C56-'T und E'!C55)/('T und E'!$B56-'T und E'!$B55) -> -81.712062 | D55: =('T und E'!D56-'T und E'!D55)/('T und E'!$B56-'T und E'!$B55) -> -81.712062 | E55: =('T und E'!E56-'T und E'!E55)/('T und E'!$B56-'T und E'!$B55) -> -80.7393 | F55: =('T und E'!F56-'T und E'!F55)/('T und E'!$B56-'T und E'!$B55) -> -79.766537 | G55: =('T und E'!G56-'T und E'!G55)/('T und E'!$B56-'T und E'!$B55) -> -71.984436 | H55: =('T und E'!H56-'T und E'!H55)/('T und E'!$B56-'T und E'!$B55) -> -34.046693 | I55: =('T und E'!I56-'T und E'!I55)/('T und E'!$B56-'T und E'!$B55) -> 369.45525 | J55: =('T und E'!J56-'T und E'!J55)/('T und E'!$B56-'T und E'!$B55) -> 212.25681 | ... M55: =('T und E'!M56-'T und E'!M55)/('T und E'!$B56-'T und E'!$B55) -> 31.51751 | P55: ='T und E'!P55 -> 8.53483 | Q55: =('T und E'!Q56-'T und E'!Q55)/('T und E'!$B56-'T und E'!$B55) -> -0.011303502 | R55: =('T und E'!R56-'T und E'!R55)/('T und E'!$B56-'T und E'!$B55) -> -0.011322957 | S55: =('T und E'!S56-'T und E'!S55)/('T und E'!$B56-'T und E'!$B55) -> -0.01135214 | T55: =('T und E'!T56-'T und E'!T55)/('T und E'!$B56-'T und E'!$B55) -> -0.011371595 | U55: =('T und E'!U56-'T und E'!U55)/('T und E'!$B56-'T und E'!$B55) -> -0.011449416 | V55: =('T und E'!V56-'T und E'!V55)/('T und E'!$B56-'T und E'!$B55) -> -0.0034727626 | W55: =('T und E'!W56-'T und E'!W55)/('T und E'!$B56-'T und E'!$B55) -> 0.013171206 | X55: =('T und E'!X56-'T und E'!X55)/('T und E'!$B56-'T und E'!$B55) -> 0.013025292 | ... AA55: =('T und E'!AA56-'T und E'!AA55)/('T und E'!$B56-'T und E'!$B55) -> -0.0001770428 | AC55: ='T und E'!AC55 -> 8.53483 | AD55: =('T und E'!AD55-'T und E'!AD54)/('T und E'!$B56-'T und E'!$B55) -> 0.022235409 | AE55: =('T und E'!AE56-'T und E'!AE55)/('T und E'!$B56-'T und E'!$B55) -> 0.016206226 | AF55: =('T und E'!AF56-'T und E'!AF55)/('T und E'!$B56-'T und E'!$B55) -> 0.016043774 | AG55: =('T und E'!AG56-'T und E'!AG55)/('T und E'!$B56-'T und E'!$B55) -> 0.015784047 | AH55: =('T und E'!AH56-'T und E'!AH55)/('T und E'!$B56-'T und E'!$B55) -> 0.015332685 | AI55: =('T und E'!AI56-'T und E'!AI55)/('T und E'!$B56-'T und E'!$B55) -> 0.0082392996 | AJ55: =('T und E'!AJ56-'T und E'!AJ55)/('T und E'!$B56-'T und E'!$B55) -> -0.0018190661 | AK55: =('T und E'!AK56-'T und E'!AK55)/('T und E'!$B56-'T und E'!$B55) -> -0.0038463035 | AL55: =('T und E'!AL56-'T und E'!AL55)/('T und E'!$B56-'T und E'!$B55) -> -0.00043385214 | ... AN55: =('T und E'!AN56-'T und E'!AN55)/('T und E'!$B56-'T und E'!$B55) -> 0.00073832685 | AP55: ='T und E'!AP55 -> 8.53483 | AQ55: =('T und E'!AQ56-'T und E'!AQ55)/('T und E'!$B56-'T und E'!$B55) -> 0.0027305447 | AR55: =('T und E'!AR56-'T und E'!AR55)/('T und E'!$B56-'T und E'!$B55) -> 0.0027354086 | AS55: =('T und E'!AS56-'T und E'!AS55)/('T und E'!$B56-'T und E'!$B55) -> 0.0027451362 | AT55: =('T und E'!AT56-'T und E'!AT55)/('T und E'!$B56-'T und E'!$B55) -> 0.0027684825 | AU55: =('T und E'!AU56-'T und E'!AU55)/('T und E'!$B56-'T und E'!$B55) -> 0.0028210117 | AV55: =('T und E'!AV56-'T und E'!AV55)/('T und E'!$B56-'T und E'!$B55) -> 0.0029134241 | AW55: =('T und E'!AW56-'T und E'!AW55)/('T und E'!$B56-'T und E'!$B55) -> 0.0023326848 | AX55: =('T und E'!AX56-'T und E'!AX55)/('T und E'!$B56-'T und E'!$B55) -> 0.0009766537 | ... BA55: =('T und E'!BA56-'T und E'!BA55)/('T und E'!$B56-'T und E'!$B55) -> 1.9455253e-05
B56: ='T und E'!B56 -> 8.54511 | C56: =('T und E'!C57-'T und E'!C56)/('T und E'!$B57-'T und E'!$B56) -> -50.550875 | D56: =('T und E'!D57-'T und E'!D56)/('T und E'!$B57-'T und E'!$B56) -> -50.550875 | E56: =('T und E'!E57-'T und E'!E56)/('T und E'!$B57-'T und E'!$B56) -> -50.550875 | F56: =('T und E'!F57-'T und E'!F56)/('T und E'!$B57-'T und E'!$B56) -> -49.254699 | G56: =('T und E'!G57-'T und E'!G56)/('T und E'!$B57-'T und E'!$B56) -> -46.014258 | H56: =('T und E'!H57-'T und E'!H56)/('T und E'!$B57-'T und E'!$B56) -> -31.108231 | I56: =('T und E'!I57-'T und E'!I56)/('T und E'!$B57-'T und E'!$B56) -> 360.01296 | J56: =('T und E'!J57-'T und E'!J56)/('T und E'!$B57-'T und E'!$B56) -> 209.46209 | ... M56: =('T und E'!M57-'T und E'!M56)/('T und E'!$B57-'T und E'!$B56) -> 31.626701 | P56: ='T und E'!P56 -> 8.54511 | Q56: =('T und E'!Q57-'T und E'!Q56)/('T und E'!$B57-'T und E'!$B56) -> -0.010492547 | R56: =('T und E'!R57-'T und E'!R56)/('T und E'!$B57-'T und E'!$B56) -> -0.010518471 | S56: =('T und E'!S57-'T und E'!S56)/('T und E'!$B57-'T und E'!$B56) -> -0.010544394 | T56: =('T und E'!T57-'T und E'!T56)/('T und E'!$B57-'T und E'!$B56) -> -0.01058976 | U56: =('T und E'!U57-'T und E'!U56)/('T und E'!$B57-'T und E'!$B56) -> -0.010667531 | V56: =('T und E'!V57-'T und E'!V56)/('T und E'!$B57-'T und E'!$B56) -> -0.003331173 | W56: =('T und E'!W57-'T und E'!W56)/('T und E'!$B57-'T und E'!$B56) -> 0.013220998 | X56: =('T und E'!X57-'T und E'!X56)/('T und E'!$B57-'T und E'!$B56) -> 0.013071938 | ... AA56: =('T und E'!AA57-'T und E'!AA56)/('T und E'!$B57-'T und E'!$B56) -> -0.00017174336 | AC56: ='T und E'!AC56 -> 8.54511 | AD56: =('T und E'!AD56-'T und E'!AD55)/('T und E'!$B57-'T und E'!$B56) -> 0.010854828 | AE56: =('T und E'!AE57-'T und E'!AE56)/('T und E'!$B57-'T und E'!$B56) -> 0.016222942 | AF56: =('T und E'!AF57-'T und E'!AF56)/('T und E'!$B57-'T und E'!$B56) -> 0.016049903 | AG56: =('T und E'!AG57-'T und E'!AG56)/('T und E'!$B57-'T und E'!$B56) -> 0.015760855 | AH56: =('T und E'!AH57-'T und E'!AH56)/('T und E'!$B57-'T und E'!$B56) -> 0.015252754 | AI56: =('T und E'!AI57-'T und E'!AI56)/('T und E'!$B57-'T und E'!$B56) -> 0.008169151 | AJ56: =('T und E'!AJ57-'T und E'!AJ56)/('T und E'!$B57-'T und E'!$B56) -> -0.0019572262 | AK56: =('T und E'!AK57-'T und E'!AK56)/('T und E'!$B57-'T und E'!$B56) -> -0.0039455606 | AL56: =('T und E'!AL57-'T und E'!AL56)/('T und E'!$B57-'T und E'!$B56) -> -0.00048671419 | ... AN56: =('T und E'!AN57-'T und E'!AN56)/('T und E'!$B57-'T und E'!$B56) -> 0.00072909916 | AP56: ='T und E'!AP56 -> 8.54511 | AQ56: =('T und E'!AQ57-'T und E'!AQ56)/('T und E'!$B57-'T und E'!$B56) -> 0.002757615 | AR56: =('T und E'!AR57-'T und E'!AR56)/('T und E'!$B57-'T und E'!$B56) -> 0.0027615036 | AS56: =('T und E'!AS57-'T und E'!AS56)/('T und E'!$B57-'T und E'!$B56) -> 0.002771873 | AT56: =('T und E'!AT57-'T und E'!AT56)/('T und E'!$B57-'T und E'!$B56) -> 0.0027945561 | AU56: =('T und E'!AU57-'T und E'!AU56)/('T und E'!$B57-'T und E'!$B56) -> 0.0028431627 | AV56: =('T und E'!AV57-'T und E'!AV56)/('T und E'!$B57-'T und E'!$B56) -> 0.0029313027 | AW56: =('T und E'!AW57-'T und E'!AW56)/('T und E'!$B57-'T und E'!$B56) -> 0.0023486714 | AX56: =('T und E'!AX57-'T und E'!AX56)/('T und E'!$B57-'T und E'!$B56) -> 0.0009889825 | ... BA56: =('T und E'!BA57-'T und E'!BA56)/('T und E'!$B57-'T und E'!$B56) -> 1.9442644e-05
B57: ='T und E'!B57 -> 8.56054 | C57: =('T und E'!C58-'T und E'!C57)/('T und E'!$B58-'T und E'!$B57) -> -35.436474 | D57: =('T und E'!D58-'T und E'!D57)/('T und E'!$B58-'T und E'!$B57) -> -35.436474 | E57: =('T und E'!E58-'T und E'!E57)/('T und E'!$B58-'T und E'!$B57) -> -35.436474 | F57: =('T und E'!F58-'T und E'!F57)/('T und E'!$B58-'T und E'!$B57) -> -35.436474 | G57: =('T und E'!G58-'T und E'!G57)/('T und E'!$B58-'T und E'!$B57) -> -32.843561 | H57: =('T und E'!H58-'T und E'!H57)/('T und E'!$B58-'T und E'!$B57) -> -24.200519 | I57: =('T und E'!I58-'T und E'!I57)/('T und E'!$B58-'T und E'!$B57) -> 351.16681 | J57: =('T und E'!J58-'T und E'!J57)/('T und E'!$B58-'T und E'!$B57) -> 206.828 | ... M57: =('T und E'!M58-'T und E'!M57)/('T und E'!$B58-'T und E'!$B57) -> 31.633535 | P57: ='T und E'!P57 -> 8.56054 | Q57: =('T und E'!Q58-'T und E'!Q57)/('T und E'!$B58-'T und E'!$B57) -> -0.010138289 | R57: =('T und E'!R58-'T und E'!R57)/('T und E'!$B58-'T und E'!$B57) -> -0.010172861 | S57: =('T und E'!S58-'T und E'!S57)/('T und E'!$B58-'T und E'!$B57) -> -0.010216076 | T57: =('T und E'!T58-'T und E'!T57)/('T und E'!$B58-'T und E'!$B57) -> -0.010276577 | U57: =('T und E'!U58-'T und E'!U57)/('T und E'!$B58-'T und E'!$B57) -> -0.010319793 | V57: =('T und E'!V58-'T und E'!V57)/('T und E'!$B58-'T und E'!$B57) -> -0.0031114952 | W57: =('T und E'!W58-'T und E'!W57)/('T und E'!$B58-'T und E'!$B57) -> 0.01346586 | X57: =('T und E'!X58-'T und E'!X57)/('T und E'!$B58-'T und E'!$B57) -> 0.013241141 | ... AA57: =('T und E'!AA58-'T und E'!AA57)/('T und E'!$B58-'T und E'!$B57) -> -0.00018150389 | AC57: ='T und E'!AC57 -> 8.56054 | AD57: =('T und E'!AD57-'T und E'!AD56)/('T und E'!$B58-'T und E'!$B57) -> 0.021754538 | AE57: =('T und E'!AE58-'T und E'!AE57)/('T und E'!$B58-'T und E'!$B57) -> 0.016156439 | AF57: =('T und E'!AF58-'T und E'!AF57)/('T und E'!$B58-'T und E'!$B57) -> 0.015993086 | AG57: =('T und E'!AG58-'T und E'!AG57)/('T und E'!$B58-'T und E'!$B57) -> 0.015725151 | AH57: =('T und E'!AH58-'T und E'!AH57)/('T und E'!$B58-'T und E'!$B57) -> 0.015211755 | AI57: =('T und E'!AI58-'T und E'!AI57)/('T und E'!$B58-'T und E'!$B57) -> 0.0080337079 | AJ57: =('T und E'!AJ58-'T und E'!AJ57)/('T und E'!$B58-'T und E'!$B57) -> -0.0022143475 | AK57: =('T und E'!AK58-'T und E'!AK57)/('T und E'!$B58-'T und E'!$B57) -> -0.0041149525 | AL57: =('T und E'!AL58-'T und E'!AL57)/('T und E'!$B58-'T und E'!$B57) -> -0.00052549697 | ... AN57: =('T und E'!AN58-'T und E'!AN57)/('T und E'!$B58-'T und E'!$B57) -> 0.00073811582 | AP57: ='T und E'!AP57 -> 8.56054 | AQ57: =('T und E'!AQ58-'T und E'!AQ57)/('T und E'!$B58-'T und E'!$B57) -> 0.0028072602 | AR57: =('T und E'!AR58-'T und E'!AR57)/('T und E'!$B58-'T und E'!$B57) -> 0.0028115817 | AS57: =('T und E'!AS58-'T und E'!AS57)/('T und E'!$B58-'T und E'!$B57) -> 0.0028219533 | AT57: =('T und E'!AT58-'T und E'!AT57)/('T und E'!$B58-'T und E'!$B57) -> 0.0028435609 | AU57: =('T und E'!AU58-'T und E'!AU57)/('T und E'!$B58-'T und E'!$B57) -> 0.0028928263 | AV57: =('T und E'!AV58-'T und E'!AV57)/('T und E'!$B58-'T und E'!$B57) -> 0.0029740709 | AW57: =('T und E'!AW58-'T und E'!AW57)/('T und E'!$B58-'T und E'!$B57) -> 0.0023742437 | AX57: =('T und E'!AX58-'T und E'!AX57)/('T und E'!$B58-'T und E'!$B57) -> 0.00099222126 | ... BA57: =('T und E'!BA58-'T und E'!BA57)/('T und E'!$B58-'T und E'!$B57) -> 1.5557476e-05
B58: ='T und E'!B58 -> 8.57211 | C58: =('T und E'!C59-'T und E'!C58)/('T und E'!$B59-'T und E'!$B58) -> -27.64977 | D58: =('T und E'!D59-'T und E'!D58)/('T und E'!$B59-'T und E'!$B58) -> -27.64977 | E58: =('T und E'!E59-'T und E'!E58)/('T und E'!$B59-'T und E'!$B58) -> -27.64977 | F58: =('T und E'!F59-'T und E'!F58)/('T und E'!$B59-'T und E'!$B58) -> -27.64977 | G58: =('T und E'!G59-'T und E'!G58)/('T und E'!$B59-'T und E'!$B58) -> -26.497696 | H58: =('T und E'!H59-'T und E'!H58)/('T und E'!$B59-'T und E'!$B58) -> -19.585253 | I58: =('T und E'!I59-'T und E'!I58)/('T und E'!$B59-'T und E'!$B58) -> 345.04608 | J58: =('T und E'!J59-'T und E'!J58)/('T und E'!$B59-'T und E'!$B58) -> 204.83871 | ... M58: =('T und E'!M59-'T und E'!M58)/('T und E'!$B59-'T und E'!$B58) -> 31.797235 | P58: ='T und E'!P58 -> 8.57211 | Q58: =('T und E'!Q59-'T und E'!Q58)/('T und E'!$B59-'T und E'!$B58) -> -0.0092281106 | R58: =('T und E'!R59-'T und E'!R58)/('T und E'!$B59-'T und E'!$B58) -> -0.009297235 | S58: =('T und E'!S59-'T und E'!S58)/('T und E'!$B59-'T und E'!$B58) -> -0.0093548387 | T58: =('T und E'!T59-'T und E'!T58)/('T und E'!$B59-'T und E'!$B58) -> -0.0094354839 | U58: =('T und E'!U59-'T und E'!U58)/('T und E'!$B59-'T und E'!$B58) -> -0.0095276498 | V58: =('T und E'!V59-'T und E'!V58)/('T und E'!$B59-'T und E'!$B58) -> -0.0027419355 | W58: =('T und E'!W59-'T und E'!W58)/('T und E'!$B59-'T und E'!$B58) -> 0.013490783 | X58: =('T und E'!X59-'T und E'!X58)/('T und E'!$B59-'T und E'!$B58) -> 0.013202765 | ... AA58: =('T und E'!AA59-'T und E'!AA58)/('T und E'!$B59-'T und E'!$B58) -> -0.00016013825 | AC58: ='T und E'!AC58 -> 8.57211 | AD58: =('T und E'!AD58-'T und E'!AD57)/('T und E'!$B59-'T und E'!$B58) -> 0.021654378 | AE58: =('T und E'!AE59-'T und E'!AE58)/('T und E'!$B59-'T und E'!$B58) -> 0.014841014 | AF58: =('T und E'!AF59-'T und E'!AF58)/('T und E'!$B59-'T und E'!$B58) -> 0.014711982 | AG58: =('T und E'!AG59-'T und E'!AG58)/('T und E'!$B59-'T und E'!$B58) -> 0.014514977 | AH58: =('T und E'!AH59-'T und E'!AH58)/('T und E'!$B59-'T und E'!$B58) -> 0.014141705 | AI58: =('T und E'!AI59-'T und E'!AI58)/('T und E'!$B59-'T und E'!$B58) -> 0.0074205069 | AJ58: =('T und E'!AJ59-'T und E'!AJ58)/('T und E'!$B59-'T und E'!$B58) -> -0.0025103687 | AK58: =('T und E'!AK59-'T und E'!AK58)/('T und E'!$B59-'T und E'!$B58) -> -0.004171659 | AL58: =('T und E'!AL59-'T und E'!AL58)/('T und E'!$B59-'T und E'!$B58) -> -0.00048502304 | ... AN58: =('T und E'!AN59-'T und E'!AN58)/('T und E'!$B59-'T und E'!$B58) -> 0.00073502304 | AP58: ='T und E'!AP58 -> 8.57211 | AQ58: =('T und E'!AQ59-'T und E'!AQ58)/('T und E'!$B59-'T und E'!$B58) -> 0.0028341014 | AR58: =('T und E'!AR59-'T und E'!AR58)/('T und E'!$B59-'T und E'!$B58) -> 0.0028375576 | AS58: =('T und E'!AS59-'T und E'!AS58)/('T und E'!$B59-'T und E'!$B58) -> 0.0028456221 | AT58: =('T und E'!AT59-'T und E'!AT58)/('T und E'!$B59-'T und E'!$B58) -> 0.0028663594 | AU58: =('T und E'!AU59-'T und E'!AU58)/('T und E'!$B59-'T und E'!$B58) -> 0.0029124424 | AV58: =('T und E'!AV59-'T und E'!AV58)/('T und E'!$B59-'T und E'!$B58) -> 0.0029861751 | AW58: =('T und E'!AW59-'T und E'!AW58)/('T und E'!$B59-'T und E'!$B58) -> 0.0023824885 | AX58: =('T und E'!AX59-'T und E'!AX58)/('T und E'!$B59-'T und E'!$B58) -> 0.001 | ... BA58: =('T und E'!BA59-'T und E'!BA58)/('T und E'!$B59-'T und E'!$B58) -> 3.3410138e-05
B59: ='T und E'!B59 -> 8.58079 | C59: =('T und E'!C60-'T und E'!C59)/('T und E'!$B60-'T und E'!$B59) -> -20.737327 | D59: =('T und E'!D60-'T und E'!D59)/('T und E'!$B60-'T und E'!$B59) -> -20.737327 | E59: =('T und E'!E60-'T und E'!E59)/('T und E'!$B60-'T und E'!$B59) -> -20.737327 | F59: =('T und E'!F60-'T und E'!F59)/('T und E'!$B60-'T und E'!$B59) -> -19.969278 | G59: =('T und E'!G60-'T und E'!G59)/('T und E'!$B60-'T und E'!$B59) -> -19.201229 | H59: =('T und E'!H60-'T und E'!H59)/('T und E'!$B60-'T und E'!$B59) -> -13.056836 | I59: =('T und E'!I60-'T und E'!I59)/('T und E'!$B60-'T und E'!$B59) -> 338.55607 | J59: =('T und E'!J60-'T und E'!J59)/('T und E'!$B60-'T und E'!$B59) -> 202.68817 | ... M59: =('T und E'!M60-'T und E'!M59)/('T und E'!$B60-'T und E'!$B59) -> 31.797235 | P59: ='T und E'!P59 -> 8.58079 | Q59: =('T und E'!Q60-'T und E'!Q59)/('T und E'!$B60-'T und E'!$B59) -> -0.0088402458 | R59: =('T und E'!R60-'T und E'!R59)/('T und E'!$B60-'T und E'!$B59) -> -0.0088863287 | S59: =('T und E'!S60-'T und E'!S59)/('T und E'!$B60-'T und E'!$B59) -> -0.0089631336 | T59: =('T und E'!T60-'T und E'!T59)/('T und E'!$B60-'T und E'!$B59) -> -0.0090399386 | U59: =('T und E'!U60-'T und E'!U59)/('T und E'!$B60-'T und E'!$B59) -> -0.0091321045 | V59: =('T und E'!V60-'T und E'!V59)/('T und E'!$B60-'T und E'!$B59) -> -0.0023502304 | W59: =('T und E'!W60-'T und E'!W59)/('T und E'!$B60-'T und E'!$B59) -> 0.01374808 | X59: =('T und E'!X60-'T und E'!X59)/('T und E'!$B60-'T und E'!$B59) -> 0.013394777 | ... AA59: =('T und E'!AA60-'T und E'!AA59)/('T und E'!$B60-'T und E'!$B59) -> -0.00016973886 | AC59: ='T und E'!AC59 -> 8.58079 | AD59: =('T und E'!AD59-'T und E'!AD58)/('T und E'!$B60-'T und E'!$B59) -> 0.0099439324 | AE59: =('T und E'!AE60-'T und E'!AE59)/('T und E'!$B60-'T und E'!$B59) -> 0.014530722 | AF59: =('T und E'!AF60-'T und E'!AF59)/('T und E'!$B60-'T und E'!$B59) -> 0.014388633 | AG59: =('T und E'!AG60-'T und E'!AG59)/('T und E'!$B60-'T und E'!$B59) -> 0.014168203 | AH59: =('T und E'!AH60-'T und E'!AH59)/('T und E'!$B60-'T und E'!$B59) -> 0.01374424 | AI59: =('T und E'!AI60-'T und E'!AI59)/('T und E'!$B60-'T und E'!$B59) -> 0.0069262673 | AJ59: =('T und E'!AJ60-'T und E'!AJ59)/('T und E'!$B60-'T und E'!$B59) -> -0.0027880184 | AK59: =('T und E'!AK60-'T und E'!AK59)/('T und E'!$B60-'T und E'!$B59) -> -0.0042634409 | AL59: =('T und E'!AL60-'T und E'!AL59)/('T und E'!$B60-'T und E'!$B59) -> -0.00057526882 | ... AN59: =('T und E'!AN60-'T und E'!AN59)/('T und E'!$B60-'T und E'!$B59) -> 0.00073886329 | AP59: ='T und E'!AP59 -> 8.58079 | AQ59: =('T und E'!AQ60-'T und E'!AQ59)/('T und E'!$B60-'T und E'!$B59) -> 0.0029009217 | AR59: =('T und E'!AR60-'T und E'!AR59)/('T und E'!$B60-'T und E'!$B59) -> 0.0029039939 | AS59: =('T und E'!AS60-'T und E'!AS59)/('T und E'!$B60-'T und E'!$B59) -> 0.0029132104 | AT59: =('T und E'!AT60-'T und E'!AT59)/('T und E'!$B60-'T und E'!$B59) -> 0.0029331797 | AU59: =('T und E'!AU60-'T und E'!AU59)/('T und E'!$B60-'T und E'!$B59) -> 0.0029769585 | AV59: =('T und E'!AV60-'T und E'!AV59)/('T und E'!$B60-'T und E'!$B59) -> 0.0030430108 | AW59: =('T und E'!AW60-'T und E'!AW59)/('T und E'!$B60-'T und E'!$B59) -> 0.0024201229 | AX59: =('T und E'!AX60-'T und E'!AX59)/('T und E'!$B60-'T und E'!$B59) -> 0.0010168971 | ... BA59: =('T und E'!BA60-'T und E'!BA59)/('T und E'!$B60-'T und E'!$B59) -> 2.3809524e-05
B60: ='T und E'!B60 -> 8.59381 | C60: =('T und E'!C61-'T und E'!C60)/('T und E'!$B61-'T und E'!$B60) -> -13.319672 | D60: =('T und E'!D61-'T und E'!D60)/('T und E'!$B61-'T und E'!$B60) -> -13.319672 | E60: =('T und E'!E61-'T und E'!E60)/('T und E'!$B61-'T und E'!$B60) -> -14.344262 | F60: =('T und E'!F61-'T und E'!F60)/('T und E'!$B61-'T und E'!$B60) -> -14.344262 | G60: =('T und E'!G61-'T und E'!G60)/('T und E'!$B61-'T und E'!$B60) -> -13.319672 | H60: =('T und E'!H61-'T und E'!H60)/('T und E'!$B61-'T und E'!$B60) -> -7.1721311 | I60: =('T und E'!I61-'T und E'!I60)/('T und E'!$B61-'T und E'!$B60) -> 332.58197 | J60: =('T und E'!J61-'T und E'!J60)/('T und E'!$B61-'T und E'!$B60) -> 200.61475 | ... M60: =('T und E'!M61-'T und E'!M60)/('T und E'!$B61-'T und E'!$B60) -> 31.967213 | P60: ='T und E'!P60 -> 8.59381 | Q60: =('T und E'!Q61-'T und E'!Q60)/('T und E'!$B61-'T und E'!$B60) -> -0.008647541 | R60: =('T und E'!R61-'T und E'!R60)/('T und E'!$B61-'T und E'!$B60) -> -0.0086885246 | S60: =('T und E'!S61-'T und E'!S60)/('T und E'!$B61-'T und E'!$B60) -> -0.0087704918 | T60: =('T und E'!T61-'T und E'!T60)/('T und E'!$B61-'T und E'!$B60) -> -0.008852459 | U60: =('T und E'!U61-'T und E'!U60)/('T und E'!$B61-'T und E'!$B60) -> -0.008954918 | V60: =('T und E'!V61-'T und E'!V60)/('T und E'!$B61-'T und E'!$B60) -> -0.0022233607 | W60: =('T und E'!W61-'T und E'!W60)/('T und E'!$B61-'T und E'!$B60) -> 0.013770492 | X60: =('T und E'!X61-'T und E'!X60)/('T und E'!$B61-'T und E'!$B60) -> 0.013391393 | ... AA60: =('T und E'!AA61-'T und E'!AA60)/('T und E'!$B61-'T und E'!$B60) -> -0.00015983607 | AC60: ='T und E'!AC60 -> 8.59381 | AD60: =('T und E'!AD60-'T und E'!AD59)/('T und E'!$B61-'T und E'!$B60) -> 0.019489754 | AE60: =('T und E'!AE61-'T und E'!AE60)/('T und E'!$B61-'T und E'!$B60) -> 0.014598361 | AF60: =('T und E'!AF61-'T und E'!AF60)/('T und E'!$B61-'T und E'!$B60) -> 0.014459016 | AG60: =('T und E'!AG61-'T und E'!AG60)/('T und E'!$B61-'T und E'!$B60) -> 0.014247951 | AH60: =('T und E'!AH61-'T und E'!AH60)/('T und E'!$B61-'T und E'!$B60) -> 0.01386168 | AI60: =('T und E'!AI61-'T und E'!AI60)/('T und E'!$B61-'T und E'!$B60) -> 0.0069016393 | AJ60: =('T und E'!AJ61-'T und E'!AJ60)/('T und E'!$B61-'T und E'!$B60) -> -0.0028883197 | AK60: =('T und E'!AK61-'T und E'!AK60)/('T und E'!$B61-'T und E'!$B60) -> -0.0043114754 | AL60: =('T und E'!AL61-'T und E'!AL60)/('T und E'!$B61-'T und E'!$B60) -> -0.00059221311 | ... AN60: =('T und E'!AN61-'T und E'!AN60)/('T und E'!$B61-'T und E'!$B60) -> 0.00073258197 | AP60: ='T und E'!AP60 -> 8.59381 | AQ60: =('T und E'!AQ61-'T und E'!AQ60)/('T und E'!$B61-'T und E'!$B60) -> 0.002914959 | AR60: =('T und E'!AR61-'T und E'!AR60)/('T und E'!$B61-'T und E'!$B60) -> 0.0029190574 | AS60: =('T und E'!AS61-'T und E'!AS60)/('T und E'!$B61-'T und E'!$B60) -> 0.0029282787 | AT60: =('T und E'!AT61-'T und E'!AT60)/('T und E'!$B61-'T und E'!$B60) -> 0.0029467213 | AU60: =('T und E'!AU61-'T und E'!AU60)/('T und E'!$B61-'T und E'!$B60) -> 0.0029907787 | AV60: =('T und E'!AV61-'T und E'!AV60)/('T und E'!$B61-'T und E'!$B60) -> 0.0030532787 | AW60: =('T und E'!AW61-'T und E'!AW60)/('T und E'!$B61-'T und E'!$B60) -> 0.0024293033 | AX60: =('T und E'!AX61-'T und E'!AX60)/('T und E'!$B61-'T und E'!$B60) -> 0.0010256148 | ... BA60: =('T und E'!BA61-'T und E'!BA60)/('T und E'!$B61-'T und E'!$B60) -> 2.7663934e-05
... B369: ='T und E'!B369 -> 0 | C369: =('T und E'!C370-'T und E'!C369)/('T und E'!$B370-'T und E'!$B369) -> #DIV/0! | D369: =('T und E'!D370-'T und E'!D369)/('T und E'!$B370-'T und E'!$B369) -> #DIV/0! | E369: =('T und E'!E370-'T und E'!E369)/('T und E'!$B370-'T und E'!$B369) -> #DIV/0! | F369: =('T und E'!F370-'T und E'!F369)/('T und E'!$B370-'T und E'!$B369) -> #DIV/0! | G369: =('T und E'!G370-'T und E'!G369)/('T und E'!$B370-'T und E'!$B369) -> #DIV/0! | H369: =('T und E'!H370-'T und E'!H369)/('T und E'!$B370-'T und E'!$B369) -> #DIV/0! | I369: =('T und E'!I370-'T und E'!I369)/('T und E'!$B370-'T und E'!$B369) -> #DIV/0! | J369: =('T und E'!J370-'T und E'!J369)/('T und E'!$B370-'T und E'!$B369) -> #DIV/0! | ... M369: =('T und E'!M370-'T und E'!M369)/('T und E'!$B370-'T und E'!$B369) -> #DIV/0! | P369: ='T und E'!P369 -> 0 | Q369: =('T und E'!Q370-'T und E'!Q369)/('T und E'!$B370-'T und E'!$B369) -> #DIV/0! | R369: =('T und E'!R370-'T und E'!R369)/('T und E'!$B370-'T und E'!$B369) -> #DIV/0! | S369: =('T und E'!S370-'T und E'!S369)/('T und E'!$B370-'T und E'!$B369) -> #DIV/0! | T369: =('T und E'!T370-'T und E'!T369)/('T und E'!$B370-'T und E'!$B369) -> #DIV/0! | U369: =('T und E'!U370-'T und E'!U369)/('T und E'!$B370-'T und E'!$B369) -> #DIV/0! | V369: =('T und E'!V370-'T und E'!V369)/('T und E'!$B370-'T und E'!$B369) -> #DIV/0! | W369: =('T und E'!W370-'T und E'!W369)/('T und E'!$B370-'T und E'!$B369) -> #DIV/0! | X369: =('T und E'!X370-'T und E'!X369)/('T und E'!$B370-'T und E'!$B369) -> #DIV/0! | ... AA369: =('T und E'!AA370-'T und E'!AA369)/('T und E'!$B370-'T und E'!$B369) -> #DIV/0! | AC369: ='T und E'!AC369 -> 0 | AD369: =('T und E'!AD369-'T und E'!AD368)/('T und E'!$B370-'T und E'!$B369) -> #DIV/0! | AE369: =('T und E'!AE370-'T und E'!AE369)/('T und E'!$B370-'T und E'!$B369) -> #DIV/0! | AF369: =('T und E'!AF370-'T und E'!AF369)/('T und E'!$B370-'T und E'!$B369) -> #DIV/0! | AG369: =('T und E'!AG370-'T und E'!AG369)/('T und E'!$B370-'T und E'!$B369) -> #DIV/0! | AH369: =('T und E'!AH370-'T und E'!AH369)/('T und E'!$B370-'T und E'!$B369) -> #DIV/0! | AI369: =('T und E'!AI370-'T und E'!AI369)/('T und E'!$B370-'T und E'!$B369) -> #DIV/0! | AJ369: =('T und E'!AJ370-'T und E'!AJ369)/('T und E'!$B370-'T und E'!$B369) -> #DIV/0! | AK369: =('T und E'!AK370-'T und E'!AK369)/('T und E'!$B370-'T und E'!$B369) -> #DIV/0! | AL369: =('T und E'!AL370-'T und E'!AL369)/('T und E'!$B370-'T und E'!$B369) -> #DIV/0! | ... AN369: =('T und E'!AN370-'T und E'!AN369)/('T und E'!$B370-'T und E'!$B369) -> #DIV/0! | AP369: ='T und E'!AP369 -> 0 | AQ369: =('T und E'!AQ370-'T und E'!AQ369)/('T und E'!$B370-'T und E'!$B369) -> #DIV/0! | AR369: =('T und E'!AR370-'T und E'!AR369)/('T und E'!$B370-'T und E'!$B369) -> #DIV/0! | AS369: =('T und E'!AS370-'T und E'!AS369)/('T und E'!$B370-'T und E'!$B369) -> #DIV/0! | AT369: =('T und E'!AT370-'T und E'!AT369)/('T und E'!$B370-'T und E'!$B369) -> #DIV/0! | AU369: =('T und E'!AU370-'T und E'!AU369)/('T und E'!$B370-'T und E'!$B369) -> #DIV/0! | AV369: =('T und E'!AV370-'T und E'!AV369)/('T und E'!$B370-'T und E'!$B369) -> #DIV/0! | AW369: =('T und E'!AW370-'T und E'!AW369)/('T und E'!$B370-'T und E'!$B369) -> #DIV/0! | AX369: =('T und E'!AX370-'T und E'!AX369)/('T und E'!$B370-'T und E'!$B369) -> #DIV/0! | ... BA369: =('T und E'!BA370-'T und E'!BA369)/('T und E'!$B370-'T und E'!$B369) -> #DIV/0!

Sheet abs(dT) und abs(dE)
C1: dNT11 | Q1: dE11 (radial) | AD1: dE22 (axial) | AQ1: dE33 (tangential)
A2: Node | C2: 871 | D2: 3699 | E2: 4056 | F2: 4413 | G2: 4770 | H2: 301 | I2: 2182 | J2: 2063 | K2: 1944 | L2: 1825 | M2: 1706 | Q2: 871 | R2: 3699 | S2: 4056 | T2: 4413 | U2: 4770 | V2: 301 | W2: 2182 | X2: 2063 | Y2: 1944 | Z2: 1825 | AA2: 1706 | AD2: 871 | AE2: 3699 | AF2: 4056 | AG2: 4413 | AH2: 4770 | AI2: 301 | AJ2: 2182 | AK2: 2063 | AL2: 1944 | AM2: 1825 | AN2: 1706 | AQ2: 871 | AR2: 3699 | AS2: 4056 | AT2: 4413 | AU2: 4770 | AV2: 301 | AW2: 2182 | AX2: 2063 | AY2: 1944 | AZ2: 1825 | BA2: 1706
A3: x [m] | C3: 0.025 | D3: 0.0249918 | E3: 0.0249738 | F3: 0.024934 | G3: 0.0248458 | H3: 0.0246509 | I3: 0.0221897 | J3: 0.0197285 | K3: 0.0172673 | L3: 0.0148061 | M3: 0.0123449 | Q3: 0.025 | R3: 0.0249918 | S3: 0.0249738 | T3: 0.024934 | U3: 0.0248458 | V3: 0.0246509 | W3: 0.0221897 | X3: 0.0197285 | Y3: 0.0172673 | Z3: 0.0148061 | AA3: 0.0123449 | AD3: 0.025 | AE3: 0.0249918 | AF3: 0.0249738 | AG3: 0.024934 | AH3: 0.0248458 | AI3: 0.0246509 | AJ3: 0.0221897 | AK3: 0.0197285 | AL3: 0.0172673 | AM3: 0.0148061 | AN3: 0.0123449 | AQ3: 0.025 | AR3: 0.0249918 | AS3: 0.0249738 | AT3: 0.024934 | AU3: 0.0248458 | AV3: 0.0246509 | AW3: 0.0221897 | AX3: 0.0197285 | AY3: 0.0172673 | AZ3: 0.0148061 | BA3: 0.0123449
A4: y [m] | C4: 0.0883433 | D4: 0.0883422 | E4: 0.0883398 | F4: 0.0883345 | G4: 0.0883228 | H4: 0.0882968 | I4: 0.0882968 | J4: 0.0882968 | K4: 0.0882968 | L4: 0.0882968 | M4: 0.0882968 | Q4: 0.0883433 | R4: 0.0883422 | S4: 0.0883398 | T4: 0.0883345 | U4: 0.0883228 | V4: 0.0882968 | W4: 0.0882968 | X4: 0.0882968 | Y4: 0.0882968 | Z4: 0.0882968 | AA4: 0.0882968 | AD4: 0.0883433 | AE4: 0.0883422 | AF4: 0.0883398 | AG4: 0.0883345 | AH4: 0.0883228 | AI4: 0.0882968 | AJ4: 0.0882968 | AK4: 0.0882968 | AL4: 0.0882968 | AM4: 0.0882968 | AN4: 0.0882968 | AQ4: 0.0883433 | AR4: 0.0883422 | AS4: 0.0883398 | AT4: 0.0883345 | AU4: 0.0883228 | AV4: 0.0882968 | AW4: 0.0882968 | AX4: 0.0882968 | AY4: 0.0882968 | AZ4: 0.0882968 | BA4: 0.0882968
A5: z [m] | C5: 0 | D5: 0 | E5: 0 | F5: 0 | G5: 0 | H5: 0 | I5: 0 | J5: 0 | K5: 0 | L5: 0 | M5: 0 | Q5: 0 | R5: 0 | S5: 0 | T5: 0 | U5: 0 | V5: 0 | W5: 0 | X5: 0 | Y5: 0 | Z5: 0 | AA5: 0 | AD5: 0 | AE5: 0 | AF5: 0 | AG5: 0 | AH5: 0 | AI5: 0 | AJ5: 0 | AK5: 0 | AL5: 0 | AM5: 0 | AN5: 0 | AQ5: 0 | AR5: 0 | AS5: 0 | AT5: 0 | AU5: 0 | AV5: 0 | AW5: 0 | AX5: 0 | AY5: 0 | AZ5: 0 | BA5: 0
A6: Abstand zu Oberfläche [mm] | C6: =ABS(C3-$C$3)*1000 -> 0 | D6: =ABS(D3-$C$3)*1000 -> 0.0082 | E6: =ABS(E3-$C$3)*1000 -> 0.0262 | F6: =ABS(F3-$C$3)*1000 -> 0.066 | G6: =ABS(G3-$C$3)*1000 -> 0.1542 | H6: =ABS(H3-$C$3)*1000 -> 0.3491 | I6: =ABS(I3-$C$3)*1000 -> 2.8103 | J6: =ABS(J3-$C$3)*1000 -> 5.2715 | ... M6: =ABS(M3-$C$3)*1000 -> 12.6551 | Q6: =ABS(Q3-$C$3)*1000 -> 0 | R6: =ABS(R3-$C$3)*1000 -> 0.0082 | S6: =ABS(S3-$C$3)*1000 -> 0.0262 | T6: =ABS(T3-$C$3)*1000 -> 0.066 | U6: =ABS(U3-$C$3)*1000 -> 0.1542 | V6: =ABS(V3-$C$3)*1000 -> 0.3491 | W6: =ABS(W3-$C$3)*1000 -> 2.8103 | X6: =ABS(X3-$C$3)*1000 -> 5.2715 | ... AA6: =ABS(AA3-$C$3)*1000 -> 12.6551 | AD6: =ABS(AD3-$C$3)*1000 -> 0 | AE6: =ABS(AE3-$C$3)*1000 -> 0.0082 | AF6: =ABS(AF3-$C$3)*1000 -> 0.0262 | AG6: =ABS(AG3-$C$3)*1000 -> 0.066 | AH6: =ABS(AH3-$C$3)*1000 -> 0.1542 | AI6: =ABS(AI3-$C$3)*1000 -> 0.3491 | AJ6: =ABS(AJ3-$C$3)*1000 -> 2.8103 | AK6: =ABS(AK3-$C$3)*1000 -> 5.2715 | ... AN6: =ABS(AN3-$C$3)*1000 -> 12.6551 | AQ6: =ABS(AQ3-$C$3)*1000 -> 0 | AR6: =ABS(AR3-$C$3)*1000 -> 0.0082 | AS6: =ABS(AS3-$C$3)*1000 -> 0.0262 | AT6: =ABS(AT3-$C$3)*1000 -> 0.066 | AU6: =ABS(AU3-$C$3)*1000 -> 0.1542 | AV6: =ABS(AV3-$C$3)*1000 -> 0.3491 | AW6: =ABS(AW3-$C$3)*1000 -> 2.8103 | AX6: =ABS(AX3-$C$3)*1000 -> 5.2715 | ... BA6: =ABS(BA3-$C$3)*1000 -> 12.6551
B7: ='T und E'!B7 -> 0 | C7: =ABS(('T und E'!C8-'T und E'!C7)/('T und E'!$B8-'T und E'!$B7)) -> 750.187 | D7: =ABS(('T und E'!D8-'T und E'!D7)/('T und E'!$B8-'T und E'!$B7)) -> 749.344 | E7: =ABS(('T und E'!E8-'T und E'!E7)/('T und E'!$B8-'T und E'!$B7)) -> 742.915 | F7: =ABS(('T und E'!F8-'T und E'!F7)/('T und E'!$B8-'T und E'!$B7)) -> 717.433 | G7: =ABS(('T und E'!G8-'T und E'!G7)/('T und E'!$B8-'T und E'!$B7)) -> 648.466 | H7: =ABS(('T und E'!H8-'T und E'!H7)/('T und E'!$B8-'T und E'!$B7)) -> 502.581 | I7: =ABS(('T und E'!I8-'T und E'!I7)/('T und E'!$B8-'T und E'!$B7)) -> 72.872 | J7: =ABS(('T und E'!J8-'T und E'!J7)/('T und E'!$B8-'T und E'!$B7)) -> 10.401 | ... M7: =ABS(('T und E'!M8-'T und E'!M7)/('T und E'!$B8-'T und E'!$B7)) -> 0.031 | P7: ='T und E'!P7 -> 0 | Q7: =ABS(('T und E'!Q8-'T und E'!Q7)/('T und E'!$B8-'T und E'!$B7)) -> 0.015801 | R7: =ABS(('T und E'!R8-'T und E'!R7)/('T und E'!$B8-'T und E'!$B7)) -> 0.0157835 | S7: =ABS(('T und E'!S8-'T und E'!S7)/('T und E'!$B8-'T und E'!$B7)) -> 0.0156396 | T7: =ABS(('T und E'!T8-'T und E'!T7)/('T und E'!$B8-'T und E'!$B7)) -> 0.0150674 | U7: =ABS(('T und E'!U8-'T und E'!U7)/('T und E'!$B8-'T und E'!$B7)) -> 0.0135266 | V7: =ABS(('T und E'!V8-'T und E'!V7)/('T und E'!$B8-'T und E'!$B7)) -> 0.00841414 | W7: =ABS(('T und E'!W8-'T und E'!W7)/('T und E'!$B8-'T und E'!$B7)) -> 0.00330125 | X7: =ABS(('T und E'!X8-'T und E'!X7)/('T und E'!$B8-'T und E'!$B7)) -> 0.000508201 | ... AA7: =ABS(('T und E'!AA8-'T und E'!AA7)/('T und E'!$B8-'T und E'!$B7)) -> 0.000330649 | AC7: ='T und E'!AC7 -> 0 | AD7: =ABS(('T und E'!AD8-'T und E'!AD7)/('T und E'!$B8-'T und E'!$B7)) -> 0.00180239 | AE7: =ABS(('T und E'!AE8-'T und E'!AE7)/('T und E'!$B8-'T und E'!$B7)) -> 0.00180241 | AF7: =ABS(('T und E'!AF8-'T und E'!AF7)/('T und E'!$B8-'T und E'!$B7)) -> 0.00180243 | AG7: =ABS(('T und E'!AG8-'T und E'!AG7)/('T und E'!$B8-'T und E'!$B7)) -> 0.00180227 | AH7: =ABS(('T und E'!AH8-'T und E'!AH7)/('T und E'!$B8-'T und E'!$B7)) -> 0.00180101 | AI7: =ABS(('T und E'!AI8-'T und E'!AI7)/('T und E'!$B8-'T und E'!$B7)) -> 0.00171634 | AJ7: =ABS(('T und E'!AJ8-'T und E'!AJ7)/('T und E'!$B8-'T und E'!$B7)) -> 0.0014401 | AK7: =ABS(('T und E'!AK8-'T und E'!AK7)/('T und E'!$B8-'T und E'!$B7)) -> 0.00104217 | ... AN7: =ABS(('T und E'!AN8-'T und E'!AN7)/('T und E'!$B8-'T und E'!$B7)) -> 0.000319459 | AP7: ='T und E'!AP7 -> 0 | AQ7: =ABS(('T und E'!AQ8-'T und E'!AQ7)/('T und E'!$B8-'T und E'!$B7)) -> 0.00112703 | AR7: =ABS(('T und E'!AR8-'T und E'!AR7)/('T und E'!$B8-'T und E'!$B7)) -> 0.00112284 | AS7: =ABS(('T und E'!AS8-'T und E'!AS7)/('T und E'!$B8-'T und E'!$B7)) -> 0.00111184 | AT7: =ABS(('T und E'!AT8-'T und E'!AT7)/('T und E'!$B8-'T und E'!$B7)) -> 0.00108732 | AU7: =ABS(('T und E'!AU8-'T und E'!AU7)/('T und E'!$B8-'T und E'!$B7)) -> 0.00103642 | AV7: =ABS(('T und E'!AV8-'T und E'!AV7)/('T und E'!$B8-'T und E'!$B7)) -> 0.00082094 | AW7: =ABS(('T und E'!AW8-'T und E'!AW7)/('T und E'!$B8-'T und E'!$B7)) -> 0.000519563 | AX7: =ABS(('T und E'!AX8-'T und E'!AX7)/('T und E'!$B8-'T und E'!$B7)) -> 0.000349775 | ... BA7: =ABS(('T und E'!BA8-'T und E'!BA7)/('T und E'!$B8-'T und E'!$B7)) -> 0.000370749
B8: ='T und E'!B8 -> 0.1 | C8: =ABS(('T und E'!C9-'T und E'!C8)/('T und E'!$B9-'T und E'!$B8)) -> 447.103 | D8: =ABS(('T und E'!D9-'T und E'!D8)/('T und E'!$B9-'T und E'!$B8)) -> 447.096 | E8: =ABS(('T und E'!E9-'T und E'!E8)/('T und E'!$B9-'T und E'!$B8)) -> 447.045 | F8: =ABS(('T und E'!F9-'T und E'!F8)/('T und E'!$B9-'T und E'!$B8)) -> 446.667 | G8: =ABS(('T und E'!G9-'T und E'!G8)/('T und E'!$B9-'T und E'!$B8)) -> 444.804 | H8: =ABS(('T und E'!H9-'T und E'!H8)/('T und E'!$B9-'T und E'!$B8)) -> 437.139 | I8: =ABS(('T und E'!I9-'T und E'!I8)/('T und E'!$B9-'T und E'!$B8)) -> 119.424 | J8: =ABS(('T und E'!J9-'T und E'!J8)/('T und E'!$B9-'T und E'!$B8)) -> 25.009 | ... M8: =ABS(('T und E'!M9-'T und E'!M8)/('T und E'!$B9-'T und E'!$B8)) -> 0.148 | P8: ='T und E'!P8 -> 0.1 | Q8: =ABS(('T und E'!Q9-'T und E'!Q8)/('T und E'!$B9-'T und E'!$B8)) -> 0.00941 | R8: =ABS(('T und E'!R9-'T und E'!R8)/('T und E'!$B9-'T und E'!$B8)) -> 0.0094107 | S8: =ABS(('T und E'!S9-'T und E'!S8)/('T und E'!$B9-'T und E'!$B8)) -> 0.0094041 | T8: =ABS(('T und E'!T9-'T und E'!T8)/('T und E'!$B9-'T und E'!$B8)) -> 0.0093656 | U8: =ABS(('T und E'!U9-'T und E'!U8)/('T und E'!$B9-'T und E'!$B8)) -> 0.0092414 | V8: =ABS(('T und E'!V9-'T und E'!V8)/('T und E'!$B9-'T und E'!$B8)) -> 0.00727026 | W8: =ABS(('T und E'!W9-'T und E'!W8)/('T und E'!$B9-'T und E'!$B8)) -> 0.00347145 | X8: =ABS(('T und E'!X9-'T und E'!X8)/('T und E'!$B9-'T und E'!$B8)) -> 0.000900089 | ... AA8: =ABS(('T und E'!AA9-'T und E'!AA8)/('T und E'!$B9-'T und E'!$B8)) -> 0.000302329 | AC8: ='T und E'!AC8 -> 0.1 | AD8: =ABS(('T und E'!AD9-'T und E'!AD8)/('T und E'!$B9-'T und E'!$B8)) -> 0.00182808 | AE8: =ABS(('T und E'!AE9-'T und E'!AE8)/('T und E'!$B9-'T und E'!$B8)) -> 0.00182762 | AF8: =ABS(('T und E'!AF9-'T und E'!AF8)/('T und E'!$B9-'T und E'!$B8)) -> 0.00182645 | AG8: =ABS(('T und E'!AG9-'T und E'!AG8)/('T und E'!$B9-'T und E'!$B8)) -> 0.00182376 | AH8: =ABS(('T und E'!AH9-'T und E'!AH8)/('T und E'!$B9-'T und E'!$B8)) -> 0.00181701 | AI8: =ABS(('T und E'!AI9-'T und E'!AI8)/('T und E'!$B9-'T und E'!$B8)) -> 0.00171287 | AJ8: =ABS(('T und E'!AJ9-'T und E'!AJ8)/('T und E'!$B9-'T und E'!$B8)) -> 0.00142391 | AK8: =ABS(('T und E'!AK9-'T und E'!AK8)/('T und E'!$B9-'T und E'!$B8)) -> 0.00103904 | ... AN8: =ABS(('T und E'!AN9-'T und E'!AN8)/('T und E'!$B9-'T und E'!$B8)) -> 0.000351601 | AP8: ='T und E'!AP8 -> 0.1 | AQ8: =ABS(('T und E'!AQ9-'T und E'!AQ8)/('T und E'!$B9-'T und E'!$B8)) -> 0.00109245 | AR8: =ABS(('T und E'!AR9-'T und E'!AR8)/('T und E'!$B9-'T und E'!$B8)) -> 0.00109018 | AS8: =ABS(('T und E'!AS9-'T und E'!AS8)/('T und E'!$B9-'T und E'!$B8)) -> 0.00108405 | AT8: =ABS(('T und E'!AT9-'T und E'!AT8)/('T und E'!$B9-'T und E'!$B8)) -> 0.00107025 | AU8: =ABS(('T und E'!AU9-'T und E'!AU8)/('T und E'!$B9-'T und E'!$B8)) -> 0.00103985 | AV8: =ABS(('T und E'!AV9-'T und E'!AV8)/('T und E'!$B9-'T und E'!$B8)) -> 0.00085939 | AW8: =ABS(('T und E'!AW9-'T und E'!AW8)/('T und E'!$B9-'T und E'!$B8)) -> 0.000563597 | AX8: =ABS(('T und E'!AX9-'T und E'!AX8)/('T und E'!$B9-'T und E'!$B8)) -> 0.000363592 | ... BA8: =ABS(('T und E'!BA9-'T und E'!BA8)/('T und E'!$B9-'T und E'!$B8)) -> 0.000343356
B9: ='T und E'!B9 -> 0.2 | C9: =ABS(('T und E'!C10-'T und E'!C9)/('T und E'!$B10-'T und E'!$B9)) -> 307.38 | D9: =ABS(('T und E'!D10-'T und E'!D9)/('T und E'!$B10-'T und E'!$B9)) -> 307.49333 | E9: =ABS(('T und E'!E10-'T und E'!E9)/('T und E'!$B10-'T und E'!$B9)) -> 308.25333 | F9: =ABS(('T und E'!F10-'T und E'!F9)/('T und E'!$B10-'T und E'!$B9)) -> 310.82667 | G9: =ABS(('T und E'!G10-'T und E'!G9)/('T und E'!$B10-'T und E'!$B9)) -> 316.18667 | H9: =ABS(('T und E'!H10-'T und E'!H9)/('T und E'!$B10-'T und E'!$B9)) -> 324.67333 | I9: =ABS(('T und E'!I10-'T und E'!I9)/('T und E'!$B10-'T und E'!$B9)) -> 142.55867 | J9: =ABS(('T und E'!J10-'T und E'!J9)/('T und E'!$B10-'T und E'!$B9)) -> 41.638667 | ... M9: =ABS(('T und E'!M10-'T und E'!M9)/('T und E'!$B10-'T und E'!$B9)) -> 0.45733333 | P9: ='T und E'!P9 -> 0.2 | Q9: =ABS(('T und E'!Q10-'T und E'!Q9)/('T und E'!$B10-'T und E'!$B9)) -> 0.0065053333 | R9: =ABS(('T und E'!R10-'T und E'!R9)/('T und E'!$B10-'T und E'!$B9)) -> 0.0065096667 | S9: =ABS(('T und E'!S10-'T und E'!S9)/('T und E'!$B10-'T und E'!$B9)) -> 0.0065306 | T9: =ABS(('T und E'!T10-'T und E'!T9)/('T und E'!$B10-'T und E'!$B9)) -> 0.0065907333 | U9: =ABS(('T und E'!U10-'T und E'!U9)/('T und E'!$B10-'T und E'!$B9)) -> 0.0067052 | V9: =ABS(('T und E'!V10-'T und E'!V9)/('T und E'!$B10-'T und E'!$B9)) -> 0.0057315333 | W9: =ABS(('T und E'!W10-'T und E'!W9)/('T und E'!$B10-'T und E'!$B9)) -> 0.0032154667 | X9: =ABS(('T und E'!X10-'T und E'!X9)/('T und E'!$B10-'T und E'!$B9)) -> 0.00119266 | ... AA9: =ABS(('T und E'!AA10-'T und E'!AA9)/('T und E'!$B10-'T und E'!$B9)) -> 0.00024672133 | AC9: ='T und E'!AC9 -> 0.2 | AD9: =ABS(('T und E'!AD10-'T und E'!AD9)/('T und E'!$B10-'T und E'!$B9)) -> 0.0016445067 | AE9: =ABS(('T und E'!AE10-'T und E'!AE9)/('T und E'!$B10-'T und E'!$B9)) -> 0.00164372 | AF9: =ABS(('T und E'!AF10-'T und E'!AF9)/('T und E'!$B10-'T und E'!$B9)) -> 0.0016417333 | AG9: =ABS(('T und E'!AG10-'T und E'!AG9)/('T und E'!$B10-'T und E'!$B9)) -> 0.0016372467 | AH9: =ABS(('T und E'!AH10-'T und E'!AH9)/('T und E'!$B10-'T und E'!$B9)) -> 0.0016270733 | AI9: =ABS(('T und E'!AI10-'T und E'!AI9)/('T und E'!$B10-'T und E'!$B9)) -> 0.0015249667 | AJ9: =ABS(('T und E'!AJ10-'T und E'!AJ9)/('T und E'!$B10-'T und E'!$B9)) -> 0.0012760733 | AK9: =ABS(('T und E'!AK10-'T und E'!AK9)/('T und E'!$B10-'T und E'!$B9)) -> 0.00096659333 | ... AN9: =ABS(('T und E'!AN10-'T und E'!AN9)/('T und E'!$B10-'T und E'!$B9)) -> 0.00039918667 | AP9: ='T und E'!AP9 -> 0.2 | AQ9: =ABS(('T und E'!AQ10-'T und E'!AQ9)/('T und E'!$B10-'T und E'!$B9)) -> 0.00098624 | AR9: =ABS(('T und E'!AR10-'T und E'!AR9)/('T und E'!$B10-'T und E'!$B9)) -> 0.00098476667 | AS9: =ABS(('T und E'!AS10-'T und E'!AS9)/('T und E'!$B10-'T und E'!$B9)) -> 0.00098074667 | AT9: =ABS(('T und E'!AT10-'T und E'!AT9)/('T und E'!$B10-'T und E'!$B9)) -> 0.00097159333 | AU9: =ABS(('T und E'!AU10-'T und E'!AU9)/('T und E'!$B10-'T und E'!$B9)) -> 0.00095092667 | AV9: =ABS(('T und E'!AV10-'T und E'!AV9)/('T und E'!$B10-'T und E'!$B9)) -> 0.00081018 | AW9: =ABS(('T und E'!AW10-'T und E'!AW9)/('T und E'!$B10-'T und E'!$B9)) -> 0.00055453333 | AX9: =ABS(('T und E'!AX10-'T und E'!AX9)/('T und E'!$B10-'T und E'!$B9)) -> 0.00035017533 | ... BA9: =ABS(('T und E'!BA10-'T und E'!BA9)/('T und E'!$B10-'T und E'!$B9)) -> 0.00028407667
B10: ='T und E'!B10 -> 0.35 | C10: =ABS(('T und E'!C11-'T und E'!C10)/('T und E'!$B11-'T und E'!$B10)) -> 228.86667 | D10: =ABS(('T und E'!D11-'T und E'!D10)/('T und E'!$B11-'T und E'!$B10)) -> 228.88 | E10: =ABS(('T und E'!E11-'T und E'!E10)/('T und E'!$B11-'T und E'!$B10)) -> 228.98222 | F10: =ABS(('T und E'!F11-'T und E'!F10)/('T und E'!$B11-'T und E'!$B10)) -> 229.28889 | G10: =ABS(('T und E'!G11-'T und E'!G10)/('T und E'!$B11-'T und E'!$B10)) -> 229.87556 | H10: =ABS(('T und E'!H11-'T und E'!H10)/('T und E'!$B11-'T und E'!$B10)) -> 230.57333 | I10: =ABS(('T und E'!I11-'T und E'!I10)/('T und E'!$B11-'T und E'!$B10)) -> 147.82844 | J10: =ABS(('T und E'!J11-'T und E'!J10)/('T und E'!$B11-'T und E'!$B10)) -> 62.296444 | ... M10: =ABS(('T und E'!M11-'T und E'!M10)/('T und E'!$B11-'T und E'!$B10)) -> 1.5573333 | P10: ='T und E'!P10 -> 0.35 | Q10: =ABS(('T und E'!Q11-'T und E'!Q10)/('T und E'!$B11-'T und E'!$B10)) -> 0.0048561333 | R10: =ABS(('T und E'!R11-'T und E'!R10)/('T und E'!$B11-'T und E'!$B10)) -> 0.0048576444 | S10: =ABS(('T und E'!S11-'T und E'!S10)/('T und E'!$B11-'T und E'!$B10)) -> 0.0048617333 | T10: =ABS(('T und E'!T11-'T und E'!T10)/('T und E'!$B11-'T und E'!$B10)) -> 0.0048690667 | U10: =ABS(('T und E'!U11-'T und E'!U10)/('T und E'!$B11-'T und E'!$B10)) -> 0.0048768444 | V10: =ABS(('T und E'!V11-'T und E'!V10)/('T und E'!$B11-'T und E'!$B10)) -> 0.0043575556 | W10: =ABS(('T und E'!W11-'T und E'!W10)/('T und E'!$B11-'T und E'!$B10)) -> 0.0029367111 | X10: =ABS(('T und E'!X11-'T und E'!X10)/('T und E'!$B11-'T und E'!$B10)) -> 0.0014468222 | ... AA10: =ABS(('T und E'!AA11-'T und E'!AA10)/('T und E'!$B11-'T und E'!$B10)) -> 0.00023076889 | AC10: ='T und E'!AC10 -> 0.35 | AD10: =ABS(('T und E'!AD11-'T und E'!AD10)/('T und E'!$B11-'T und E'!$B10)) -> 0.0015031778 | AE10: =ABS(('T und E'!AE11-'T und E'!AE10)/('T und E'!$B11-'T und E'!$B10)) -> 0.0015023156 | AF10: =ABS(('T und E'!AF11-'T und E'!AF10)/('T und E'!$B11-'T und E'!$B10)) -> 0.0015001911 | AG10: =ABS(('T und E'!AG11-'T und E'!AG10)/('T und E'!$B11-'T und E'!$B10)) -> 0.00149548 | AH10: =ABS(('T und E'!AH11-'T und E'!AH10)/('T und E'!$B11-'T und E'!$B10)) -> 0.0014850133 | AI10: =ABS(('T und E'!AI11-'T und E'!AI10)/('T und E'!$B11-'T und E'!$B10)) -> 0.0013941333 | AJ10: =ABS(('T und E'!AJ11-'T und E'!AJ10)/('T und E'!$B11-'T und E'!$B10)) -> 0.0011838933 | AK10: =ABS(('T und E'!AK11-'T und E'!AK10)/('T und E'!$B11-'T und E'!$B10)) -> 0.00092904889 | ... AN10: =ABS(('T und E'!AN11-'T und E'!AN10)/('T und E'!$B11-'T und E'!$B10)) -> 0.00043998667 | AP10: ='T und E'!AP10 -> 0.35 | AQ10: =ABS(('T und E'!AQ11-'T und E'!AQ10)/('T und E'!$B11-'T und E'!$B10)) -> 0.00092069778 | AR10: =ABS(('T und E'!AR11-'T und E'!AR10)/('T und E'!$B11-'T und E'!$B10)) -> 0.00091967556 | AS10: =ABS(('T und E'!AS11-'T und E'!AS10)/('T und E'!$B11-'T und E'!$B10)) -> 0.00091679556 | AT10: =ABS(('T und E'!AT11-'T und E'!AT10)/('T und E'!$B11-'T und E'!$B10)) -> 0.00091022222 | AU10: =ABS(('T und E'!AU11-'T und E'!AU10)/('T und E'!$B11-'T und E'!$B10)) -> 0.00089561778 | AV10: =ABS(('T und E'!AV11-'T und E'!AV10)/('T und E'!$B11-'T und E'!$B10)) -> 0.00078832 | AW10: =ABS(('T und E'!AW11-'T und E'!AW10)/('T und E'!$B11-'T und E'!$B10)) -> 0.00057252 | AX10: =ABS(('T und E'!AX11-'T und E'!AX10)/('T und E'!$B11-'T und E'!$B10)) -> 0.00037108444 | ... BA10: =ABS(('T und E'!BA11-'T und E'!BA10)/('T und E'!$B11-'T und E'!$B10)) -> 0.00024623111
B11: ='T und E'!B11 -> 0.575 | C11: =ABS(('T und E'!C12-'T und E'!C11)/('T und E'!$B12-'T und E'!$B11)) -> 166.62815 | D11: =ABS(('T und E'!D12-'T und E'!D11)/('T und E'!$B12-'T und E'!$B11)) -> 166.64296 | E11: =ABS(('T und E'!E12-'T und E'!E11)/('T und E'!$B12-'T und E'!$B11)) -> 166.71704 | F11: =ABS(('T und E'!F12-'T und E'!F11)/('T und E'!$B12-'T und E'!$B11)) -> 166.96296 | G11: =ABS(('T und E'!G12-'T und E'!G11)/('T und E'!$B12-'T und E'!$B11)) -> 167.41333 | H11: =ABS(('T und E'!H12-'T und E'!H11)/('T und E'!$B12-'T und E'!$B11)) -> 167.89333 | I11: =ABS(('T und E'!I12-'T und E'!I11)/('T und E'!$B12-'T und E'!$B11)) -> 134.33244 | J11: =ABS(('T und E'!J12-'T und E'!J11)/('T und E'!$B12-'T und E'!$B11)) -> 76.72 | ... M11: =ABS(('T und E'!M12-'T und E'!M11)/('T und E'!$B12-'T und E'!$B11)) -> 4.4527407 | P11: ='T und E'!P11 -> 0.575 | Q11: =ABS(('T und E'!Q12-'T und E'!Q11)/('T und E'!$B12-'T und E'!$B11)) -> 0.0035246519 | R11: =ABS(('T und E'!R12-'T und E'!R11)/('T und E'!$B12-'T und E'!$B11)) -> 0.0035257481 | S11: =ABS(('T und E'!S12-'T und E'!S11)/('T und E'!$B12-'T und E'!$B11)) -> 0.0035289185 | T11: =ABS(('T und E'!T12-'T und E'!T11)/('T und E'!$B12-'T und E'!$B11)) -> 0.0035345778 | U11: =ABS(('T und E'!U12-'T und E'!U11)/('T und E'!$B12-'T und E'!$B11)) -> 0.0035398222 | V11: =ABS(('T und E'!V12-'T und E'!V11)/('T und E'!$B12-'T und E'!$B11)) -> 0.0033135704 | W11: =ABS(('T und E'!W12-'T und E'!W11)/('T und E'!$B12-'T und E'!$B11)) -> 0.0025466963 | X11: =ABS(('T und E'!X12-'T und E'!X11)/('T und E'!$B12-'T und E'!$B11)) -> 0.0015514874 | ... AA11: =ABS(('T und E'!AA12-'T und E'!AA11)/('T und E'!$B12-'T und E'!$B11)) -> 0.00025321778 | AC11: ='T und E'!AC11 -> 0.575 | AD11: =ABS(('T und E'!AD12-'T und E'!AD11)/('T und E'!$B12-'T und E'!$B11)) -> 0.0013435911 | AE11: =ABS(('T und E'!AE12-'T und E'!AE11)/('T und E'!$B12-'T und E'!$B11)) -> 0.0013428089 | AF11: =ABS(('T und E'!AF12-'T und E'!AF11)/('T und E'!$B12-'T und E'!$B11)) -> 0.0013409156 | AG11: =ABS(('T und E'!AG12-'T und E'!AG11)/('T und E'!$B12-'T und E'!$B11)) -> 0.0013367022 | AH11: =ABS(('T und E'!AH12-'T und E'!AH11)/('T und E'!$B12-'T und E'!$B11)) -> 0.0013274637 | AI11: =ABS(('T und E'!AI12-'T und E'!AI11)/('T und E'!$B12-'T und E'!$B11)) -> 0.0012519822 | AJ11: =ABS(('T und E'!AJ12-'T und E'!AJ11)/('T und E'!$B12-'T und E'!$B11)) -> 0.0010825541 | AK11: =ABS(('T und E'!AK12-'T und E'!AK11)/('T und E'!$B12-'T und E'!$B11)) -> 0.00088043852 | ... AN11: =ABS(('T und E'!AN12-'T und E'!AN11)/('T und E'!$B12-'T und E'!$B11)) -> 0.00047424593 | AP11: ='T und E'!AP11 -> 0.575 | AQ11: =ABS(('T und E'!AQ12-'T und E'!AQ11)/('T und E'!$B12-'T und E'!$B11)) -> 0.00085199111 | AR11: =ABS(('T und E'!AR12-'T und E'!AR11)/('T und E'!$B12-'T und E'!$B11)) -> 0.00085132148 | AS11: =ABS(('T und E'!AS12-'T und E'!AS11)/('T und E'!$B12-'T und E'!$B11)) -> 0.00084936889 | AT11: =ABS(('T und E'!AT12-'T und E'!AT11)/('T und E'!$B12-'T und E'!$B11)) -> 0.00084488 | AU11: =ABS(('T und E'!AU12-'T und E'!AU11)/('T und E'!$B12-'T und E'!$B11)) -> 0.0008349037 | AV11: =ABS(('T und E'!AV12-'T und E'!AV11)/('T und E'!$B12-'T und E'!$B11)) -> 0.00075548444 | AW11: =ABS(('T und E'!AW12-'T und E'!AW11)/('T und E'!$B12-'T und E'!$B11)) -> 0.00058263407 | AX11: =ABS(('T und E'!AX12-'T und E'!AX11)/('T und E'!$B12-'T und E'!$B11)) -> 0.00039961778 | ... BA11: =ABS(('T und E'!BA12-'T und E'!BA11)/('T und E'!$B12-'T und E'!$B11)) -> 0.00021650074
B12: ='T und E'!B12 -> 0.9125 | C12: =ABS(('T und E'!C13-'T und E'!C12)/('T und E'!$B13-'T und E'!$B12)) -> 122.87802 | D12: =ABS(('T und E'!D13-'T und E'!D12)/('T und E'!$B13-'T und E'!$B12)) -> 122.88395 | E12: =ABS(('T und E'!E13-'T und E'!E12)/('T und E'!$B13-'T und E'!$B12)) -> 122.92543 | F12: =ABS(('T und E'!F13-'T und E'!F12)/('T und E'!$B13-'T und E'!$B12)) -> 123.05185 | G12: =ABS(('T und E'!G13-'T und E'!G12)/('T und E'!$B13-'T und E'!$B12)) -> 123.26321 | H12: =ABS(('T und E'!H13-'T und E'!H12)/('T und E'!$B13-'T und E'!$B12)) -> 123.49432 | I12: =ABS(('T und E'!I13-'T und E'!I12)/('T und E'!$B13-'T und E'!$B12)) -> 111.60099 | J12: =ABS(('T und E'!J13-'T und E'!J12)/('T und E'!$B13-'T und E'!$B12)) -> 80.46321 | ... M12: =ABS(('T und E'!M13-'T und E'!M12)/('T und E'!$B13-'T und E'!$B12)) -> 10.569086 | P12: ='T und E'!P12 -> 0.9125 | Q12: =ABS(('T und E'!Q13-'T und E'!Q12)/('T und E'!$B13-'T und E'!$B12)) -> 0.0030865185 | R12: =ABS(('T und E'!R13-'T und E'!R12)/('T und E'!$B13-'T und E'!$B12)) -> 0.0030890864 | S12: =ABS(('T und E'!S13-'T und E'!S12)/('T und E'!$B13-'T und E'!$B12)) -> 0.003084563 | T12: =ABS(('T und E'!T13-'T und E'!T12)/('T und E'!$B13-'T und E'!$B12)) -> 0.0030418765 | U12: =ABS(('T und E'!U13-'T und E'!U12)/('T und E'!$B13-'T und E'!$B12)) -> 0.0028948543 | V12: =ABS(('T und E'!V13-'T und E'!V12)/('T und E'!$B13-'T und E'!$B12)) -> 0.0025111111 | W12: =ABS(('T und E'!W13-'T und E'!W12)/('T und E'!$B13-'T und E'!$B12)) -> 0.0021310025 | X12: =ABS(('T und E'!X13-'T und E'!X12)/('T und E'!$B13-'T und E'!$B12)) -> 0.0015336494 | ... AA12: =ABS(('T und E'!AA13-'T und E'!AA12)/('T und E'!$B13-'T und E'!$B12)) -> 0.00032748247 | AC12: ='T und E'!AC12 -> 0.9125 | AD12: =ABS(('T und E'!AD13-'T und E'!AD12)/('T und E'!$B13-'T und E'!$B12)) -> 0.001155358 | AE12: =ABS(('T und E'!AE13-'T und E'!AE12)/('T und E'!$B13-'T und E'!$B12)) -> 0.0011547852 | AF12: =ABS(('T und E'!AF13-'T und E'!AF12)/('T und E'!$B13-'T und E'!$B12)) -> 0.001153284 | AG12: =ABS(('T und E'!AG13-'T und E'!AG12)/('T und E'!$B13-'T und E'!$B12)) -> 0.0011498864 | AH12: =ABS(('T und E'!AH13-'T und E'!AH12)/('T und E'!$B13-'T und E'!$B12)) -> 0.0011415506 | AI12: =ABS(('T und E'!AI13-'T und E'!AI12)/('T und E'!$B13-'T und E'!$B12)) -> 0.0010904296 | AJ12: =ABS(('T und E'!AJ13-'T und E'!AJ12)/('T und E'!$B13-'T und E'!$B12)) -> 0.00097538765 | AK12: =ABS(('T und E'!AK13-'T und E'!AK12)/('T und E'!$B13-'T und E'!$B12)) -> 0.00083157728 | ... AN12: =ABS(('T und E'!AN13-'T und E'!AN12)/('T und E'!$B13-'T und E'!$B12)) -> 0.00050682074 | AP12: ='T und E'!AP12 -> 0.9125 | AQ12: =ABS(('T und E'!AQ13-'T und E'!AQ12)/('T und E'!$B13-'T und E'!$B12)) -> 0.00079058173 | AR12: =ABS(('T und E'!AR13-'T und E'!AR12)/('T und E'!$B13-'T und E'!$B12)) -> 0.00078999506 | AS12: =ABS(('T und E'!AS13-'T und E'!AS12)/('T und E'!$B13-'T und E'!$B12)) -> 0.00078830222 | AT12: =ABS(('T und E'!AT13-'T und E'!AT12)/('T und E'!$B13-'T und E'!$B12)) -> 0.00078440889 | AU12: =ABS(('T und E'!AU13-'T und E'!AU12)/('T und E'!$B13-'T und E'!$B12)) -> 0.00077601975 | AV12: =ABS(('T und E'!AV13-'T und E'!AV12)/('T und E'!$B13-'T und E'!$B12)) -> 0.00071828543 | AW12: =ABS(('T und E'!AW13-'T und E'!AW12)/('T und E'!$B13-'T und E'!$B12)) -> 0.00058706963 | AX12: =ABS(('T und E'!AX13-'T und E'!AX12)/('T und E'!$B13-'T und E'!$B12)) -> 0.00043124741 | ... BA12: =ABS(('T und E'!BA13-'T und E'!BA12)/('T und E'!$B13-'T und E'!$B12)) -> 0.00020324346
B13: ='T und E'!B13 -> 1.41875 | C13: =ABS(('T und E'!C14-'T und E'!C13)/('T und E'!$B14-'T und E'!$B13)) -> 95.535 | D13: =ABS(('T und E'!D14-'T und E'!D13)/('T und E'!$B14-'T und E'!$B13)) -> 95.54 | E13: =ABS(('T und E'!E14-'T und E'!E13)/('T und E'!$B14-'T und E'!$B13)) -> 95.561667 | F13: =ABS(('T und E'!F14-'T und E'!F13)/('T und E'!$B14-'T und E'!$B13)) -> 95.623333 | G13: =ABS(('T und E'!G14-'T und E'!G13)/('T und E'!$B14-'T und E'!$B13)) -> 95.706667 | H13: =ABS(('T und E'!H14-'T und E'!H13)/('T und E'!$B14-'T und E'!$B13)) -> 95.74 | I13: =ABS(('T und E'!I14-'T und E'!I13)/('T und E'!$B14-'T und E'!$B13)) -> 90.211667 | J13: =ABS(('T und E'!J14-'T und E'!J13)/('T und E'!$B14-'T und E'!$B13)) -> 74.42 | ... M13: =ABS(('T und E'!M14-'T und E'!M13)/('T und E'!$B14-'T und E'!$B13)) -> 18.822333 | P13: ='T und E'!P13 -> 1.41875 | Q13: =ABS(('T und E'!Q14-'T und E'!Q13)/('T und E'!$B14-'T und E'!$B13)) -> 0.0026219833 | R13: =ABS(('T und E'!R14-'T und E'!R13)/('T und E'!$B14-'T und E'!$B13)) -> 0.0026235167 | S13: =ABS(('T und E'!S14-'T und E'!S13)/('T und E'!$B14-'T und E'!$B13)) -> 0.0026294833 | T13: =ABS(('T und E'!T14-'T und E'!T13)/('T und E'!$B14-'T und E'!$B13)) -> 0.00264755 | U13: =ABS(('T und E'!U14-'T und E'!U13)/('T und E'!$B14-'T und E'!$B13)) -> 0.0026905 | V13: =ABS(('T und E'!V14-'T und E'!V13)/('T und E'!$B14-'T und E'!$B13)) -> 0.0023025167 | W13: =ABS(('T und E'!W14-'T und E'!W13)/('T und E'!$B14-'T und E'!$B13)) -> 0.0017462 | X13: =ABS(('T und E'!X14-'T und E'!X13)/('T und E'!$B14-'T und E'!$B13)) -> 0.0013922167 | ... AA13: =ABS(('T und E'!AA14-'T und E'!AA13)/('T und E'!$B14-'T und E'!$B13)) -> 0.00042318 | AC13: ='T und E'!AC13 -> 1.41875 | AD13: =ABS(('T und E'!AD14-'T und E'!AD13)/('T und E'!$B14-'T und E'!$B13)) -> 0.0010065 | AE13: =ABS(('T und E'!AE14-'T und E'!AE13)/('T und E'!$B14-'T und E'!$B13)) -> 0.0010059833 | AF13: =ABS(('T und E'!AF14-'T und E'!AF13)/('T und E'!$B14-'T und E'!$B13)) -> 0.0010047 | AG13: =ABS(('T und E'!AG14-'T und E'!AG13)/('T und E'!$B14-'T und E'!$B13)) -> 0.0010019167 | AH13: =ABS(('T und E'!AH14-'T und E'!AH13)/('T und E'!$B14-'T und E'!$B13)) -> 0.0009967 | AI13: =ABS(('T und E'!AI14-'T und E'!AI13)/('T und E'!$B14-'T und E'!$B13)) -> 0.00095375 | AJ13: =ABS(('T und E'!AJ14-'T und E'!AJ13)/('T und E'!$B14-'T und E'!$B13)) -> 0.00086515 | AK13: =ABS(('T und E'!AK14-'T und E'!AK13)/('T und E'!$B14-'T und E'!$B13)) -> 0.0007636 | ... AN13: =ABS(('T und E'!AN14-'T und E'!AN13)/('T und E'!$B14-'T und E'!$B13)) -> 0.00052674333 | AP13: ='T und E'!AP13 -> 1.41875 | AQ13: =ABS(('T und E'!AQ14-'T und E'!AQ13)/('T und E'!$B14-'T und E'!$B13)) -> 0.00073333333 | AR13: =ABS(('T und E'!AR14-'T und E'!AR13)/('T und E'!$B14-'T und E'!$B13)) -> 0.00073283333 | AS13: =ABS(('T und E'!AS14-'T und E'!AS13)/('T und E'!$B14-'T und E'!$B13)) -> 0.00073145 | AT13: =ABS(('T und E'!AT14-'T und E'!AT13)/('T und E'!$B14-'T und E'!$B13)) -> 0.0007283 | AU13: =ABS(('T und E'!AU14-'T und E'!AU13)/('T und E'!$B14-'T und E'!$B13)) -> 0.00072116667 | AV13: =ABS(('T und E'!AV14-'T und E'!AV13)/('T und E'!$B14-'T und E'!$B13)) -> 0.0006751 | AW13: =ABS(('T und E'!AW14-'T und E'!AW13)/('T und E'!$B14-'T und E'!$B13)) -> 0.00057607333 | AX13: =ABS(('T und E'!AX14-'T und E'!AX13)/('T und E'!$B14-'T und E'!$B13)) -> 0.00045158667 | ... BA13: =ABS(('T und E'!BA14-'T und E'!BA13)/('T und E'!$B14-'T und E'!$B13)) -> 0.00021105667
B14: ='T und E'!B14 -> 2.01875 | C14: =ABS(('T und E'!C15-'T und E'!C14)/('T und E'!$B15-'T und E'!$B14)) -> 76.48 | D14: =ABS(('T und E'!D15-'T und E'!D14)/('T und E'!$B15-'T und E'!$B14)) -> 76.485 | E14: =ABS(('T und E'!E15-'T und E'!E14)/('T und E'!$B15-'T und E'!$B14)) -> 76.51 | F14: =ABS(('T und E'!F15-'T und E'!F14)/('T und E'!$B15-'T und E'!$B14)) -> 76.591667 | G14: =ABS(('T und E'!G15-'T und E'!G14)/('T und E'!$B15-'T und E'!$B14)) -> 76.763333 | H14: =ABS(('T und E'!H15-'T und E'!H14)/('T und E'!$B15-'T und E'!$B14)) -> 77.04 | I14: =ABS(('T und E'!I15-'T und E'!I14)/('T und E'!$B15-'T und E'!$B14)) -> 74.758333 | J14: =ABS(('T und E'!J15-'T und E'!J14)/('T und E'!$B15-'T und E'!$B14)) -> 66.26 | ... M14: =ABS(('T und E'!M15-'T und E'!M14)/('T und E'!$B15-'T und E'!$B14)) -> 25.682 | P14: ='T und E'!P14 -> 2.01875 | Q14: =ABS(('T und E'!Q15-'T und E'!Q14)/('T und E'!$B15-'T und E'!$B14)) -> 0.0017385333 | R14: =ABS(('T und E'!R15-'T und E'!R14)/('T und E'!$B15-'T und E'!$B14)) -> 0.0017394 | S14: =ABS(('T und E'!S15-'T und E'!S14)/('T und E'!$B15-'T und E'!$B14)) -> 0.0017420333 | T14: =ABS(('T und E'!T15-'T und E'!T14)/('T und E'!$B15-'T und E'!$B14)) -> 0.0017480167 | U14: =ABS(('T und E'!U15-'T und E'!U14)/('T und E'!$B15-'T und E'!$B14)) -> 0.0017590833 | V14: =ABS(('T und E'!V15-'T und E'!V14)/('T und E'!$B15-'T und E'!$B14)) -> 0.0016629833 | W14: =ABS(('T und E'!W15-'T und E'!W14)/('T und E'!$B15-'T und E'!$B14)) -> 0.0014371333 | X14: =ABS(('T und E'!X15-'T und E'!X14)/('T und E'!$B15-'T und E'!$B14)) -> 0.0012394 | ... AA14: =ABS(('T und E'!AA15-'T und E'!AA14)/('T und E'!$B15-'T und E'!$B14)) -> 0.00049603833 | AC14: ='T und E'!AC14 -> 2.01875 | AD14: =ABS(('T und E'!AD15-'T und E'!AD14)/('T und E'!$B15-'T und E'!$B14)) -> 0.00090856667 | AE14: =ABS(('T und E'!AE15-'T und E'!AE14)/('T und E'!$B15-'T und E'!$B14)) -> 0.00090818333 | AF14: =ABS(('T und E'!AF15-'T und E'!AF14)/('T und E'!$B15-'T und E'!$B14)) -> 0.0009072 | AG14: =ABS(('T und E'!AG15-'T und E'!AG14)/('T und E'!$B15-'T und E'!$B14)) -> 0.00090508333 | AH14: =ABS(('T und E'!AH15-'T und E'!AH14)/('T und E'!$B15-'T und E'!$B14)) -> 0.00090043333 | AI14: =ABS(('T und E'!AI15-'T und E'!AI14)/('T und E'!$B15-'T und E'!$B14)) -> 0.00086578333 | AJ14: =ABS(('T und E'!AJ15-'T und E'!AJ14)/('T und E'!$B15-'T und E'!$B14)) -> 0.00079181667 | AK14: =ABS(('T und E'!AK15-'T und E'!AK14)/('T und E'!$B15-'T und E'!$B14)) -> 0.00070873333 | ... AN14: =ABS(('T und E'!AN15-'T und E'!AN14)/('T und E'!$B15-'T und E'!$B14)) -> 0.000526695 | AP14: ='T und E'!AP14 -> 2.01875 | AQ14: =ABS(('T und E'!AQ15-'T und E'!AQ14)/('T und E'!$B15-'T und E'!$B14)) -> 0.00067395 | AR14: =ABS(('T und E'!AR15-'T und E'!AR14)/('T und E'!$B15-'T und E'!$B14)) -> 0.0006737 | AS14: =ABS(('T und E'!AS15-'T und E'!AS14)/('T und E'!$B15-'T und E'!$B14)) -> 0.00067291667 | AT14: =ABS(('T und E'!AT15-'T und E'!AT14)/('T und E'!$B15-'T und E'!$B14)) -> 0.0006711 | AU14: =ABS(('T und E'!AU15-'T und E'!AU14)/('T und E'!$B15-'T und E'!$B14)) -> 0.00066705 | AV14: =ABS(('T und E'!AV15-'T und E'!AV14)/('T und E'!$B15-'T und E'!$B14)) -> 0.00063641667 | AW14: =ABS(('T und E'!AW15-'T und E'!AW14)/('T und E'!$B15-'T und E'!$B14)) -> 0.000564 | AX14: =ABS(('T und E'!AX15-'T und E'!AX14)/('T und E'!$B15-'T und E'!$B14)) -> 0.00046681833 | ... BA14: =ABS(('T und E'!BA15-'T und E'!BA14)/('T und E'!$B15-'T und E'!$B14)) -> 0.00024066333
B15: ='T und E'!B15 -> 2.61875 | C15: =ABS(('T und E'!C16-'T und E'!C15)/('T und E'!$B16-'T und E'!$B15)) -> 65.941667 | D15: =ABS(('T und E'!D16-'T und E'!D15)/('T und E'!$B16-'T und E'!$B15)) -> 65.943333 | E15: =ABS(('T und E'!E16-'T und E'!E15)/('T und E'!$B16-'T und E'!$B15)) -> 65.948333 | F15: =ABS(('T und E'!F16-'T und E'!F15)/('T und E'!$B16-'T und E'!$B15)) -> 65.958333 | G15: =ABS(('T und E'!G16-'T und E'!G15)/('T und E'!$B16-'T und E'!$B15)) -> 65.96 | H15: =ABS(('T und E'!H16-'T und E'!H15)/('T und E'!$B16-'T und E'!$B15)) -> 65.918333 | I15: =ABS(('T und E'!I16-'T und E'!I15)/('T und E'!$B16-'T und E'!$B15)) -> 64.345 | J15: =ABS(('T und E'!J16-'T und E'!J15)/('T und E'!$B16-'T und E'!$B15)) -> 59.101667 | ... M15: =ABS(('T und E'!M16-'T und E'!M15)/('T und E'!$B16-'T und E'!$B15)) -> 29.8555 | P15: ='T und E'!P15 -> 2.61875 | Q15: =ABS(('T und E'!Q16-'T und E'!Q15)/('T und E'!$B16-'T und E'!$B15)) -> 0.0015327333 | R15: =ABS(('T und E'!R16-'T und E'!R15)/('T und E'!$B16-'T und E'!$B15)) -> 0.0015335333 | S15: =ABS(('T und E'!S16-'T und E'!S15)/('T und E'!$B16-'T und E'!$B15)) -> 0.0015352833 | T15: =ABS(('T und E'!T16-'T und E'!T15)/('T und E'!$B16-'T und E'!$B15)) -> 0.0015389 | U15: =ABS(('T und E'!U16-'T und E'!U15)/('T und E'!$B16-'T und E'!$B15)) -> 0.0015451167 | V15: =ABS(('T und E'!V16-'T und E'!V15)/('T und E'!$B16-'T und E'!$B15)) -> 0.00155455 | W15: =ABS(('T und E'!W16-'T und E'!W15)/('T und E'!$B16-'T und E'!$B15)) -> 0.0013678167 | X15: =ABS(('T und E'!X16-'T und E'!X15)/('T und E'!$B16-'T und E'!$B15)) -> 0.00107985 | ... AA15: =ABS(('T und E'!AA16-'T und E'!AA15)/('T und E'!$B16-'T und E'!$B15)) -> 0.000506935 | AC15: ='T und E'!AC15 -> 2.61875 | AD15: =ABS(('T und E'!AD16-'T und E'!AD15)/('T und E'!$B16-'T und E'!$B15)) -> 0.00070336667 | AE15: =ABS(('T und E'!AE16-'T und E'!AE15)/('T und E'!$B16-'T und E'!$B15)) -> 0.00070285 | AF15: =ABS(('T und E'!AF16-'T und E'!AF15)/('T und E'!$B16-'T und E'!$B15)) -> 0.00070168333 | AG15: =ABS(('T und E'!AG16-'T und E'!AG15)/('T und E'!$B16-'T und E'!$B15)) -> 0.00069921667 | AH15: =ABS(('T und E'!AH16-'T und E'!AH15)/('T und E'!$B16-'T und E'!$B15)) -> 0.0006938 | AI15: =ABS(('T und E'!AI16-'T und E'!AI15)/('T und E'!$B16-'T und E'!$B15)) -> 0.00067058333 | AJ15: =ABS(('T und E'!AJ16-'T und E'!AJ15)/('T und E'!$B16-'T und E'!$B15)) -> 0.000651 | AK15: =ABS(('T und E'!AK16-'T und E'!AK15)/('T und E'!$B16-'T und E'!$B15)) -> 0.00064526667 | ... AN15: =ABS(('T und E'!AN16-'T und E'!AN15)/('T und E'!$B16-'T und E'!$B15)) -> 0.00053423333 | AP15: ='T und E'!AP15 -> 2.61875 | AQ15: =ABS(('T und E'!AQ16-'T und E'!AQ15)/('T und E'!$B16-'T und E'!$B15)) -> 0.00064935 | AR15: =ABS(('T und E'!AR16-'T und E'!AR15)/('T und E'!$B16-'T und E'!$B15)) -> 0.00064915 | AS15: =ABS(('T und E'!AS16-'T und E'!AS15)/('T und E'!$B16-'T und E'!$B15)) -> 0.00064851667 | AT15: =ABS(('T und E'!AT16-'T und E'!AT15)/('T und E'!$B16-'T und E'!$B15)) -> 0.000647 | AU15: =ABS(('T und E'!AU16-'T und E'!AU15)/('T und E'!$B16-'T und E'!$B15)) -> 0.00064363333 | AV15: =ABS(('T und E'!AV16-'T und E'!AV15)/('T und E'!$B16-'T und E'!$B15)) -> 0.00061295 | AW15: =ABS(('T und E'!AW16-'T und E'!AW15)/('T und E'!$B16-'T und E'!$B15)) -> 0.00054165 | AX15: =ABS(('T und E'!AX16-'T und E'!AX15)/('T und E'!$B16-'T und E'!$B15)) -> 0.00045623333 | ... BA15: =ABS(('T und E'!BA16-'T und E'!BA15)/('T und E'!$B16-'T und E'!$B15)) -> 0.00025827167
B16: ='T und E'!B16 -> 3.21875 | C16: =ABS(('T und E'!C17-'T und E'!C16)/('T und E'!$B17-'T und E'!$B16)) -> 58.028333 | D16: =ABS(('T und E'!D17-'T und E'!D16)/('T und E'!$B17-'T und E'!$B16)) -> 58.03 | E16: =ABS(('T und E'!E17-'T und E'!E16)/('T und E'!$B17-'T und E'!$B16)) -> 58.043333 | F16: =ABS(('T und E'!F17-'T und E'!F16)/('T und E'!$B17-'T und E'!$B16)) -> 58.08 | G16: =ABS(('T und E'!G17-'T und E'!G16)/('T und E'!$B17-'T und E'!$B16)) -> 58.138333 | H16: =ABS(('T und E'!H17-'T und E'!H16)/('T und E'!$B17-'T und E'!$B16)) -> 58.203333 | I16: =ABS(('T und E'!I17-'T und E'!I16)/('T und E'!$B17-'T und E'!$B16)) -> 56.998333 | J16: =ABS(('T und E'!J17-'T und E'!J16)/('T und E'!$B17-'T und E'!$B16)) -> 53.183333 | ... M16: =ABS(('T und E'!M17-'T und E'!M16)/('T und E'!$B17-'T und E'!$B16)) -> 31.938333 | P16: ='T und E'!P16 -> 3.21875 | Q16: =ABS(('T und E'!Q17-'T und E'!Q16)/('T und E'!$B17-'T und E'!$B16)) -> 0.0012711667 | R16: =ABS(('T und E'!R17-'T und E'!R16)/('T und E'!$B17-'T und E'!$B16)) -> 0.0012718333 | S16: =ABS(('T und E'!S17-'T und E'!S16)/('T und E'!$B17-'T und E'!$B16)) -> 0.001275 | T16: =ABS(('T und E'!T17-'T und E'!T16)/('T und E'!$B17-'T und E'!$B16)) -> 0.001284 | U16: =ABS(('T und E'!U17-'T und E'!U16)/('T und E'!$B17-'T und E'!$B16)) -> 0.001306 | V16: =ABS(('T und E'!V17-'T und E'!V16)/('T und E'!$B17-'T und E'!$B16)) -> 0.0013522 | W16: =ABS(('T und E'!W17-'T und E'!W16)/('T und E'!$B17-'T und E'!$B16)) -> 0.00120515 | X16: =ABS(('T und E'!X17-'T und E'!X16)/('T und E'!$B17-'T und E'!$B16)) -> 0.00096933333 | ... AA16: =ABS(('T und E'!AA17-'T und E'!AA16)/('T und E'!$B17-'T und E'!$B16)) -> 0.00049368333 | AC16: ='T und E'!AC16 -> 3.21875 | AD16: =ABS(('T und E'!AD17-'T und E'!AD16)/('T und E'!$B17-'T und E'!$B16)) -> 0.00058878333 | AE16: =ABS(('T und E'!AE17-'T und E'!AE16)/('T und E'!$B17-'T und E'!$B16)) -> 0.00058868333 | AF16: =ABS(('T und E'!AF17-'T und E'!AF16)/('T und E'!$B17-'T und E'!$B16)) -> 0.0005884 | AG16: =ABS(('T und E'!AG17-'T und E'!AG16)/('T und E'!$B17-'T und E'!$B16)) -> 0.00058773333 | AH16: =ABS(('T und E'!AH17-'T und E'!AH16)/('T und E'!$B17-'T und E'!$B16)) -> 0.0005867 | AI16: =ABS(('T und E'!AI17-'T und E'!AI16)/('T und E'!$B17-'T und E'!$B16)) -> 0.0005786 | AJ16: =ABS(('T und E'!AJ17-'T und E'!AJ16)/('T und E'!$B17-'T und E'!$B16)) -> 0.00057166667 | AK16: =ABS(('T und E'!AK17-'T und E'!AK16)/('T und E'!$B17-'T und E'!$B16)) -> 0.00057473333 | ... AN16: =ABS(('T und E'!AN17-'T und E'!AN16)/('T und E'!$B17-'T und E'!$B16)) -> 0.00053388333 | AP16: ='T und E'!AP16 -> 3.21875 | AQ16: =ABS(('T und E'!AQ17-'T und E'!AQ16)/('T und E'!$B17-'T und E'!$B16)) -> 0.00060203333 | AR16: =ABS(('T und E'!AR17-'T und E'!AR16)/('T und E'!$B17-'T und E'!$B16)) -> 0.00060188333 | AS16: =ABS(('T und E'!AS17-'T und E'!AS16)/('T und E'!$B17-'T und E'!$B16)) -> 0.00060138333 | AT16: =ABS(('T und E'!AT17-'T und E'!AT16)/('T und E'!$B17-'T und E'!$B16)) -> 0.00060025 | AU16: =ABS(('T und E'!AU17-'T und E'!AU16)/('T und E'!$B17-'T und E'!$B16)) -> 0.00059765 | AV16: =ABS(('T und E'!AV17-'T und E'!AV16)/('T und E'!$B17-'T und E'!$B16)) -> 0.0005722 | AW16: =ABS(('T und E'!AW17-'T und E'!AW16)/('T und E'!$B17-'T und E'!$B16)) -> 0.00051246667 | AX16: =ABS(('T und E'!AX17-'T und E'!AX16)/('T und E'!$B17-'T und E'!$B16)) -> 0.00044046667 | ... BA16: =ABS(('T und E'!BA17-'T und E'!BA16)/('T und E'!$B17-'T und E'!$B16)) -> 0.000267835
B17: ='T und E'!B17 -> 3.81875 | C17: =ABS(('T und E'!C18-'T und E'!C17)/('T und E'!$B18-'T und E'!$B17)) -> 52.541667 | D17: =ABS(('T und E'!D18-'T und E'!D17)/('T und E'!$B18-'T und E'!$B17)) -> 52.543333 | E17: =ABS(('T und E'!E18-'T und E'!E17)/('T und E'!$B18-'T und E'!$B17)) -> 52.551667 | F17: =ABS(('T und E'!F18-'T und E'!F17)/('T und E'!$B18-'T und E'!$B17)) -> 52.566667 | G17: =ABS(('T und E'!G18-'T und E'!G17)/('T und E'!$B18-'T und E'!$B17)) -> 52.581667 | H17: =ABS(('T und E'!H18-'T und E'!H17)/('T und E'!$B18-'T und E'!$B17)) -> 52.565 | I17: =ABS(('T und E'!I18-'T und E'!I17)/('T und E'!$B18-'T und E'!$B17)) -> 51.461667 | J17: =ABS(('T und E'!J18-'T und E'!J17)/('T und E'!$B18-'T und E'!$B17)) -> 48.678333 | ... M17: =ABS(('T und E'!M18-'T und E'!M17)/('T und E'!$B18-'T und E'!$B17)) -> 32.851333 | P17: ='T und E'!P17 -> 3.81875 | Q17: =ABS(('T und E'!Q18-'T und E'!Q17)/('T und E'!$B18-'T und E'!$B17)) -> 0.00143 | R17: =ABS(('T und E'!R18-'T und E'!R17)/('T und E'!$B18-'T und E'!$B17)) -> 0.0014291667 | S17: =ABS(('T und E'!S18-'T und E'!S17)/('T und E'!$B18-'T und E'!$B17)) -> 0.001419 | T17: =ABS(('T und E'!T18-'T und E'!T17)/('T und E'!$B18-'T und E'!$B17)) -> 0.0013723333 | U17: =ABS(('T und E'!U18-'T und E'!U17)/('T und E'!$B18-'T und E'!$B17)) -> 0.0012326667 | V17: =ABS(('T und E'!V18-'T und E'!V17)/('T und E'!$B18-'T und E'!$B17)) -> 0.00113075 | W17: =ABS(('T und E'!W18-'T und E'!W17)/('T und E'!$B18-'T und E'!$B17)) -> 0.0010474167 | X17: =ABS(('T und E'!X18-'T und E'!X17)/('T und E'!$B18-'T und E'!$B17)) -> 0.00087628333 | ... AA17: =ABS(('T und E'!AA18-'T und E'!AA17)/('T und E'!$B18-'T und E'!$B17)) -> 0.00050136667 | AC17: ='T und E'!AC17 -> 3.81875 | AD17: =ABS(('T und E'!AD18-'T und E'!AD17)/('T und E'!$B18-'T und E'!$B17)) -> 0.00058826667 | AE17: =ABS(('T und E'!AE18-'T und E'!AE17)/('T und E'!$B18-'T und E'!$B17)) -> 0.00058793333 | AF17: =ABS(('T und E'!AF18-'T und E'!AF17)/('T und E'!$B18-'T und E'!$B17)) -> 0.00058723333 | AG17: =ABS(('T und E'!AG18-'T und E'!AG17)/('T und E'!$B18-'T und E'!$B17)) -> 0.00058613333 | AH17: =ABS(('T und E'!AH18-'T und E'!AH17)/('T und E'!$B18-'T und E'!$B17)) -> 0.0005835 | AI17: =ABS(('T und E'!AI18-'T und E'!AI17)/('T und E'!$B18-'T und E'!$B17)) -> 0.00057598333 | AJ17: =ABS(('T und E'!AJ18-'T und E'!AJ17)/('T und E'!$B18-'T und E'!$B17)) -> 0.00056716667 | AK17: =ABS(('T und E'!AK18-'T und E'!AK17)/('T und E'!$B18-'T und E'!$B17)) -> 0.00055713333 | ... AN17: =ABS(('T und E'!AN18-'T und E'!AN17)/('T und E'!$B18-'T und E'!$B17)) -> 0.0005145 | AP17: ='T und E'!AP17 -> 3.81875 | AQ17: =ABS(('T und E'!AQ18-'T und E'!AQ17)/('T und E'!$B18-'T und E'!$B17)) -> 0.00057368333 | AR17: =ABS(('T und E'!AR18-'T und E'!AR17)/('T und E'!$B18-'T und E'!$B17)) -> 0.00057345 | AS17: =ABS(('T und E'!AS18-'T und E'!AS17)/('T und E'!$B18-'T und E'!$B17)) -> 0.00057281667 | AT17: =ABS(('T und E'!AT18-'T und E'!AT17)/('T und E'!$B18-'T und E'!$B17)) -> 0.00057131667 | AU17: =ABS(('T und E'!AU18-'T und E'!AU17)/('T und E'!$B18-'T und E'!$B17)) -> 0.0005683 | AV17: =ABS(('T und E'!AV18-'T und E'!AV17)/('T und E'!$B18-'T und E'!$B17)) -> 0.00054816667 | AW17: =ABS(('T und E'!AW18-'T und E'!AW17)/('T und E'!$B18-'T und E'!$B17)) -> 0.00050131667 | AX17: =ABS(('T und E'!AX18-'T und E'!AX17)/('T und E'!$B18-'T und E'!$B17)) -> 0.0004436 | ... BA17: =ABS(('T und E'!BA18-'T und E'!BA17)/('T und E'!$B18-'T und E'!$B17)) -> 0.00029289833
B18: ='T und E'!B18 -> 4.41875 | C18: =ABS(('T und E'!C19-'T und E'!C18)/('T und E'!$B19-'T und E'!$B18)) -> 48.508333 | D18: =ABS(('T und E'!D19-'T und E'!D18)/('T und E'!$B19-'T und E'!$B18)) -> 48.511667 | E18: =ABS(('T und E'!E19-'T und E'!E18)/('T und E'!$B19-'T und E'!$B18)) -> 48.515 | F18: =ABS(('T und E'!F19-'T und E'!F18)/('T und E'!$B19-'T und E'!$B18)) -> 48.518333 | G18: =ABS(('T und E'!G19-'T und E'!G18)/('T und E'!$B19-'T und E'!$B18)) -> 48.5 | H18: =ABS(('T und E'!H19-'T und E'!H18)/('T und E'!$B19-'T und E'!$B18)) -> 48.421667 | I18: =ABS(('T und E'!I19-'T und E'!I18)/('T und E'!$B19-'T und E'!$B18)) -> 47.235 | J18: =ABS(('T und E'!J19-'T und E'!J18)/('T und E'!$B19-'T und E'!$B18)) -> 45.108333 | ... M18: =ABS(('T und E'!M19-'T und E'!M18)/('T und E'!$B19-'T und E'!$B18)) -> 33.018333 | P18: ='T und E'!P18 -> 4.41875 | Q18: =ABS(('T und E'!Q19-'T und E'!Q18)/('T und E'!$B19-'T und E'!$B18)) -> 0.0017878333 | R18: =ABS(('T und E'!R19-'T und E'!R18)/('T und E'!$B19-'T und E'!$B18)) -> 0.001788 | S18: =ABS(('T und E'!S19-'T und E'!S18)/('T und E'!$B19-'T und E'!$B18)) -> 0.001787 | T18: =ABS(('T und E'!T19-'T und E'!T18)/('T und E'!$B19-'T und E'!$B18)) -> 0.0017801667 | U18: =ABS(('T und E'!U19-'T und E'!U18)/('T und E'!$B19-'T und E'!$B18)) -> 0.0017563333 | V18: =ABS(('T und E'!V19-'T und E'!V18)/('T und E'!$B19-'T und E'!$B18)) -> 0.0013288333 | W18: =ABS(('T und E'!W19-'T und E'!W18)/('T und E'!$B19-'T und E'!$B18)) -> 0.00094831667 | X18: =ABS(('T und E'!X19-'T und E'!X18)/('T und E'!$B19-'T und E'!$B18)) -> 0.00080061667 | ... AA18: =ABS(('T und E'!AA19-'T und E'!AA18)/('T und E'!$B19-'T und E'!$B18)) -> 0.00049588333 | AC18: ='T und E'!AC18 -> 4.41875 | AD18: =ABS(('T und E'!AD19-'T und E'!AD18)/('T und E'!$B19-'T und E'!$B18)) -> 0.00052948333 | AE18: =ABS(('T und E'!AE19-'T und E'!AE18)/('T und E'!$B19-'T und E'!$B18)) -> 0.0005295 | AF18: =ABS(('T und E'!AF19-'T und E'!AF18)/('T und E'!$B19-'T und E'!$B18)) -> 0.00052938333 | AG18: =ABS(('T und E'!AG19-'T und E'!AG18)/('T und E'!$B19-'T und E'!$B18)) -> 0.0005286 | AH18: =ABS(('T und E'!AH19-'T und E'!AH18)/('T und E'!$B19-'T und E'!$B18)) -> 0.00052641667 | AI18: =ABS(('T und E'!AI19-'T und E'!AI18)/('T und E'!$B19-'T und E'!$B18)) -> 0.00052493333 | AJ18: =ABS(('T und E'!AJ19-'T und E'!AJ18)/('T und E'!$B19-'T und E'!$B18)) -> 0.00053086667 | AK18: =ABS(('T und E'!AK19-'T und E'!AK18)/('T und E'!$B19-'T und E'!$B18)) -> 0.00053638333 | ... AN18: =ABS(('T und E'!AN19-'T und E'!AN18)/('T und E'!$B19-'T und E'!$B18)) -> 0.0005037 | AP18: ='T und E'!AP18 -> 4.41875 | AQ18: =ABS(('T und E'!AQ19-'T und E'!AQ18)/('T und E'!$B19-'T und E'!$B18)) -> 0.00055788333 | AR18: =ABS(('T und E'!AR19-'T und E'!AR18)/('T und E'!$B19-'T und E'!$B18)) -> 0.00055751667 | AS18: =ABS(('T und E'!AS19-'T und E'!AS18)/('T und E'!$B19-'T und E'!$B18)) -> 0.0005566 | AT18: =ABS(('T und E'!AT19-'T und E'!AT18)/('T und E'!$B19-'T und E'!$B18)) -> 0.00055455 | AU18: =ABS(('T und E'!AU19-'T und E'!AU18)/('T und E'!$B19-'T und E'!$B18)) -> 0.00055003333 | AV18: =ABS(('T und E'!AV19-'T und E'!AV18)/('T und E'!$B19-'T und E'!$B18)) -> 0.00052758333 | AW18: =ABS(('T und E'!AW19-'T und E'!AW18)/('T und E'!$B19-'T und E'!$B18)) -> 0.00048681667 | AX18: =ABS(('T und E'!AX19-'T und E'!AX18)/('T und E'!$B19-'T und E'!$B18)) -> 0.00043825 | ... BA18: =ABS(('T und E'!BA19-'T und E'!BA18)/('T und E'!$B19-'T und E'!$B18)) -> 0.00031071667
... B46: ='T und E'!B46 -> 8.44897 | C46: =ABS(('T und E'!C47-'T und E'!C46)/('T und E'!$B47-'T und E'!$B46)) -> 971.96262 | D46: =ABS(('T und E'!D47-'T und E'!D46)/('T und E'!$B47-'T und E'!$B46)) -> 973.13084 | E46: =ABS(('T und E'!E47-'T und E'!E46)/('T und E'!$B47-'T und E'!$B46)) -> 971.96262 | F46: =ABS(('T und E'!F47-'T und E'!F46)/('T und E'!$B47-'T und E'!$B46)) -> 973.13084 | G46: =ABS(('T und E'!G47-'T und E'!G46)/('T und E'!$B47-'T und E'!$B46)) -> 975.46729 | H46: =ABS(('T und E'!H47-'T und E'!H46)/('T und E'!$B47-'T und E'!$B46)) -> 984.81308 | I46: =ABS(('T und E'!I47-'T und E'!I46)/('T und E'!$B47-'T und E'!$B46)) -> 567.87383 | J46: =ABS(('T und E'!J47-'T und E'!J46)/('T und E'!$B47-'T und E'!$B46)) -> 149.76636 | ... M46: =ABS(('T und E'!M47-'T und E'!M46)/('T und E'!$B47-'T und E'!$B46)) -> 31.191589 | P46: ='T und E'!P46 -> 8.44897 | Q46: =ABS(('T und E'!Q47-'T und E'!Q46)/('T und E'!$B47-'T und E'!$B46)) -> 0.0075934579 | R46: =ABS(('T und E'!R47-'T und E'!R46)/('T und E'!$B47-'T und E'!$B46)) -> 0.0075817757 | S46: =ABS(('T und E'!S47-'T und E'!S46)/('T und E'!$B47-'T und E'!$B46)) -> 0.0075817757 | T46: =ABS(('T und E'!T47-'T und E'!T46)/('T und E'!$B47-'T und E'!$B46)) -> 0.0077219626 | U46: =ABS(('T und E'!U47-'T und E'!U46)/('T und E'!$B47-'T und E'!$B46)) -> 0.0083995327 | V46: =ABS(('T und E'!V47-'T und E'!V46)/('T und E'!$B47-'T und E'!$B46)) -> 0.019415888 | W46: =ABS(('T und E'!W47-'T und E'!W46)/('T und E'!$B47-'T und E'!$B46)) -> 0.024672897 | X46: =ABS(('T und E'!X47-'T und E'!X46)/('T und E'!$B47-'T und E'!$B46)) -> 0.011873832 | ... AA46: =ABS(('T und E'!AA47-'T und E'!AA46)/('T und E'!$B47-'T und E'!$B46)) -> 2.2196262e-05 | AC46: ='T und E'!AC46 -> 8.44897 | AD46: =ABS(('T und E'!AD47-'T und E'!AD46)/('T und E'!$B47-'T und E'!$B46)) -> 0.031061916 | AE46: =ABS(('T und E'!AE47-'T und E'!AE46)/('T und E'!$B47-'T und E'!$B46)) -> 0.030969626 | AF46: =ABS(('T und E'!AF47-'T und E'!AF46)/('T und E'!$B47-'T und E'!$B46)) -> 0.030768692 | AG46: =ABS(('T und E'!AG47-'T und E'!AG46)/('T und E'!$B47-'T und E'!$B46)) -> 0.03033528 | AH46: =ABS(('T und E'!AH47-'T und E'!AH46)/('T und E'!$B47-'T und E'!$B46)) -> 0.031533879 | AI46: =ABS(('T und E'!AI47-'T und E'!AI46)/('T und E'!$B47-'T und E'!$B46)) -> 0.016808411 | AJ46: =ABS(('T und E'!AJ47-'T und E'!AJ46)/('T und E'!$B47-'T und E'!$B46)) -> 0.0026413551 | AK46: =ABS(('T und E'!AK47-'T und E'!AK46)/('T und E'!$B47-'T und E'!$B46)) -> 0.002432243 | ... AN46: =ABS(('T und E'!AN47-'T und E'!AN46)/('T und E'!$B47-'T und E'!$B46)) -> 0.00072313084 | AP46: ='T und E'!AP46 -> 8.44897 | AQ46: =ABS(('T und E'!AQ47-'T und E'!AQ46)/('T und E'!$B47-'T und E'!$B46)) -> 0.005228972 | AR46: =ABS(('T und E'!AR47-'T und E'!AR46)/('T und E'!$B47-'T und E'!$B46)) -> 0.0052278037 | AS46: =ABS(('T und E'!AS47-'T und E'!AS46)/('T und E'!$B47-'T und E'!$B46)) -> 0.0052266355 | AT46: =ABS(('T und E'!AT47-'T und E'!AT46)/('T und E'!$B47-'T und E'!$B46)) -> 0.0052207944 | AU46: =ABS(('T und E'!AU47-'T und E'!AU46)/('T und E'!$B47-'T und E'!$B46)) -> 0.0052102804 | AV46: =ABS(('T und E'!AV47-'T und E'!AV46)/('T und E'!$B47-'T und E'!$B46)) -> 0.0046086449 | AW46: =ABS(('T und E'!AW47-'T und E'!AW46)/('T und E'!$B47-'T und E'!$B46)) -> 0.0028095794 | AX46: =ABS(('T und E'!AX47-'T und E'!AX46)/('T und E'!$B47-'T und E'!$B46)) -> 0.00088084112 | ... BA46: =ABS(('T und E'!BA47-'T und E'!BA46)/('T und E'!$B47-'T und E'!$B46)) -> 0.00013901869
B47: ='T und E'!B47 -> 8.45753 | C47: =ABS(('T und E'!C48-'T und E'!C47)/('T und E'!$B48-'T und E'!$B47)) -> 964.17445 | D47: =ABS(('T und E'!D48-'T und E'!D47)/('T und E'!$B48-'T und E'!$B47)) -> 962.61682 | E47: =ABS(('T und E'!E48-'T und E'!E47)/('T und E'!$B48-'T und E'!$B47)) -> 964.17445 | F47: =ABS(('T und E'!F48-'T und E'!F47)/('T und E'!$B48-'T und E'!$B47)) -> 964.17445 | G47: =ABS(('T und E'!G48-'T und E'!G47)/('T und E'!$B48-'T und E'!$B47)) -> 967.28972 | H47: =ABS(('T und E'!H48-'T und E'!H47)/('T und E'!$B48-'T und E'!$B47)) -> 976.63551 | I47: =ABS(('T und E'!I48-'T und E'!I47)/('T und E'!$B48-'T und E'!$B47)) -> 562.92835 | J47: =ABS(('T und E'!J48-'T und E'!J47)/('T und E'!$B48-'T und E'!$B47)) -> 150.46729 | ... M47: =ABS(('T und E'!M48-'T und E'!M47)/('T und E'!$B48-'T und E'!$B47)) -> 30.996885 | P47: ='T und E'!P47 -> 8.45753 | Q47: =ABS(('T und E'!Q48-'T und E'!Q47)/('T und E'!$B48-'T und E'!$B47)) -> 0.0045015576 | R47: =ABS(('T und E'!R48-'T und E'!R47)/('T und E'!$B48-'T und E'!$B47)) -> 0.0045327103 | S47: =ABS(('T und E'!S48-'T und E'!S47)/('T und E'!$B48-'T und E'!$B47)) -> 0.0046105919 | T47: =ABS(('T und E'!T48-'T und E'!T47)/('T und E'!$B48-'T und E'!$B47)) -> 0.0046884735 | U47: =ABS(('T und E'!U48-'T und E'!U47)/('T und E'!$B48-'T und E'!$B47)) -> 0.0059190031 | V47: =ABS(('T und E'!V48-'T und E'!V47)/('T und E'!$B48-'T und E'!$B47)) -> 0.019065421 | W47: =ABS(('T und E'!W48-'T und E'!W47)/('T und E'!$B48-'T und E'!$B47)) -> 0.02453271 | X47: =ABS(('T und E'!X48-'T und E'!X47)/('T und E'!$B48-'T und E'!$B47)) -> 0.011400312 | ... AA47: =ABS(('T und E'!AA48-'T und E'!AA47)/('T und E'!$B48-'T und E'!$B47)) -> 5.9190031e-05 | AC47: ='T und E'!AC47 -> 8.45753 | AD47: =ABS(('T und E'!#REF!-'T und E'!AD47)/('T und E'!$B48-'T und E'!$B47)) -> #REF! | AE47: =ABS(('T und E'!AE48-'T und E'!AE47)/('T und E'!$B48-'T und E'!$B47)) -> 0.030690031 | AF47: =ABS(('T und E'!AF48-'T und E'!AF47)/('T und E'!$B48-'T und E'!$B47)) -> 0.029481308 | AG47: =ABS(('T und E'!AG48-'T und E'!AG47)/('T und E'!$B48-'T und E'!$B47)) -> 0.030588785 | AH47: =ABS(('T und E'!AH48-'T und E'!AH47)/('T und E'!$B48-'T und E'!$B47)) -> 0.041205607 | AI47: =ABS(('T und E'!AI48-'T und E'!AI47)/('T und E'!$B48-'T und E'!$B47)) -> 0.016509346 | AJ47: =ABS(('T und E'!AJ48-'T und E'!AJ47)/('T und E'!$B48-'T und E'!$B47)) -> 0.0017647975 | AK47: =ABS(('T und E'!AK48-'T und E'!AK47)/('T und E'!$B48-'T und E'!$B47)) -> 0.0024610592 | AL47: =ABS(('T und E'!AL48-'T und E'!AL47)/('T und E'!$B48-'T und E'!$B47)) -> 0.00015420561 | ... AN47: =ABS(('T und E'!AN48-'T und E'!AN47)/('T und E'!$B48-'T und E'!$B47)) -> 0.00076791277 | AP47: ='T und E'!AP47 -> 8.45753 | AQ47: =ABS(('T und E'!AQ48-'T und E'!AQ47)/('T und E'!$B48-'T und E'!$B47)) -> 0.0051012461 | AR47: =ABS(('T und E'!AR48-'T und E'!AR47)/('T und E'!$B48-'T und E'!$B47)) -> 0.0051028037 | AS47: =ABS(('T und E'!AS48-'T und E'!AS47)/('T und E'!$B48-'T und E'!$B47)) -> 0.0051012461 | AT47: =ABS(('T und E'!AT48-'T und E'!AT47)/('T und E'!$B48-'T und E'!$B47)) -> 0.0051028037 | AU47: =ABS(('T und E'!AU48-'T und E'!AU47)/('T und E'!$B48-'T und E'!$B47)) -> 0.0051043614 | AV47: =ABS(('T und E'!AV48-'T und E'!AV47)/('T und E'!$B48-'T und E'!$B47)) -> 0.0045109034 | AW47: =ABS(('T und E'!AW48-'T und E'!AW47)/('T und E'!$B48-'T und E'!$B47)) -> 0.0027024922 | AX47: =ABS(('T und E'!AX48-'T und E'!AX47)/('T und E'!$B48-'T und E'!$B47)) -> 0.00080062305 | ... BA47: =ABS(('T und E'!BA48-'T und E'!BA47)/('T und E'!$B48-'T und E'!$B47)) -> 9.1900312e-05
B48: ='T und E'!B48 -> 8.46395 | C48: =ABS(('T und E'!C49-'T und E'!C48)/('T und E'!$B49-'T und E'!$B48)) -> 957.46888 | D48: =ABS(('T und E'!D49-'T und E'!D48)/('T und E'!$B49-'T und E'!$B48)) -> 957.46888 | E48: =ABS(('T und E'!E49-'T und E'!E48)/('T und E'!$B49-'T und E'!$B48)) -> 958.50622 | F48: =ABS(('T und E'!F49-'T und E'!F48)/('T und E'!$B49-'T und E'!$B48)) -> 958.50622 | G48: =ABS(('T und E'!G49-'T und E'!G48)/('T und E'!$B49-'T und E'!$B48)) -> 960.58091 | H48: =ABS(('T und E'!H49-'T und E'!H48)/('T und E'!$B49-'T und E'!$B48)) -> 970.95436 | I48: =ABS(('T und E'!I49-'T und E'!I48)/('T und E'!$B49-'T und E'!$B48)) -> 558.81743 | J48: =ABS(('T und E'!J49-'T und E'!J48)/('T und E'!$B49-'T und E'!$B48)) -> 150.72614 | ... M48: =ABS(('T und E'!M49-'T und E'!M48)/('T und E'!$B49-'T und E'!$B48)) -> 31.224066 | P48: ='T und E'!P48 -> 8.46395 | Q48: =ABS(('T und E'!Q49-'T und E'!Q48)/('T und E'!$B49-'T und E'!$B48)) -> 0.0051763485 | R48: =ABS(('T und E'!R49-'T und E'!R48)/('T und E'!$B49-'T und E'!$B48)) -> 0.0052385892 | S48: =ABS(('T und E'!S49-'T und E'!S48)/('T und E'!$B49-'T und E'!$B48)) -> 0.0054356846 | T48: =ABS(('T und E'!T49-'T und E'!T48)/('T und E'!$B49-'T und E'!$B48)) -> 0.0058298755 | U48: =ABS(('T und E'!U49-'T und E'!U48)/('T und E'!$B49-'T und E'!$B48)) -> 0.0069087137 | V48: =ABS(('T und E'!V49-'T und E'!V48)/('T und E'!$B49-'T und E'!$B48)) -> 0.022738589 | W48: =ABS(('T und E'!W49-'T und E'!W48)/('T und E'!$B49-'T und E'!$B48)) -> 0.027562241 | X48: =ABS(('T und E'!X49-'T und E'!X48)/('T und E'!$B49-'T und E'!$B48)) -> 0.011390041 | ... AA48: =ABS(('T und E'!AA49-'T und E'!AA48)/('T und E'!$B49-'T und E'!$B48)) -> 0.00017946058 | AC48: ='T und E'!AC48 -> 8.46395 | AD48: =ABS(('T und E'!AD48-'T und E'!#REF!)/('T und E'!$B49-'T und E'!$B48)) -> #REF! | AE48: =ABS(('T und E'!AE49-'T und E'!AE48)/('T und E'!$B49-'T und E'!$B48)) -> 0.080565353 | AF48: =ABS(('T und E'!AF49-'T und E'!AF48)/('T und E'!$B49-'T und E'!$B48)) -> 0.078658714 | AG48: =ABS(('T und E'!AG49-'T und E'!AG48)/('T und E'!$B49-'T und E'!$B48)) -> 0.07718361 | AH48: =ABS(('T und E'!AH49-'T und E'!AH48)/('T und E'!$B49-'T und E'!$B48)) -> 0.033966805 | AI48: =ABS(('T und E'!AI49-'T und E'!AI48)/('T und E'!$B49-'T und E'!$B48)) -> 0.011442946 | AJ48: =ABS(('T und E'!AJ49-'T und E'!AJ48)/('T und E'!$B49-'T und E'!$B48)) -> 0.00060892116 | AK48: =ABS(('T und E'!AK49-'T und E'!AK48)/('T und E'!$B49-'T und E'!$B48)) -> 0.0027634855 | AL48: =ABS(('T und E'!AL49-'T und E'!AL48)/('T und E'!$B49-'T und E'!$B48)) -> 5.4979253e-05 | ... AN48: =ABS(('T und E'!AN49-'T und E'!AN48)/('T und E'!$B49-'T und E'!$B48)) -> 0.00081327801 | AP48: ='T und E'!AP48 -> 8.46395 | AQ48: =ABS(('T und E'!AQ49-'T und E'!AQ48)/('T und E'!$B49-'T und E'!$B48)) -> 0.0056545643 | AR48: =ABS(('T und E'!AR49-'T und E'!AR48)/('T und E'!$B49-'T und E'!$B48)) -> 0.0056545643 | AS48: =ABS(('T und E'!AS49-'T und E'!AS48)/('T und E'!$B49-'T und E'!$B48)) -> 0.005656639 | AT48: =ABS(('T und E'!AT49-'T und E'!AT48)/('T und E'!$B49-'T und E'!$B48)) -> 0.0056576763 | AU48: =ABS(('T und E'!AU49-'T und E'!AU48)/('T und E'!$B49-'T und E'!$B48)) -> 0.0056587137 | AV48: =ABS(('T und E'!AV49-'T und E'!AV48)/('T und E'!$B49-'T und E'!$B48)) -> 0.0049211618 | AW48: =ABS(('T und E'!AW49-'T und E'!AW48)/('T und E'!$B49-'T und E'!$B48)) -> 0.0028029046 | AX48: =ABS(('T und E'!AX49-'T und E'!AX48)/('T und E'!$B49-'T und E'!$B48)) -> 0.00072717842 | ... BA48: =ABS(('T und E'!BA49-'T und E'!BA48)/('T und E'!$B49-'T und E'!$B48)) -> 1.0373444e-05
B49: ='T und E'!B49 -> 8.47359 | C49: =ABS(('T und E'!C50-'T und E'!C49)/('T und E'!$B50-'T und E'!$B49)) -> 950.1385 | D49: =ABS(('T und E'!D50-'T und E'!D49)/('T und E'!$B50-'T und E'!$B49)) -> 951.52355 | E49: =ABS(('T und E'!E50-'T und E'!E49)/('T und E'!$B50-'T und E'!$B49)) -> 951.52355 | F49: =ABS(('T und E'!F50-'T und E'!F49)/('T und E'!$B50-'T und E'!$B49)) -> 952.90859 | G49: =ABS(('T und E'!G50-'T und E'!G49)/('T und E'!$B50-'T und E'!$B49)) -> 955.67867 | H49: =ABS(('T und E'!H50-'T und E'!H49)/('T und E'!$B50-'T und E'!$B49)) -> 965.37396 | I49: =ABS(('T und E'!I50-'T und E'!I49)/('T und E'!$B50-'T und E'!$B49)) -> 554.98615 | J49: =ABS(('T und E'!J50-'T und E'!J49)/('T und E'!$B50-'T und E'!$B49)) -> 151.66205 | ... M49: =ABS(('T und E'!M50-'T und E'!M49)/('T und E'!$B50-'T und E'!$B49)) -> 31.163435 | P49: ='T und E'!P49 -> 8.47359 | Q49: =ABS(('T und E'!Q50-'T und E'!Q49)/('T und E'!$B50-'T und E'!$B49)) -> 0.0057894737 | R49: =ABS(('T und E'!R50-'T und E'!R49)/('T und E'!$B50-'T und E'!$B49)) -> 0.0059279778 | S49: =ABS(('T und E'!S50-'T und E'!S49)/('T und E'!$B50-'T und E'!$B49)) -> 0.0062465374 | T49: =ABS(('T und E'!T50-'T und E'!T49)/('T und E'!$B50-'T und E'!$B49)) -> 0.0067174515 | U49: =ABS(('T und E'!U50-'T und E'!U49)/('T und E'!$B50-'T und E'!$B49)) -> 0.0074238227 | V49: =ABS(('T und E'!V50-'T und E'!V49)/('T und E'!$B50-'T und E'!$B49)) -> 0.022229917 | W49: =ABS(('T und E'!W50-'T und E'!W49)/('T und E'!$B50-'T und E'!$B49)) -> 0.027590028 | X49: =ABS(('T und E'!X50-'T und E'!X49)/('T und E'!$B50-'T und E'!$B49)) -> 0.011689751 | ... AA49: =ABS(('T und E'!AA50-'T und E'!AA49)/('T und E'!$B50-'T und E'!$B49)) -> 0.0001800554 | AC49: ='T und E'!AC49 -> 8.47359 | AD49: =ABS(('T und E'!AD49-'T und E'!AD48)/('T und E'!$B50-'T und E'!$B49)) -> 0.015264543 | AE49: =ABS(('T und E'!AE50-'T und E'!AE49)/('T und E'!$B50-'T und E'!$B49)) -> 0.031351801 | AF49: =ABS(('T und E'!AF50-'T und E'!AF49)/('T und E'!$B50-'T und E'!$B49)) -> 0.030612188 | AG49: =ABS(('T und E'!AG50-'T und E'!AG49)/('T und E'!$B50-'T und E'!$B49)) -> 0.029163435 | AH49: =ABS(('T und E'!AH50-'T und E'!AH49)/('T und E'!$B50-'T und E'!$B49)) -> 0.084587258 | AI49: =ABS(('T und E'!AI50-'T und E'!AI49)/('T und E'!$B50-'T und E'!$B49)) -> 0.011139889 | AJ49: =ABS(('T und E'!AJ50-'T und E'!AJ49)/('T und E'!$B50-'T und E'!$B49)) -> 0.00059141274 | AK49: =ABS(('T und E'!AK50-'T und E'!AK49)/('T und E'!$B50-'T und E'!$B49)) -> 0.0029252078 | AL49: =ABS(('T und E'!AL50-'T und E'!AL49)/('T und E'!$B50-'T und E'!$B49)) -> 6.9252078e-05 | ... AN49: =ABS(('T und E'!AN50-'T und E'!AN49)/('T und E'!$B50-'T und E'!$B49)) -> 0.00079778393 | AP49: ='T und E'!AP49 -> 8.47359 | AQ49: =ABS(('T und E'!AQ50-'T und E'!AQ49)/('T und E'!$B50-'T und E'!$B49)) -> 0.0056814404 | AR49: =ABS(('T und E'!AR50-'T und E'!AR49)/('T und E'!$B50-'T und E'!$B49)) -> 0.0056828255 | AS49: =ABS(('T und E'!AS50-'T und E'!AS49)/('T und E'!$B50-'T und E'!$B49)) -> 0.0056828255 | AT49: =ABS(('T und E'!AT50-'T und E'!AT49)/('T und E'!$B50-'T und E'!$B49)) -> 0.0056828255 | AU49: =ABS(('T und E'!AU50-'T und E'!AU49)/('T und E'!$B50-'T und E'!$B49)) -> 0.0056800554 | AV49: =ABS(('T und E'!AV50-'T und E'!AV49)/('T und E'!$B50-'T und E'!$B49)) -> 0.0049515235 | AW49: =ABS(('T und E'!AW50-'T und E'!AW49)/('T und E'!$B50-'T und E'!$B49)) -> 0.0028434903 | AX49: =ABS(('T und E'!AX50-'T und E'!AX49)/('T und E'!$B50-'T und E'!$B49)) -> 0.00075069252 | ... BA49: =ABS(('T und E'!BA50-'T und E'!BA49)/('T und E'!$B50-'T und E'!$B49)) -> 2.7700831e-06
B50: ='T und E'!B50 -> 8.48081 | C50: =ABS(('T und E'!C51-'T und E'!C50)/('T und E'!$B51-'T und E'!$B50)) -> 944.64945 | D50: =ABS(('T und E'!D51-'T und E'!D50)/('T und E'!$B51-'T und E'!$B50)) -> 943.72694 | E50: =ABS(('T und E'!E51-'T und E'!E50)/('T und E'!$B51-'T und E'!$B50)) -> 943.72694 | F50: =ABS(('T und E'!F51-'T und E'!F50)/('T und E'!$B51-'T und E'!$B50)) -> 944.64945 | G50: =ABS(('T und E'!G51-'T und E'!G50)/('T und E'!$B51-'T und E'!$B50)) -> 947.41697 | H50: =ABS(('T und E'!H51-'T und E'!H50)/('T und E'!$B51-'T und E'!$B50)) -> 958.48708 | I50: =ABS(('T und E'!I51-'T und E'!I50)/('T und E'!$B51-'T und E'!$B50)) -> 550.83026 | J50: =ABS(('T und E'!J51-'T und E'!J50)/('T und E'!$B51-'T und E'!$B50)) -> 151.84502 | ... M50: =ABS(('T und E'!M51-'T und E'!M50)/('T und E'!$B51-'T und E'!$B50)) -> 31.180812 | P50: ='T und E'!P50 -> 8.48081 | Q50: =ABS(('T und E'!Q51-'T und E'!Q50)/('T und E'!$B51-'T und E'!$B50)) -> 0.0055073801 | R50: =ABS(('T und E'!R51-'T und E'!R50)/('T und E'!$B51-'T und E'!$B50)) -> 0.0055535055 | S50: =ABS(('T und E'!S51-'T und E'!S50)/('T und E'!$B51-'T und E'!$B50)) -> 0.0056826568 | T50: =ABS(('T und E'!T51-'T und E'!T50)/('T und E'!$B51-'T und E'!$B50)) -> 0.0062361624 | U50: =ABS(('T und E'!U51-'T und E'!U50)/('T und E'!$B51-'T und E'!$B50)) -> 0.0070848708 | V50: =ABS(('T und E'!V51-'T und E'!V50)/('T und E'!$B51-'T und E'!$B50)) -> 0.021429889 | W50: =ABS(('T und E'!W51-'T und E'!W50)/('T und E'!$B51-'T und E'!$B50)) -> 0.027509225 | X50: =ABS(('T und E'!X51-'T und E'!X50)/('T und E'!$B51-'T und E'!$B50)) -> 0.012066421 | ... AA50: =ABS(('T und E'!AA51-'T und E'!AA50)/('T und E'!$B51-'T und E'!$B50)) -> 0.00018081181 | AC50: ='T und E'!AC50 -> 8.48081 | AD50: =ABS(('T und E'!AD50-'T und E'!AD49)/('T und E'!$B51-'T und E'!$B50)) -> 0.021104244 | AE50: =ABS(('T und E'!AE51-'T und E'!AE50)/('T und E'!$B51-'T und E'!$B50)) -> 0.030012915 | AF50: =ABS(('T und E'!AF51-'T und E'!AF50)/('T und E'!$B51-'T und E'!$B50)) -> 0.029269373 | AG50: =ABS(('T und E'!AG51-'T und E'!AG50)/('T und E'!$B51-'T und E'!$B50)) -> 0.027882841 | AH50: =ABS(('T und E'!AH51-'T und E'!AH50)/('T und E'!$B51-'T und E'!$B50)) -> 0.025027675 | AI50: =ABS(('T und E'!AI51-'T und E'!AI50)/('T und E'!$B51-'T und E'!$B50)) -> 0.011397601 | AJ50: =ABS(('T und E'!AJ51-'T und E'!AJ50)/('T und E'!$B51-'T und E'!$B50)) -> 0.00045479705 | AK50: =ABS(('T und E'!AK51-'T und E'!AK50)/('T und E'!$B51-'T und E'!$B50)) -> 0.0031752768 | AL50: =ABS(('T und E'!AL51-'T und E'!AL50)/('T und E'!$B51-'T und E'!$B50)) -> 0.00019188192 | ... AN50: =ABS(('T und E'!AN51-'T und E'!AN50)/('T und E'!$B51-'T und E'!$B50)) -> 0.00078136531 | AP50: ='T und E'!AP50 -> 8.48081 | AQ50: =ABS(('T und E'!AQ51-'T und E'!AQ50)/('T und E'!$B51-'T und E'!$B50)) -> 0.0056642066 | AR50: =ABS(('T und E'!AR51-'T und E'!AR50)/('T und E'!$B51-'T und E'!$B50)) -> 0.0056642066 | AS50: =ABS(('T und E'!AS51-'T und E'!AS50)/('T und E'!$B51-'T und E'!$B50)) -> 0.0056651292 | AT50: =ABS(('T und E'!AT51-'T und E'!AT50)/('T und E'!$B51-'T und E'!$B50)) -> 0.0056660517 | AU50: =ABS(('T und E'!AU51-'T und E'!AU50)/('T und E'!$B51-'T und E'!$B50)) -> 0.0056660517 | AV50: =ABS(('T und E'!AV51-'T und E'!AV50)/('T und E'!$B51-'T und E'!$B50)) -> 0.0049594096 | AW50: =ABS(('T und E'!AW51-'T und E'!AW50)/('T und E'!$B51-'T und E'!$B50)) -> 0.0028800738 | AX50: =ABS(('T und E'!AX51-'T und E'!AX50)/('T und E'!$B51-'T und E'!$B50)) -> 0.00077398524 | ... BA50: =ABS(('T und E'!BA51-'T und E'!BA50)/('T und E'!$B51-'T und E'!$B50)) -> 5.5350554e-06
B51: ='T und E'!B51 -> 8.49165 | C51: =ABS(('T und E'!C52-'T und E'!C51)/('T und E'!$B52-'T und E'!$B51)) -> 937.19212 | D51: =ABS(('T und E'!D52-'T und E'!D51)/('T und E'!$B52-'T und E'!$B51)) -> 938.42365 | E51: =ABS(('T und E'!E52-'T und E'!E51)/('T und E'!$B52-'T und E'!$B51)) -> 938.42365 | F51: =ABS(('T und E'!F52-'T und E'!F51)/('T und E'!$B52-'T und E'!$B51)) -> 938.42365 | G51: =ABS(('T und E'!G52-'T und E'!G51)/('T und E'!$B52-'T und E'!$B51)) -> 942.11823 | H51: =ABS(('T und E'!H52-'T und E'!H51)/('T und E'!$B52-'T und E'!$B51)) -> 950.73892 | I51: =ABS(('T und E'!I52-'T und E'!I51)/('T und E'!$B52-'T und E'!$B51)) -> 546.92118 | J51: =ABS(('T und E'!J52-'T und E'!J51)/('T und E'!$B52-'T und E'!$B51)) -> 152.46305 | ... M51: =ABS(('T und E'!M52-'T und E'!M51)/('T und E'!$B52-'T und E'!$B51)) -> 31.280788 | P51: ='T und E'!P51 -> 8.49165 | Q51: =ABS(('T und E'!Q52-'T und E'!Q51)/('T und E'!$B52-'T und E'!$B51)) -> 0.0066995074 | R51: =ABS(('T und E'!R52-'T und E'!R51)/('T und E'!$B52-'T und E'!$B51)) -> 0.0066995074 | S51: =ABS(('T und E'!S52-'T und E'!S51)/('T und E'!$B52-'T und E'!$B51)) -> 0.0069211823 | T51: =ABS(('T und E'!T52-'T und E'!T51)/('T und E'!$B52-'T und E'!$B51)) -> 0.0072660099 | U51: =ABS(('T und E'!U52-'T und E'!U51)/('T und E'!$B52-'T und E'!$B51)) -> 0.0080049261 | V51: =ABS(('T und E'!V52-'T und E'!V51)/('T und E'!$B52-'T und E'!$B51)) -> 0.021514778 | W51: =ABS(('T und E'!W52-'T und E'!W51)/('T und E'!$B52-'T und E'!$B51)) -> 0.028756158 | X51: =ABS(('T und E'!X52-'T und E'!X51)/('T und E'!$B52-'T und E'!$B51)) -> 0.013312808 | ... AA51: =ABS(('T und E'!AA52-'T und E'!AA51)/('T und E'!$B52-'T und E'!$B51)) -> 0.00024753695 | AC51: ='T und E'!AC51 -> 8.49165 | AD51: =ABS(('T und E'!AD51-'T und E'!AD50)/('T und E'!$B52-'T und E'!$B51)) -> 0.040530788 | AE51: =ABS(('T und E'!AE52-'T und E'!AE51)/('T und E'!$B52-'T und E'!$B51)) -> 0.026849754 | AF51: =ABS(('T und E'!AF52-'T und E'!AF51)/('T und E'!$B52-'T und E'!$B51)) -> 0.026130542 | AG51: =ABS(('T und E'!AG52-'T und E'!AG51)/('T und E'!$B52-'T und E'!$B51)) -> 0.024761084 | AH51: =ABS(('T und E'!AH52-'T und E'!AH51)/('T und E'!$B52-'T und E'!$B51)) -> 0.022008621 | AI51: =ABS(('T und E'!AI52-'T und E'!AI51)/('T und E'!$B52-'T und E'!$B51)) -> 0.0096625616 | AJ51: =ABS(('T und E'!AJ52-'T und E'!AJ51)/('T und E'!$B52-'T und E'!$B51)) -> 0.0019889163 | AK51: =ABS(('T und E'!AK52-'T und E'!AK51)/('T und E'!$B52-'T und E'!$B51)) -> 0.0042610837 | AL51: =ABS(('T und E'!AL52-'T und E'!AL51)/('T und E'!$B52-'T und E'!$B51)) -> 0.00033743842 | ... AN51: =ABS(('T und E'!AN52-'T und E'!AN51)/('T und E'!$B52-'T und E'!$B51)) -> 0.00079187192 | AP51: ='T und E'!AP51 -> 8.49165 | AQ51: =ABS(('T und E'!AQ52-'T und E'!AQ51)/('T und E'!$B52-'T und E'!$B51)) -> 0.0058583744 | AR51: =ABS(('T und E'!AR52-'T und E'!AR51)/('T und E'!$B52-'T und E'!$B51)) -> 0.0058583744 | AS51: =ABS(('T und E'!AS52-'T und E'!AS51)/('T und E'!$B52-'T und E'!$B51)) -> 0.0058583744 | AT51: =ABS(('T und E'!AT52-'T und E'!AT51)/('T und E'!$B52-'T und E'!$B51)) -> 0.0058596059 | AU51: =ABS(('T und E'!AU52-'T und E'!AU51)/('T und E'!$B52-'T und E'!$B51)) -> 0.0058571429 | AV51: =ABS(('T und E'!AV52-'T und E'!AV51)/('T und E'!$B52-'T und E'!$B51)) -> 0.0051551724 | AW51: =ABS(('T und E'!AW52-'T und E'!AW51)/('T und E'!$B52-'T und E'!$B51)) -> 0.003023399 | AX51: =ABS(('T und E'!AX52-'T und E'!AX51)/('T und E'!$B52-'T und E'!$B51)) -> 0.00077832512 | ... BA51: =ABS(('T und E'!BA52-'T und E'!BA51)/('T und E'!$B52-'T und E'!$B51)) -> 5.4187192e-05
B52: ='T und E'!B52 -> 8.49977 | C52: =ABS(('T und E'!C53-'T und E'!C52)/('T und E'!$B53-'T und E'!$B52)) -> 1242.623 | D52: =ABS(('T und E'!D53-'T und E'!D52)/('T und E'!$B53-'T und E'!$B52)) -> 1241.8033 | E52: =ABS(('T und E'!E53-'T und E'!E52)/('T und E'!$B53-'T und E'!$B52)) -> 1236.0656 | F52: =ABS(('T und E'!F53-'T und E'!F52)/('T und E'!$B53-'T und E'!$B52)) -> 1198.3607 | G52: =ABS(('T und E'!G53-'T und E'!G52)/('T und E'!$B53-'T und E'!$B52)) -> 995.08197 | H52: =ABS(('T und E'!H53-'T und E'!H52)/('T und E'!$B53-'T und E'!$B52)) -> 177.86885 | I52: =ABS(('T und E'!I53-'T und E'!I52)/('T und E'!$B53-'T und E'!$B52)) -> 398.03279 | J52: =ABS(('T und E'!J53-'T und E'!J52)/('T und E'!$B53-'T und E'!$B52)) -> 218.36066 | ... M52: =ABS(('T und E'!M53-'T und E'!M52)/('T und E'!$B53-'T und E'!$B52)) -> 31.311475 | P52: ='T und E'!P52 -> 8.49977 | Q52: =ABS(('T und E'!Q53-'T und E'!Q52)/('T und E'!$B53-'T und E'!$B52)) -> 0.042065574 | R52: =ABS(('T und E'!R53-'T und E'!R52)/('T und E'!$B53-'T und E'!$B52)) -> 0.042 | S52: =ABS(('T und E'!S53-'T und E'!S52)/('T und E'!$B53-'T und E'!$B52)) -> 0.041778689 | T52: =ABS(('T und E'!T53-'T und E'!T52)/('T und E'!$B53-'T und E'!$B52)) -> 0.040696721 | U52: =ABS(('T und E'!U53-'T und E'!U52)/('T und E'!$B53-'T und E'!$B52)) -> 0.034836066 | V52: =ABS(('T und E'!V53-'T und E'!V52)/('T und E'!$B53-'T und E'!$B52)) -> 0.002647541 | W52: =ABS(('T und E'!W53-'T und E'!W52)/('T und E'!$B53-'T und E'!$B52)) -> 0.015762295 | X52: =ABS(('T und E'!X53-'T und E'!X52)/('T und E'!$B53-'T und E'!$B52)) -> 0.013 | ... AA52: =ABS(('T und E'!AA53-'T und E'!AA52)/('T und E'!$B53-'T und E'!$B52)) -> 0.00019016393 | AC52: ='T und E'!AC52 -> 8.49977 | AD52: =ABS(('T und E'!AD52-'T und E'!AD51)/('T und E'!$B53-'T und E'!$B52)) -> 0.018095082 | AE52: =ABS(('T und E'!AE53-'T und E'!AE52)/('T und E'!$B53-'T und E'!$B52)) -> 0.019840984 | AF52: =ABS(('T und E'!AF53-'T und E'!AF52)/('T und E'!$B53-'T und E'!$B52)) -> 0.01955 | AG52: =ABS(('T und E'!AG53-'T und E'!AG52)/('T und E'!$B53-'T und E'!$B52)) -> 0.018891803 | AH52: =ABS(('T und E'!AH53-'T und E'!AH52)/('T und E'!$B53-'T und E'!$B52)) -> 0.017319672 | AI52: =ABS(('T und E'!AI53-'T und E'!AI52)/('T und E'!$B53-'T und E'!$B52)) -> 0.0086885246 | AJ52: =ABS(('T und E'!AJ53-'T und E'!AJ52)/('T und E'!$B53-'T und E'!$B52)) -> 0.0014319672 | AK52: =ABS(('T und E'!AK53-'T und E'!AK52)/('T und E'!$B53-'T und E'!$B52)) -> 0.0036180328 | AL52: =ABS(('T und E'!AL53-'T und E'!AL52)/('T und E'!$B53-'T und E'!$B52)) -> 0.00045491803 | ... AN52: =ABS(('T und E'!AN53-'T und E'!AN52)/('T und E'!$B53-'T und E'!$B52)) -> 0.00073770492 | AP52: ='T und E'!AP52 -> 8.49977 | AQ52: =ABS(('T und E'!AQ53-'T und E'!AQ52)/('T und E'!$B53-'T und E'!$B52)) -> 0.0028934426 | AR52: =ABS(('T und E'!AR53-'T und E'!AR52)/('T und E'!$B53-'T und E'!$B52)) -> 0.002907377 | AS52: =ABS(('T und E'!AS53-'T und E'!AS52)/('T und E'!$B53-'T und E'!$B52)) -> 0.0029409836 | AT52: =ABS(('T und E'!AT53-'T und E'!AT52)/('T und E'!$B53-'T und E'!$B52)) -> 0.0030163934 | AU52: =ABS(('T und E'!AU53-'T und E'!AU52)/('T und E'!$B53-'T und E'!$B52)) -> 0.0031770492 | AV52: =ABS(('T und E'!AV53-'T und E'!AV52)/('T und E'!$B53-'T und E'!$B52)) -> 0.0032860656 | AW52: =ABS(('T und E'!AW53-'T und E'!AW52)/('T und E'!$B53-'T und E'!$B52)) -> 0.0024516393 | AX52: =ABS(('T und E'!AX53-'T und E'!AX52)/('T und E'!$B53-'T und E'!$B52)) -> 0.00095327869 | ... BA52: =ABS(('T und E'!BA53-'T und E'!BA52)/('T und E'!$B53-'T und E'!$B52)) -> 3.2786885e-06
B53: ='T und E'!B53 -> 8.51197 | C53: =ABS(('T und E'!C54-'T und E'!C53)/('T und E'!$B54-'T und E'!$B53)) -> 478.11816 | D53: =ABS(('T und E'!D54-'T und E'!D53)/('T und E'!$B54-'T und E'!$B53)) -> 478.11816 | E53: =ABS(('T und E'!E54-'T und E'!E53)/('T und E'!$B54-'T und E'!$B53)) -> 474.83589 | F53: =ABS(('T und E'!F54-'T und E'!F53)/('T und E'!$B54-'T und E'!$B53)) -> 457.33042 | G53: =ABS(('T und E'!G54-'T und E'!G53)/('T und E'!$B54-'T und E'!$B53)) -> 363.23851 | H53: =ABS(('T und E'!H54-'T und E'!H53)/('T und E'!$B54-'T und E'!$B53)) -> 16.411379 | I53: =ABS(('T und E'!I54-'T und E'!I53)/('T und E'!$B54-'T und E'!$B53)) -> 387.85558 | J53: =ABS(('T und E'!J54-'T und E'!J53)/('T und E'!$B54-'T und E'!$B53)) -> 217.50547 | ... M53: =ABS(('T und E'!M54-'T und E'!M53)/('T und E'!$B54-'T und E'!$B53)) -> 31.400438 | P53: ='T und E'!P53 -> 8.51197 | Q53: =ABS(('T und E'!Q54-'T und E'!Q53)/('T und E'!$B54-'T und E'!$B53)) -> 0.022045952 | R53: =ABS(('T und E'!R54-'T und E'!R53)/('T und E'!$B54-'T und E'!$B53)) -> 0.022045952 | S53: =ABS(('T und E'!S54-'T und E'!S53)/('T und E'!$B54-'T und E'!$B53)) -> 0.021947484 | T53: =ABS(('T und E'!T54-'T und E'!T53)/('T und E'!$B54-'T und E'!$B53)) -> 0.021378556 | U53: =ABS(('T und E'!U54-'T und E'!U53)/('T und E'!$B54-'T und E'!$B53)) -> 0.019004376 | V53: =ABS(('T und E'!V54-'T und E'!V53)/('T und E'!$B54-'T und E'!$B53)) -> 0.0036870897 | W53: =ABS(('T und E'!W54-'T und E'!W53)/('T und E'!$B54-'T und E'!$B53)) -> 0.013796499 | X53: =ABS(('T und E'!X54-'T und E'!X53)/('T und E'!$B54-'T und E'!$B53)) -> 0.013107221 | ... AA53: =ABS(('T und E'!AA54-'T und E'!AA53)/('T und E'!$B54-'T und E'!$B53)) -> 0.00017177243 | AC53: ='T und E'!AC53 -> 8.51197 | AD53: =ABS(('T und E'!AD53-'T und E'!AD52)/('T und E'!$B54-'T und E'!$B53)) -> 0.026635667 | AE53: =ABS(('T und E'!AE54-'T und E'!AE53)/('T und E'!$B54-'T und E'!$B53)) -> 0.017584245 | AF53: =ABS(('T und E'!AF54-'T und E'!AF53)/('T und E'!$B54-'T und E'!$B53)) -> 0.017389497 | AG53: =ABS(('T und E'!AG54-'T und E'!AG53)/('T und E'!$B54-'T und E'!$B53)) -> 0.017016411 | AH53: =ABS(('T und E'!AH54-'T und E'!AH53)/('T und E'!$B54-'T und E'!$B53)) -> 0.016332604 | AI53: =ABS(('T und E'!AI54-'T und E'!AI53)/('T und E'!$B54-'T und E'!$B53)) -> 0.0088796499 | AJ53: =ABS(('T und E'!AJ54-'T und E'!AJ53)/('T und E'!$B54-'T und E'!$B53)) -> 0.0015196937 | AK53: =ABS(('T und E'!AK54-'T und E'!AK53)/('T und E'!$B54-'T und E'!$B53)) -> 0.0037964989 | AL53: =ABS(('T und E'!AL54-'T und E'!AL53)/('T und E'!$B54-'T und E'!$B53)) -> 0.00038293217 | ... AN53: =ABS(('T und E'!AN54-'T und E'!AN53)/('T und E'!$B54-'T und E'!$B53)) -> 0.00074070022 | AP53: ='T und E'!AP53 -> 8.51197 | AQ53: =ABS(('T und E'!AQ54-'T und E'!AQ53)/('T und E'!$B54-'T und E'!$B53)) -> 0.0027221007 | AR53: =ABS(('T und E'!AR54-'T und E'!AR53)/('T und E'!$B54-'T und E'!$B53)) -> 0.0027286652 | AS53: =ABS(('T und E'!AS54-'T und E'!AS53)/('T und E'!$B54-'T und E'!$B53)) -> 0.0027483589 | AT53: =ABS(('T und E'!AT54-'T und E'!AT53)/('T und E'!$B54-'T und E'!$B53)) -> 0.0027888403 | AU53: =ABS(('T und E'!AU54-'T und E'!AU53)/('T und E'!$B54-'T und E'!$B53)) -> 0.0028785558 | AV53: =ABS(('T und E'!AV54-'T und E'!AV53)/('T und E'!$B54-'T und E'!$B53)) -> 0.0029912473 | AW53: =ABS(('T und E'!AW54-'T und E'!AW53)/('T und E'!$B54-'T und E'!$B53)) -> 0.0023577681 | AX53: =ABS(('T und E'!AX54-'T und E'!AX53)/('T und E'!$B54-'T und E'!$B53)) -> 0.00096061269 | ... BA53: =ABS(('T und E'!BA54-'T und E'!BA53)/('T und E'!$B54-'T und E'!$B53)) -> 2.297593e-05
B54: ='T und E'!B54 -> 8.52111 | C54: =ABS(('T und E'!C55-'T und E'!C54)/('T und E'!$B55-'T und E'!$B54)) -> 178.57143 | D54: =ABS(('T und E'!D55-'T und E'!D54)/('T und E'!$B55-'T und E'!$B54)) -> 178.57143 | E54: =ABS(('T und E'!E55-'T und E'!E54)/('T und E'!$B55-'T und E'!$B54)) -> 177.84257 | F54: =ABS(('T und E'!F55-'T und E'!F54)/('T und E'!$B55-'T und E'!$B54)) -> 172.01166 | G54: =ABS(('T und E'!G55-'T und E'!G54)/('T und E'!$B55-'T und E'!$B54)) -> 142.85714 | H54: =ABS(('T und E'!H55-'T und E'!H54)/('T und E'!$B55-'T und E'!$B54)) -> 26.239067 | I54: =ABS(('T und E'!I55-'T und E'!I54)/('T und E'!$B55-'T und E'!$B54)) -> 378.13411 | J54: =ABS(('T und E'!J55-'T und E'!J54)/('T und E'!$B55-'T und E'!$B54)) -> 214.65015 | ... M54: =ABS(('T und E'!M55-'T und E'!M54)/('T und E'!$B55-'T und E'!$B54)) -> 31.413994 | P54: ='T und E'!P54 -> 8.52111 | Q54: =ABS(('T und E'!Q55-'T und E'!Q54)/('T und E'!$B55-'T und E'!$B54)) -> 0.013928571 | R54: =ABS(('T und E'!R55-'T und E'!R54)/('T und E'!$B55-'T und E'!$B54)) -> 0.013950437 | S54: =ABS(('T und E'!S55-'T und E'!S54)/('T und E'!$B55-'T und E'!$B54)) -> 0.013965015 | T54: =ABS(('T und E'!T55-'T und E'!T54)/('T und E'!$B55-'T und E'!$B54)) -> 0.013928571 | U54: =ABS(('T und E'!U55-'T und E'!U54)/('T und E'!$B55-'T und E'!$B54)) -> 0.013316327 | V54: =ABS(('T und E'!V55-'T und E'!V54)/('T und E'!$B55-'T und E'!$B54)) -> 0.0035787172 | W54: =ABS(('T und E'!W55-'T und E'!W54)/('T und E'!$B55-'T und E'!$B54)) -> 0.013338192 | X54: =ABS(('T und E'!X55-'T und E'!X54)/('T und E'!$B55-'T und E'!$B54)) -> 0.013061224 | ... AA54: =ABS(('T und E'!AA55-'T und E'!AA54)/('T und E'!$B55-'T und E'!$B54)) -> 0.00018075802 | AC54: ='T und E'!AC54 -> 8.52111 | AD54: =ABS(('T und E'!AD54-'T und E'!AD53)/('T und E'!$B55-'T und E'!$B54)) -> 0.011774781 | AE54: =ABS(('T und E'!AE55-'T und E'!AE54)/('T und E'!$B55-'T und E'!$B54)) -> 0.016573615 | AF54: =ABS(('T und E'!AF55-'T und E'!AF54)/('T und E'!$B55-'T und E'!$B54)) -> 0.016406706 | AG54: =ABS(('T und E'!AG55-'T und E'!AG54)/('T und E'!$B55-'T und E'!$B54)) -> 0.016131195 | AH54: =ABS(('T und E'!AH55-'T und E'!AH54)/('T und E'!$B55-'T und E'!$B54)) -> 0.015569242 | AI54: =ABS(('T und E'!AI55-'T und E'!AI54)/('T und E'!$B55-'T und E'!$B54)) -> 0.0083571429 | AJ54: =ABS(('T und E'!AJ55-'T und E'!AJ54)/('T und E'!$B55-'T und E'!$B54)) -> 0.0017463557 | AK54: =ABS(('T und E'!AK55-'T und E'!AK54)/('T und E'!$B55-'T und E'!$B54)) -> 0.0038228863 | AL54: =ABS(('T und E'!AL55-'T und E'!AL54)/('T und E'!$B55-'T und E'!$B54)) -> 0.00040889213 | ... AN54: =ABS(('T und E'!AN55-'T und E'!AN54)/('T und E'!$B55-'T und E'!$B54)) -> 0.00074344023 | AP54: ='T und E'!AP54 -> 8.52111 | AQ54: =ABS(('T und E'!AQ55-'T und E'!AQ54)/('T und E'!$B55-'T und E'!$B54)) -> 0.0027223032 | AR54: =ABS(('T und E'!AR55-'T und E'!AR54)/('T und E'!$B55-'T und E'!$B54)) -> 0.0027274052 | AS54: =ABS(('T und E'!AS55-'T und E'!AS54)/('T und E'!$B55-'T und E'!$B54)) -> 0.0027397959 | AT54: =ABS(('T und E'!AT55-'T und E'!AT54)/('T und E'!$B55-'T und E'!$B54)) -> 0.0027682216 | AU54: =ABS(('T und E'!AU55-'T und E'!AU54)/('T und E'!$B55-'T und E'!$B54)) -> 0.0028301749 | AV54: =ABS(('T und E'!AV55-'T und E'!AV54)/('T und E'!$B55-'T und E'!$B54)) -> 0.0029285714 | AW54: =ABS(('T und E'!AW55-'T und E'!AW54)/('T und E'!$B55-'T und E'!$B54)) -> 0.0023360058 | AX54: =ABS(('T und E'!AX55-'T und E'!AX54)/('T und E'!$B55-'T und E'!$B54)) -> 0.00096720117 | ... BA54: =ABS(('T und E'!BA55-'T und E'!BA54)/('T und E'!$B55-'T und E'!$B54)) -> 1.7492711e-05
B55: ='T und E'!B55 -> 8.53483 | C55: =ABS(('T und E'!C56-'T und E'!C55)/('T und E'!$B56-'T und E'!$B55)) -> 81.712062 | D55: =ABS(('T und E'!D56-'T und E'!D55)/('T und E'!$B56-'T und E'!$B55)) -> 81.712062 | E55: =ABS(('T und E'!E56-'T und E'!E55)/('T und E'!$B56-'T und E'!$B55)) -> 80.7393 | F55: =ABS(('T und E'!F56-'T und E'!F55)/('T und E'!$B56-'T und E'!$B55)) -> 79.766537 | G55: =ABS(('T und E'!G56-'T und E'!G55)/('T und E'!$B56-'T und E'!$B55)) -> 71.984436 | H55: =ABS(('T und E'!H56-'T und E'!H55)/('T und E'!$B56-'T und E'!$B55)) -> 34.046693 | I55: =ABS(('T und E'!I56-'T und E'!I55)/('T und E'!$B56-'T und E'!$B55)) -> 369.45525 | J55: =ABS(('T und E'!J56-'T und E'!J55)/('T und E'!$B56-'T und E'!$B55)) -> 212.25681 | ... M55: =ABS(('T und E'!M56-'T und E'!M55)/('T und E'!$B56-'T und E'!$B55)) -> 31.51751 | P55: ='T und E'!P55 -> 8.53483 | Q55: =ABS(('T und E'!Q56-'T und E'!Q55)/('T und E'!$B56-'T und E'!$B55)) -> 0.011303502 | R55: =ABS(('T und E'!R56-'T und E'!R55)/('T und E'!$B56-'T und E'!$B55)) -> 0.011322957 | S55: =ABS(('T und E'!S56-'T und E'!S55)/('T und E'!$B56-'T und E'!$B55)) -> 0.01135214 | T55: =ABS(('T und E'!T56-'T und E'!T55)/('T und E'!$B56-'T und E'!$B55)) -> 0.011371595 | U55: =ABS(('T und E'!U56-'T und E'!U55)/('T und E'!$B56-'T und E'!$B55)) -> 0.011449416 | V55: =ABS(('T und E'!V56-'T und E'!V55)/('T und E'!$B56-'T und E'!$B55)) -> 0.0034727626 | W55: =ABS(('T und E'!W56-'T und E'!W55)/('T und E'!$B56-'T und E'!$B55)) -> 0.013171206 | X55: =ABS(('T und E'!X56-'T und E'!X55)/('T und E'!$B56-'T und E'!$B55)) -> 0.013025292 | ... AA55: =ABS(('T und E'!AA56-'T und E'!AA55)/('T und E'!$B56-'T und E'!$B55)) -> 0.0001770428 | AC55: ='T und E'!AC55 -> 8.53483 | AD55: =ABS(('T und E'!AD55-'T und E'!AD54)/('T und E'!$B56-'T und E'!$B55)) -> 0.022235409 | AE55: =ABS(('T und E'!AE56-'T und E'!AE55)/('T und E'!$B56-'T und E'!$B55)) -> 0.016206226 | AF55: =ABS(('T und E'!AF56-'T und E'!AF55)/('T und E'!$B56-'T und E'!$B55)) -> 0.016043774 | AG55: =ABS(('T und E'!AG56-'T und E'!AG55)/('T und E'!$B56-'T und E'!$B55)) -> 0.015784047 | AH55: =ABS(('T und E'!AH56-'T und E'!AH55)/('T und E'!$B56-'T und E'!$B55)) -> 0.015332685 | AI55: =ABS(('T und E'!AI56-'T und E'!AI55)/('T und E'!$B56-'T und E'!$B55)) -> 0.0082392996 | AJ55: =ABS(('T und E'!AJ56-'T und E'!AJ55)/('T und E'!$B56-'T und E'!$B55)) -> 0.0018190661 | AK55: =ABS(('T und E'!AK56-'T und E'!AK55)/('T und E'!$B56-'T und E'!$B55)) -> 0.0038463035 | AL55: =ABS(('T und E'!AL56-'T und E'!AL55)/('T und E'!$B56-'T und E'!$B55)) -> 0.00043385214 | ... AN55: =ABS(('T und E'!AN56-'T und E'!AN55)/('T und E'!$B56-'T und E'!$B55)) -> 0.00073832685 | AP55: ='T und E'!AP55 -> 8.53483 | AQ55: =ABS(('T und E'!AQ56-'T und E'!AQ55)/('T und E'!$B56-'T und E'!$B55)) -> 0.0027305447 | AR55: =ABS(('T und E'!AR56-'T und E'!AR55)/('T und E'!$B56-'T und E'!$B55)) -> 0.0027354086 | AS55: =ABS(('T und E'!AS56-'T und E'!AS55)/('T und E'!$B56-'T und E'!$B55)) -> 0.0027451362 | AT55: =ABS(('T und E'!AT56-'T und E'!AT55)/('T und E'!$B56-'T und E'!$B55)) -> 0.0027684825 | AU55: =ABS(('T und E'!AU56-'T und E'!AU55)/('T und E'!$B56-'T und E'!$B55)) -> 0.0028210117 | AV55: =ABS(('T und E'!AV56-'T und E'!AV55)/('T und E'!$B56-'T und E'!$B55)) -> 0.0029134241 | AW55: =ABS(('T und E'!AW56-'T und E'!AW55)/('T und E'!$B56-'T und E'!$B55)) -> 0.0023326848 | AX55: =ABS(('T und E'!AX56-'T und E'!AX55)/('T und E'!$B56-'T und E'!$B55)) -> 0.0009766537 | ... BA55: =ABS(('T und E'!BA56-'T und E'!BA55)/('T und E'!$B56-'T und E'!$B55)) -> 1.9455253e-05
B56: ='T und E'!B56 -> 8.54511 | C56: =ABS(('T und E'!C57-'T und E'!C56)/('T und E'!$B57-'T und E'!$B56)) -> 50.550875 | D56: =ABS(('T und E'!D57-'T und E'!D56)/('T und E'!$B57-'T und E'!$B56)) -> 50.550875 | E56: =ABS(('T und E'!E57-'T und E'!E56)/('T und E'!$B57-'T und E'!$B56)) -> 50.550875 | F56: =ABS(('T und E'!F57-'T und E'!F56)/('T und E'!$B57-'T und E'!$B56)) -> 49.254699 | G56: =ABS(('T und E'!G57-'T und E'!G56)/('T und E'!$B57-'T und E'!$B56)) -> 46.014258 | H56: =ABS(('T und E'!H57-'T und E'!H56)/('T und E'!$B57-'T und E'!$B56)) -> 31.108231 | I56: =ABS(('T und E'!I57-'T und E'!I56)/('T und E'!$B57-'T und E'!$B56)) -> 360.01296 | J56: =ABS(('T und E'!J57-'T und E'!J56)/('T und E'!$B57-'T und E'!$B56)) -> 209.46209 | ... M56: =ABS(('T und E'!M57-'T und E'!M56)/('T und E'!$B57-'T und E'!$B56)) -> 31.626701 | P56: ='T und E'!P56 -> 8.54511 | Q56: =ABS(('T und E'!Q57-'T und E'!Q56)/('T und E'!$B57-'T und E'!$B56)) -> 0.010492547 | R56: =ABS(('T und E'!R57-'T und E'!R56)/('T und E'!$B57-'T und E'!$B56)) -> 0.010518471 | S56: =ABS(('T und E'!S57-'T und E'!S56)/('T und E'!$B57-'T und E'!$B56)) -> 0.010544394 | T56: =ABS(('T und E'!T57-'T und E'!T56)/('T und E'!$B57-'T und E'!$B56)) -> 0.01058976 | U56: =ABS(('T und E'!U57-'T und E'!U56)/('T und E'!$B57-'T und E'!$B56)) -> 0.010667531 | V56: =ABS(('T und E'!V57-'T und E'!V56)/('T und E'!$B57-'T und E'!$B56)) -> 0.003331173 | W56: =ABS(('T und E'!W57-'T und E'!W56)/('T und E'!$B57-'T und E'!$B56)) -> 0.013220998 | X56: =ABS(('T und E'!X57-'T und E'!X56)/('T und E'!$B57-'T und E'!$B56)) -> 0.013071938 | ... AA56: =ABS(('T und E'!AA57-'T und E'!AA56)/('T und E'!$B57-'T und E'!$B56)) -> 0.00017174336 | AC56: ='T und E'!AC56 -> 8.54511 | AD56: =ABS(('T und E'!AD56-'T und E'!AD55)/('T und E'!$B57-'T und E'!$B56)) -> 0.010854828 | AE56: =ABS(('T und E'!AE57-'T und E'!AE56)/('T und E'!$B57-'T und E'!$B56)) -> 0.016222942 | AF56: =ABS(('T und E'!AF57-'T und E'!AF56)/('T und E'!$B57-'T und E'!$B56)) -> 0.016049903 | AG56: =ABS(('T und E'!AG57-'T und E'!AG56)/('T und E'!$B57-'T und E'!$B56)) -> 0.015760855 | AH56: =ABS(('T und E'!AH57-'T und E'!AH56)/('T und E'!$B57-'T und E'!$B56)) -> 0.015252754 | AI56: =ABS(('T und E'!AI57-'T und E'!AI56)/('T und E'!$B57-'T und E'!$B56)) -> 0.008169151 | AJ56: =ABS(('T und E'!AJ57-'T und E'!AJ56)/('T und E'!$B57-'T und E'!$B56)) -> 0.0019572262 | AK56: =ABS(('T und E'!AK57-'T und E'!AK56)/('T und E'!$B57-'T und E'!$B56)) -> 0.0039455606 | AL56: =ABS(('T und E'!AL57-'T und E'!AL56)/('T und E'!$B57-'T und E'!$B56)) -> 0.00048671419 | ... AN56: =ABS(('T und E'!AN57-'T und E'!AN56)/('T und E'!$B57-'T und E'!$B56)) -> 0.00072909916 | AP56: ='T und E'!AP56 -> 8.54511 | AQ56: =ABS(('T und E'!AQ57-'T und E'!AQ56)/('T und E'!$B57-'T und E'!$B56)) -> 0.002757615 | AR56: =ABS(('T und E'!AR57-'T und E'!AR56)/('T und E'!$B57-'T und E'!$B56)) -> 0.0027615036 | AS56: =ABS(('T und E'!AS57-'T und E'!AS56)/('T und E'!$B57-'T und E'!$B56)) -> 0.002771873 | AT56: =ABS(('T und E'!AT57-'T und E'!AT56)/('T und E'!$B57-'T und E'!$B56)) -> 0.0027945561 | AU56: =ABS(('T und E'!AU57-'T und E'!AU56)/('T und E'!$B57-'T und E'!$B56)) -> 0.0028431627 | AV56: =ABS(('T und E'!AV57-'T und E'!AV56)/('T und E'!$B57-'T und E'!$B56)) -> 0.0029313027 | AW56: =ABS(('T und E'!AW57-'T und E'!AW56)/('T und E'!$B57-'T und E'!$B56)) -> 0.0023486714 | AX56: =ABS(('T und E'!AX57-'T und E'!AX56)/('T und E'!$B57-'T und E'!$B56)) -> 0.0009889825 | ... BA56: =ABS(('T und E'!BA57-'T und E'!BA56)/('T und E'!$B57-'T und E'!$B56)) -> 1.9442644e-05
B57: ='T und E'!B57 -> 8.56054 | C57: =ABS(('T und E'!C58-'T und E'!C57)/('T und E'!$B58-'T und E'!$B57)) -> 35.436474 | D57: =ABS(('T und E'!D58-'T und E'!D57)/('T und E'!$B58-'T und E'!$B57)) -> 35.436474 | E57: =ABS(('T und E'!E58-'T und E'!E57)/('T und E'!$B58-'T und E'!$B57)) -> 35.436474 | F57: =ABS(('T und E'!F58-'T und E'!F57)/('T und E'!$B58-'T und E'!$B57)) -> 35.436474 | G57: =ABS(('T und E'!G58-'T und E'!G57)/('T und E'!$B58-'T und E'!$B57)) -> 32.843561 | H57: =ABS(('T und E'!H58-'T und E'!H57)/('T und E'!$B58-'T und E'!$B57)) -> 24.200519 | I57: =ABS(('T und E'!I58-'T und E'!I57)/('T und E'!$B58-'T und E'!$B57)) -> 351.16681 | J57: =ABS(('T und E'!J58-'T und E'!J57)/('T und E'!$B58-'T und E'!$B57)) -> 206.828 | ... M57: =ABS(('T und E'!M58-'T und E'!M57)/('T und E'!$B58-'T und E'!$B57)) -> 31.633535 | P57: ='T und E'!P57 -> 8.56054 | Q57: =ABS(('T und E'!Q58-'T und E'!Q57)/('T und E'!$B58-'T und E'!$B57)) -> 0.010138289 | R57: =ABS(('T und E'!R58-'T und E'!R57)/('T und E'!$B58-'T und E'!$B57)) -> 0.010172861 | S57: =ABS(('T und E'!S58-'T und E'!S57)/('T und E'!$B58-'T und E'!$B57)) -> 0.010216076 | T57: =ABS(('T und E'!T58-'T und E'!T57)/('T und E'!$B58-'T und E'!$B57)) -> 0.010276577 | U57: =ABS(('T und E'!U58-'T und E'!U57)/('T und E'!$B58-'T und E'!$B57)) -> 0.010319793 | V57: =ABS(('T und E'!V58-'T und E'!V57)/('T und E'!$B58-'T und E'!$B57)) -> 0.0031114952 | W57: =ABS(('T und E'!W58-'T und E'!W57)/('T und E'!$B58-'T und E'!$B57)) -> 0.01346586 | X57: =ABS(('T und E'!X58-'T und E'!X57)/('T und E'!$B58-'T und E'!$B57)) -> 0.013241141 | ... AA57: =ABS(('T und E'!AA58-'T und E'!AA57)/('T und E'!$B58-'T und E'!$B57)) -> 0.00018150389 | AC57: ='T und E'!AC57 -> 8.56054 | AD57: =ABS(('T und E'!AD57-'T und E'!AD56)/('T und E'!$B58-'T und E'!$B57)) -> 0.021754538 | AE57: =ABS(('T und E'!AE58-'T und E'!AE57)/('T und E'!$B58-'T und E'!$B57)) -> 0.016156439 | AF57: =ABS(('T und E'!AF58-'T und E'!AF57)/('T und E'!$B58-'T und E'!$B57)) -> 0.015993086 | AG57: =ABS(('T und E'!AG58-'T und E'!AG57)/('T und E'!$B58-'T und E'!$B57)) -> 0.015725151 | AH57: =ABS(('T und E'!AH58-'T und E'!AH57)/('T und E'!$B58-'T und E'!$B57)) -> 0.015211755 | AI57: =ABS(('T und E'!AI58-'T und E'!AI57)/('T und E'!$B58-'T und E'!$B57)) -> 0.0080337079 | AJ57: =ABS(('T und E'!AJ58-'T und E'!AJ57)/('T und E'!$B58-'T und E'!$B57)) -> 0.0022143475 | AK57: =ABS(('T und E'!AK58-'T und E'!AK57)/('T und E'!$B58-'T und E'!$B57)) -> 0.0041149525 | AL57: =ABS(('T und E'!AL58-'T und E'!AL57)/('T und E'!$B58-'T und E'!$B57)) -> 0.00052549697 | ... AN57: =ABS(('T und E'!AN58-'T und E'!AN57)/('T und E'!$B58-'T und E'!$B57)) -> 0.00073811582 | AP57: ='T und E'!AP57 -> 8.56054 | AQ57: =ABS(('T und E'!AQ58-'T und E'!AQ57)/('T und E'!$B58-'T und E'!$B57)) -> 0.0028072602 | AR57: =ABS(('T und E'!AR58-'T und E'!AR57)/('T und E'!$B58-'T und E'!$B57)) -> 0.0028115817 | AS57: =ABS(('T und E'!AS58-'T und E'!AS57)/('T und E'!$B58-'T und E'!$B57)) -> 0.0028219533 | AT57: =ABS(('T und E'!AT58-'T und E'!AT57)/('T und E'!$B58-'T und E'!$B57)) -> 0.0028435609 | AU57: =ABS(('T und E'!AU58-'T und E'!AU57)/('T und E'!$B58-'T und E'!$B57)) -> 0.0028928263 | AV57: =ABS(('T und E'!AV58-'T und E'!AV57)/('T und E'!$B58-'T und E'!$B57)) -> 0.0029740709 | AW57: =ABS(('T und E'!AW58-'T und E'!AW57)/('T und E'!$B58-'T und E'!$B57)) -> 0.0023742437 | AX57: =ABS(('T und E'!AX58-'T und E'!AX57)/('T und E'!$B58-'T und E'!$B57)) -> 0.00099222126 | ... BA57: =ABS(('T und E'!BA58-'T und E'!BA57)/('T und E'!$B58-'T und E'!$B57)) -> 1.5557476e-05
