Workbook

Sheet T und E
C1: NT11 | Q1: E11 (radial) | AD1: E22 (axial) | AQ1: E33 (tangential)
A2: Node | C2: 871 | D2: 3699 | E2: 4056 | F2: 4413 | G2: 4770 | H2: 301 | I2: 2182 | J2: 2063 | K2: 1944 | L2: 1825 | M2: 1706 | Q2: 871 | R2: 3699 | S2: 4056 | T2: 4413 | U2: 4770 | V2: 301 | W2: 2182 | X2: 2063 | Y2: 1944 | Z2: 1825 | AA2: 1706 | AD2: 871 | AE2: 3699 | AF2: 4056 | AG2: 4413 | AH2: 4770 | AI2: 301 | AJ2: 2182 | AK2: 2063 | AL2: 1944 | AM2: 1825 | AN2: 1706 | AQ2: 871 | AR2: 3699 | AS2: 4056 | AT2: 4413 | AU2: 4770 | AV2: 301 | AW2: 2182 | AX2: 2063 | AY2: 1944 | AZ2: 1825 | BA2: 1706
A3: x [m] | C3: 0.025 | D3: 0.0249918 | E3: 0.0249738 | F3: 0.024934 | G3: 0.0248458 | H3: 0.0246509 | I3: 0.0221897 | J3: 0.0197285 | K3: 0.0172673 | L3: 0.0148061 | M3: 0.0123449 | Q3: 0.025 | R3: 0.0249918 | S3: 0.0249738 | T3: 0.024934 | U3: 0.0248458 | V3: 0.0246509 | W3: 0.0221897 | X3: 0.0197285 | Y3: 0.0172673 | Z3: 0.0148061 | AA3: 0.0123449 | AD3: 0.025 | AE3: 0.0249918 | AF3: 0.0249738 | AG3: 0.024934 | AH3: 0.0248458 | AI3: 0.0246509 | AJ3: 0.0221897 | AK3: 0.0197285 | AL3: 0.0172673 | AM3: 0.0148061 | AN3: 0.0123449 | AQ3: 0.025 | AR3: 0.0249918 | AS3: 0.0249738 | AT3: 0.024934 | AU3: 0.0248458 | AV3: 0.0246509 | AW3: 0.0221897 | AX3: 0.0197285 | AY3: 0.0172673 | AZ3: 0.0148061 | BA3: 0.0123449
A4: y [m] | C4: 0.0883433 | D4: 0.0883422 | E4: 0.0883398 | F4: 0.0883345 | G4: 0.0883228 | H4: 0.0882968 | I4: 0.0882968 | J4: 0.0882968 | K4: 0.0882968 | L4: 0.0882968 | M4: 0.0882968 | Q4: 0.0883433 | R4: 0.0883422 | S4: 0.0883398 | T4: 0.0883345 | U4: 0.0883228 | V4: 0.0882968 | W4: 0.0882968 | X4: 0.0882968 | Y4: 0.0882968 | Z4: 0.0882968 | AA4: 0.0882968 | AD4: 0.0883433 | AE4: 0.0883422 | AF4: 0.0883398 | AG4: 0.0883345 | AH4: 0.0883228 | AI4: 0.0882968 | AJ4: 0.0882968 | AK4: 0.0882968 | AL4: 0.0882968 | AM4: 0.0882968 | AN4: 0.0882968 | AQ4: 0.0883433 | AR4: 0.0883422 | AS4: 0.0883398 | AT4: 0.0883345 | AU4: 0.0883228 | AV4: 0.0882968 | AW4: 0.0882968 | AX4: 0.0882968 | AY4: 0.0882968 | AZ4: 0.0882968 | BA4: 0.0882968
A5: z [m] | C5: 0 | D5: 0 | E5: 0 | F5: 0 | G5: 0 | H5: 0 | I5: 0 | J5: 0 | K5: 0 | L5: 0 | M5: 0 | Q5: 0 | R5: 0 | S5: 0 | T5: 0 | U5: 0 | V5: 0 | W5: 0 | X5: 0 | Y5: 0 | Z5: 0 | AA5: 0 | AD5: 0 | AE5: 0 | AF5: 0 | AG5: 0 | AH5: 0 | AI5: 0 | AJ5: 0 | AK5: 0 | AL5: 0 | AM5: 0 | AN5: 0 | AQ5: 0 | AR5: 0 | AS5: 0 | AT5: 0 | AU5: 0 | AV5: 0 | AW5: 0 | AX5: 0 | AY5: 0 | AZ5: 0 | BA5: 0
A6: Abstand zu Oberfläche [mm] | C6: =ABS(C3-$C$3)*1000 -> 0 | D6: =ABS(D3-$C$3)*1000 -> 0.0082 | E6: =ABS(E3-$C$3)*1000 -> 0.0262 | F6: =ABS(F3-$C$3)*1000 -> 0.066 | G6: =ABS(G3-$C$3)*1000 -> 0.1542 | H6: =ABS(H3-$C$3)*1000 -> 0.3491 | I6: =ABS(I3-$C$3)*1000 -> 2.8103 | J6: =ABS(J3-$C$3)*1000 -> 5.2715 | ... M6: =ABS(M3-$C$3)*1000 -> 12.6551 | Q6: =ABS(Q3-$C$3)*1000 -> 0 | R6: =ABS(R3-$C$3)*1000 -> 0.0082 | S6: =ABS(S3-$C$3)*1000 -> 0.0262 | T6: =ABS(T3-$C$3)*1000 -> 0.066 | U6: =ABS(U3-$C$3)*1000 -> 0.1542 | V6: =ABS(V3-$C$3)*1000 -> 0.3491 | W6: =ABS(W3-$C$3)*1000 -> 2.8103 | X6: =ABS(X3-$C$3)*1000 -> 5.2715 | ... AA6: =ABS(AA3-$C$3)*1000 -> 12.6551 | AD6: =ABS(AD3-$C$3)*1000 -> 0 | AE6: =ABS(AE3-$C$3)*1000 -> 0.0082 | AF6: =ABS(AF3-$C$3)*1000 -> 0.0262 | AG6: =ABS(AG3-$C$3)*1000 -> 0.066 | AH6: =ABS(AH3-$C$3)*1000 -> 0.1542 | AI6: =ABS(AI3-$C$3)*1000 -> 0.3491 | AJ6: =ABS(AJ3-$C$3)*1000 -> 2.8103 | AK6: =ABS(AK3-$C$3)*1000 -> 5.2715 | ... AN6: =ABS(AN3-$C$3)*1000 -> 12.6551 | AQ6: =ABS(AQ3-$C$3)*1000 -> 0 | AR6: =ABS(AR3-$C$3)*1000 -> 0.0082 | AS6: =ABS(AS3-$C$3)*1000 -> 0.0262 | AT6: =ABS(AT3-$C$3)*1000 -> 0.066 | AU6: =ABS(AU3-$C$3)*1000 -> 0.1542 | AV6: =ABS(AV3-$C$3)*1000 -> 0.3491 | AW6: =ABS(AW3-$C$3)*1000 -> 2.8103 | AX6: =ABS(AX3-$C$3)*1000 -> 5.2715 | ... BA6: =ABS(BA3-$C$3)*1000 -> 12.6551
B7: 0 | C7: 20 | D7: 20 | E7: 20 | F7: 20 | G7: 20 | H7: 20 | I7: 20 | J7: 20 | K7: 20 | L7: 20 | M7: 20 | P7: 0 | Q7: 0 | R7: 0 | S7: 0 | T7: 0 | U7: 0 | V7: 0 | W7: 0 | X7: 0 | Y7: 0 | Z7: 0 | AA7: 0 | AC7: 0 | AD7: 0 | AE7: 0 | AF7: 0 | AG7: 0 | AH7: 0 | AI7: 0 | AJ7: 0 | AK7: 0 | AL7: 0 | AM7: 0 | AN7: 0 | AP7: 0 | AQ7: 0 | AR7: 0 | AS7: 0 | AT7: 0 | AU7: 0 | AV7: 0 | AW7: 0 | AX7: 0 | AY7: 0 | AZ7: 0 | BA7: 0
B8: 0.1 | C8: 95.0187 | D8: 94.9344 | E8: 94.2915 | F8: 91.7433 | G8: 84.8466 | H8: 70.2581 | I8: 27.2872 | J8: 21.0401 | K8: 20.1488 | L8: 20.0215 | M8: 20.0031 | P8: 0.1 | Q8: 0.0015801 | R8: 0.00157835 | S8: 0.00156396 | T8: 0.00150674 | U8: 0.00135266 | V8: 0.000841414 | W8: 0.000330125 | X8: 5.08201e-05 | Y8: 2.44879e-05 | Z8: 2.84203e-05 | AA8: 3.30649e-05 | AC8: 0.1 | AD8: 0.000180239 | AE8: 0.000180241 | AF8: 0.000180243 | AG8: 0.000180227 | AH8: 0.000180101 | AI8: 0.000171634 | AJ8: 0.00014401 | AK8: 0.000104217 | AL8: 7.00667e-05 | AM8: 4.69509e-05 | AN8: 3.19459e-05 | AP8: 0.1 | AQ8: 0.000112703 | AR8: 0.000112284 | AS8: 0.000111184 | AT8: 0.000108732 | AU8: 0.000103642 | AV8: 8.2094e-05 | AW8: 5.19563e-05 | AX8: 3.49775e-05 | AY8: 3.46638e-05 | AZ8: 3.60317e-05 | BA8: 3.70749e-05
B9: 0.2 | C9: 139.729 | D9: 139.644 | E9: 138.996 | F9: 136.41 | G9: 129.327 | H9: 113.972 | I9: 39.2296 | J9: 23.541 | K9: 20.6197 | L9: 20.1057 | M9: 20.0179 | P9: 0.2 | Q9: 0.0025211 | R9: 0.00251942 | S9: 0.00250437 | T9: 0.0024433 | U9: 0.0022768 | V9: 0.00156844 | W9: 0.00067727 | X9: 0.000140829 | Y9: 5.7181e-05 | Z9: 5.5823e-05 | AA9: 6.32978e-05 | AC9: 0.2 | AD9: 0.000363047 | AE9: 0.000363003 | AF9: 0.000362888 | AG9: 0.000362603 | AH9: 0.000361802 | AI9: 0.000342921 | AJ9: 0.000286401 | AK9: 0.000208121 | AL9: 0.000142026 | AM9: 9.68031e-05 | AN9: 6.7106e-05 | AP9: 0.2 | AQ9: 0.000221948 | AR9: 0.000221302 | AS9: 0.000219589 | AT9: 0.000215757 | AU9: 0.000207627 | AV9: 0.000168033 | AW9: 0.000108316 | AX9: 7.13367e-05 | AY9: 6.75766e-05 | AZ9: 6.94511e-05 | BA9: 7.14105e-05
B10: 0.35 | C10: 185.836 | D10: 185.768 | E10: 185.234 | F10: 183.034 | G10: 176.755 | H10: 162.673 | I10: 60.6134 | J10: 29.7868 | K10: 22.1317 | L10: 20.4371 | M10: 20.0865 | P10: 0.35 | Q10: 0.0034969 | R10: 0.00349587 | S10: 0.00348396 | T10: 0.00343191 | U10: 0.00328258 | V10: 0.00242817 | W10: 0.00115959 | X10: 0.000319728 | Y10: 0.000120638 | Z10: 9.38222e-05 | AA10: 0.000100306 | AC10: 0.35 | AD10: 0.000609723 | AE10: 0.000609561 | AF10: 0.000609148 | AG10: 0.00060819 | AH10: 0.000605863 | AI10: 0.000571666 | AJ10: 0.000477812 | AK10: 0.00035311 | AL10: 0.000249037 | AM10: 0.000176068 | AN10: 0.000126984 | AP10: 0.35 | AQ10: 0.000369884 | AR10: 0.000369017 | AS10: 0.000366701 | AT10: 0.000361496 | AU10: 0.000350266 | AV10: 0.00028956 | AW10: 0.000191496 | AX10: 0.000123863 | AY10: 0.00011052 | AZ10: 0.000111193 | BA10: 0.000114022
B11: 0.575 | C11: 237.331 | D11: 237.266 | E11: 236.755 | F11: 234.624 | G11: 228.477 | H11: 214.552 | I11: 93.8748 | J11: 43.8035 | K11: 26.7682 | L11: 21.7688 | M11: 20.4369 | P11: 0.575 | Q11: 0.00458953 | R11: 0.00458884 | S11: 0.00457785 | T11: 0.00452745 | U11: 0.00437987 | V11: 0.00340862 | W11: 0.00182035 | X11: 0.000645263 | Y11: 0.00025861 | Z11: 0.000162124 | AA11: 0.000152229 | AC11: 0.575 | AD11: 0.000947938 | AE11: 0.000947582 | AF11: 0.000946691 | AG11: 0.000944673 | AH11: 0.000939991 | AI11: 0.000885346 | AJ11: 0.000744188 | AK11: 0.000562146 | AL11: 0.000410781 | AM11: 0.000301559 | AN11: 0.000225981 | AP11: 0.575 | AQ11: 0.000577041 | AR11: 0.000575944 | AS11: 0.00057298 | AT11: 0.000566296 | AU11: 0.00055178 | AV11: 0.000466932 | AW11: 0.000320313 | AX11: 0.000207357 | AY11: 0.00017315 | AZ11: 0.000167295 | BA11: 0.000169424
B12: 0.9125 | C12: 293.568 | D12: 293.508 | E12: 293.022 | F12: 290.974 | G12: 284.979 | H12: 271.216 | I12: 139.212 | J12: 69.6965 | K12: 38.3752 | L12: 26.1793 | M12: 21.9397 | P12: 0.9125 | Q12: 0.0057791 | R12: 0.00577878 | S12: 0.00576886 | T12: 0.00572037 | U12: 0.00557456 | V12: 0.00452695 | W12: 0.00267986 | X12: 0.00116889 | Y12: 0.000534214 | Z12: 0.000301452 | AA12: 0.00023769 | AC12: 0.9125 | AD12: 0.0014014 | AE12: 0.00140078 | AF12: 0.00139925 | AG12: 0.00139581 | AH12: 0.00138801 | AI12: 0.00130789 | AJ12: 0.00110955 | AK12: 0.000859294 | AL12: 0.000651162 | AM12: 0.0004965 | AN12: 0.000386039 | AP12: 0.9125 | AQ12: 0.000864588 | AR12: 0.000863265 | AS12: 0.000859642 | AT12: 0.000851443 | AU12: 0.00083356 | AV12: 0.000721908 | AW12: 0.000516952 | AX12: 0.000342228 | AY12: 0.000270527 | AZ12: 0.000246695 | BA12: 0.000242493
B13: 1.41875 | C13: 355.775 | D13: 355.718 | E13: 355.253 | F13: 353.269 | G13: 347.381 | H13: 333.735 | I13: 195.71 | J13: 110.431 | K13: 62.4007 | L13: 38.2094 | M13: 27.2903 | P13: 1.41875 | Q13: 0.00734165 | R13: 0.00734263 | S13: 0.00733042 | T13: 0.00726032 | U13: 0.00704008 | V13: 0.0057982 | W13: 0.00375868 | X13: 0.0019453 | Y13: 0.00101916 | Z13: 0.000584179 | AA13: 0.000403478 | AC13: 1.41875 | AD13: 0.0019863 | AE13: 0.00198539 | AF13: 0.0019831 | AG13: 0.00197794 | AH13: 0.00196592 | AI13: 0.00185992 | AJ13: 0.00160334 | AK13: 0.00128028 | AL13: 0.00100714 | AM13: 0.000797421 | AN13: 0.000642617 | AP13: 1.41875 | AQ13: 0.00126482 | AR13: 0.0012632 | AS13: 0.00125872 | AT13: 0.00124855 | AU13: 0.00122642 | AV13: 0.00108554 | AW13: 0.000814156 | AX13: 0.000560547 | AY13: 0.000430184 | AZ13: 0.000369415 | BA13: 0.000345385
B14: 2.01875 | C14: 413.096 | D14: 413.042 | E14: 412.59 | F14: 410.643 | G14: 404.805 | H14: 391.179 | I14: 249.837 | J14: 155.083 | K14: 94.499 | L14: 58.3936 | M14: 38.5837 | P14: 2.01875 | Q14: 0.00891484 | R14: 0.00891674 | S14: 0.00890811 | T14: 0.00884885 | U14: 0.00865438 | V14: 0.00717971 | W14: 0.0048064 | X14: 0.00278063 | Y14: 0.00161543 | Z14: 0.000982044 | AA14: 0.000657386 | AC14: 2.01875 | AD14: 0.0025902 | AE14: 0.00258898 | AF14: 0.00258592 | AG14: 0.00257909 | AH14: 0.00256394 | AI14: 0.00243217 | AJ14: 0.00212243 | AK14: 0.00173844 | AL14: 0.00141254 | AM14: 0.00115486 | AN14: 0.000958663 | AP14: 2.01875 | AQ14: 0.00170482 | AR14: 0.0017029 | AS14: 0.00169759 | AT14: 0.00168553 | AU14: 0.00165912 | AV14: 0.0014906 | AW14: 0.0011598 | AX14: 0.000831499 | AY14: 0.000637649 | AZ14: 0.000528887 | BA14: 0.000472019
B15: 2.61875 | C15: 458.984 | D15: 458.933 | E15: 458.496 | F15: 456.598 | G15: 450.863 | H15: 437.403 | I15: 294.692 | J15: 194.839 | K15: 126.504 | L15: 81.6832 | M15: 53.9929 | P15: 2.61875 | Q15: 0.00995796 | R15: 0.00996038 | S15: 0.00995333 | T15: 0.00989766 | U15: 0.00970983 | V15: 0.0081775 | W15: 0.00566868 | X15: 0.00352427 | Y15: 0.0021942 | Z15: 0.00140305 | AA15: 0.000955009 | AC15: 2.61875 | AD15: 0.00313534 | AE15: 0.00313389 | AF15: 0.00313024 | AG15: 0.00312214 | AH15: 0.0031042 | AI15: 0.00295164 | AJ15: 0.00259752 | AK15: 0.00216368 | AL15: 0.00179667 | AM15: 0.00150274 | AN15: 0.00127468 | AP15: 2.61875 | AQ15: 0.00210919 | AR15: 0.00210712 | AS15: 0.00210134 | AT15: 0.00208819 | AU15: 0.00205935 | AV15: 0.00187245 | AW15: 0.0014982 | AX15: 0.00111159 | AY15: 0.000863241 | AZ15: 0.000708892 | BA15: 0.000616417
B16: 3.21875 | C16: 498.549 | D16: 498.499 | E16: 498.065 | F16: 496.173 | G16: 490.439 | H16: 476.954 | I16: 333.299 | J16: 230.3 | K16: 156.895 | L16: 105.891 | M16: 71.9062 | P16: 3.21875 | Q16: 0.0108776 | R16: 0.0108805 | S16: 0.0108745 | T16: 0.010821 | U16: 0.0106369 | V16: 0.00911023 | W16: 0.00648937 | X16: 0.00417218 | Y16: 0.00272335 | Z16: 0.00181324 | AA16: 0.00125917 | AC16: 3.21875 | AD16: 0.00355736 | AE16: 0.0035556 | AF16: 0.00355125 | AG16: 0.00354167 | AH16: 0.00352048 | AI16: 0.00335399 | AJ16: 0.00298812 | AK16: 0.00255084 | AL16: 0.00217098 | AM16: 0.00184956 | AN16: 0.00159522 | AP16: 3.21875 | AQ16: 0.0024988 | AR16: 0.00249661 | AS16: 0.00249045 | AT16: 0.00247639 | AU16: 0.00244553 | AV16: 0.00224022 | AW16: 0.00182319 | AX16: 0.00138533 | AY16: 0.00109191 | AZ16: 0.000897418 | BA16: 0.00077138
B17: 3.81875 | C17: 533.366 | D17: 533.317 | E17: 532.891 | F17: 531.021 | G17: 525.322 | H17: 511.876 | I17: 367.498 | J17: 262.21 | K17: 185.387 | L17: 129.943 | M17: 91.0692 | P17: 3.81875 | Q17: 0.0116403 | R17: 0.0116436 | S17: 0.0116395 | T17: 0.0115914 | U17: 0.0114205 | V17: 0.00992155 | W17: 0.00721246 | X17: 0.00475378 | Y17: 0.00320906 | Z17: 0.00219932 | AA17: 0.00155538 | AC17: 3.81875 | AD17: 0.00391063 | AE17: 0.00390881 | AF17: 0.00390429 | AG17: 0.00389431 | AH17: 0.0038725 | AI17: 0.00370115 | AJ17: 0.00333112 | AK17: 0.00289568 | AL17: 0.00251664 | AM17: 0.00218636 | AN17: 0.00191555 | AP17: 3.81875 | AQ17: 0.00286002 | AR17: 0.00285774 | AS17: 0.00285128 | AT17: 0.00283654 | AU17: 0.00280412 | AV17: 0.00258354 | AW17: 0.00213067 | AX17: 0.00164961 | AY17: 0.00131761 | AZ17: 0.0010881 | BA17: 0.000932081
B18: 4.41875 | C18: 564.891 | D18: 564.843 | E18: 564.422 | F18: 562.561 | G18: 556.871 | H18: 543.415 | I18: 398.375 | J18: 291.417 | K18: 212.128 | L18: 153.418 | M18: 110.78 | P18: 4.41875 | Q18: 0.0124983 | R18: 0.0125011 | S18: 0.0124909 | T18: 0.0124148 | U18: 0.0121601 | V18: 0.0106 | W18: 0.00784091 | X18: 0.00527955 | Y18: 0.00366556 | Z18: 0.00257949 | AA18: 0.0018562 | AC18: 4.41875 | AD18: 0.00426359 | AE18: 0.00426157 | AF18: 0.00425663 | AG18: 0.00424599 | AH18: 0.0042226 | AI18: 0.00404674 | AJ18: 0.00367142 | AK18: 0.00322996 | AL18: 0.00284486 | AM18: 0.00250632 | AN18: 0.00222425 | AP18: 4.41875 | AQ18: 0.00320423 | AR18: 0.00320181 | AS18: 0.00319497 | AT18: 0.00317933 | AU18: 0.0031451 | AV18: 0.00291244 | AW18: 0.00243146 | AX18: 0.00191577 | AY18: 0.00155152 | AZ18: 0.00129122 | BA18: 0.00110782
... B302: 22 | C302: 65.6865 | D302: 65.7936 | E302: 66.0304 | F302: 66.5543 | G302: 67.7135 | H302: 70.281 | I302: 103.332 | J302: 136.101 | K302: 167.437 | L302: 196.086 | M302: 221.189 | P302: 22 | Q302: -0.0075555 | R302: -0.0075237 | S302: -0.00744978 | T302: -0.00730199 | U302: -0.00697515 | V302: -0.00351308 | W302: 0.00250797 | X302: 0.0058635 | Y302: 0.00392846 | Z302: 0.00172005 | AA302: 0.00173608 | AC302: 22 | AD302: 0.00611744 | AE302: 0.00610114 | AF302: 0.00606367 | AG302: 0.00599547 | AH302: 0.00584504 | AI302: 0.00367545 | AJ302: -4.58274e-05 | AK302: -0.00145605 | AL302: -0.0001866 | AM302: 0.00107512 | AN302: 0.00175656 | AP302: 22 | AQ302: 0.00246752 | AR302: 0.00246971 | AS302: 0.00247707 | AT302: 0.00249414 | AU302: 0.00253097 | AV302: 0.00268665 | AW302: 0.00280486 | AX302: 0.00262381 | AY302: 0.00230183 | AZ302: 0.00222331 | BA302: 0.00232396

Sheet dT und dE
C1: dNT11 | Q1: dE11 (radial) | AD1: dE22 (axial) | AQ1: dE33 (tangential)
A2: Node | C2: 871 | D2: 3699 | E2: 4056 | F2: 4413 | G2: 4770 | H2: 301 | I2: 2182 | J2: 2063 | K2: 1944 | L2: 1825 | M2: 1706 | Q2: 871 | R2: 3699 | S2: 4056 | T2: 4413 | U2: 4770 | V2: 301 | W2: 2182 | X2: 2063 | Y2: 1944 | Z2: 1825 | AA2: 1706 | AD2: 871 | AE2: 3699 | AF2: 4056 | AG2: 4413 | AH2: 4770 | AI2: 301 | AJ2: 2182 | AK2: 2063 | AL2: 1944 | AM2: 1825 | AN2: 1706 | AQ2: 871 | AR2: 3699 | AS2: 4056 | AT2: 4413 | AU2: 4770 | AV2: 301 | AW2: 2182 | AX2: 2063 | AY2: 1944 | AZ2: 1825 | BA2: 1706
A3: x [m] | C3: 0.025 | D3: 0.0249918 | E3: 0.0249738 | F3: 0.024934 | G3: 0.0248458 | H3: 0.0246509 | I3: 0.0221897 | J3: 0.0197285 | K3: 0.0172673 | L3: 0.0148061 | M3: 0.0123449 | Q3: 0.025 | R3: 0.0249918 | S3: 0.0249738 | T3: 0.024934 | U3: 0.0248458 | V3: 0.0246509 | W3: 0.0221897 | X3: 0.0197285 | Y3: 0.0172673 | Z3: 0.0148061 | AA3: 0.0123449 | AD3: 0.025 | AE3: 0.0249918 | AF3: 0.0249738 | AG3: 0.024934 | AH3: 0.0248458 | AI3: 0.0246509 | AJ3: 0.0221897 | AK3: 0.0197285 | AL3: 0.0172673 | AM3: 0.0148061 | AN3: 0.0123449 | AQ3: 0.025 | AR3: 0.0249918 | AS3: 0.0249738 | AT3: 0.024934 | AU3: 0.0248458 | AV3: 0.0246509 | AW3: 0.0221897 | AX3: 0.0197285 | AY3: 0.0172673 | AZ3: 0.0148061 | BA3: 0.0123449
A4: y [m] | C4: 0.0883433 | D4: 0.0883422 | E4: 0.0883398 | F4: 0.0883345 | G4: 0.0883228 | H4: 0.0882968 | I4: 0.0882968 | J4: 0.0882968 | K4: 0.0882968 | L4: 0.0882968 | M4: 0.0882968 | Q4: 0.0883433 | R4: 0.0883422 | S4: 0.0883398 | T4: 0.0883345 | U4: 0.0883228 | V4: 0.0882968 | W4: 0.0882968 | X4: 0.0882968 | Y4: 0.0882968 | Z4: 0.0882968 | AA4: 0.0882968 | AD4: 0.0883433 | AE4: 0.0883422 | AF4: 0.0883398 | AG4: 0.0883345 | AH4: 0.0883228 | AI4: 0.0882968 | AJ4: 0.0882968 | AK4: 0.0882968 | AL4: 0.0882968 | AM4: 0.0882968 | AN4: 0.0882968 | AQ4: 0.0883433 | AR4: 0.0883422 | AS4: 0.0883398 | AT4: 0.0883345 | AU4: 0.0883228 | AV4: 0.0882968 | AW4: 0.0882968 | AX4: 0.0882968 | AY4: 0.0882968 | AZ4: 0.0882968 | BA4: 0.0882968
A5: z [m] | C5: 0 | D5: 0 | E5: 0 | F5: 0 | G5: 0 | H5: 0 | I5: 0 | J5: 0 | K5: 0 | L5: 0 | M5: 0 | Q5: 0 | R5: 0 | S5: 0 | T5: 0 | U5: 0 | V5: 0 | W5: 0 | X5: 0 | Y5: 0 | Z5: 0 | AA5: 0 | AD5: 0 | AE5: 0 | AF5: 0 | AG5: 0 | AH5: 0 | AI5: 0 | AJ5: 0 | AK5: 0 | AL5: 0 | AM5: 0 | AN5: 0 | AQ5: 0 | AR5: 0 | AS5: 0 | AT5: 0 | AU5: 0 | AV5: 0 | AW5: 0 | AX5: 0 | AY5: 0 | AZ5: 0 | BA5: 0
A6: Abstand zu Oberfläche [mm] | C6: =ABS(C3-$C$3)*1000 -> 0 | D6: =ABS(D3-$C$3)*1000 -> 0.0082 | E6: =ABS(E3-$C$3)*1000 -> 0.0262 | F6: =ABS(F3-$C$3)*1000 -> 0.066 | G6: =ABS(G3-$C$3)*1000 -> 0.1542 | H6: =ABS(H3-$C$3)*1000 -> 0.3491 | I6: =ABS(I3-$C$3)*1000 -> 2.8103 | J6: =ABS(J3-$C$3)*1000 -> 5.2715 | ... M6: =ABS(M3-$C$3)*1000 -> 12.6551 | Q6: =ABS(Q3-$C$3)*1000 -> 0 | R6: =ABS(R3-$C$3)*1000 -> 0.0082 | S6: =ABS(S3-$C$3)*1000 -> 0.0262 | T6: =ABS(T3-$C$3)*1000 -> 0.066 | U6: =ABS(U3-$C$3)*1000 -> 0.1542 | V6: =ABS(V3-$C$3)*1000 -> 0.3491 | W6: =ABS(W3-$C$3)*1000 -> 2.8103 | X6: =ABS(X3-$C$3)*1000 -> 5.2715 | ... AA6: =ABS(AA3-$C$3)*1000 -> 12.6551 | AD6: =ABS(AD3-$C$3)*1000 -> 0 | AE6: =ABS(AE3-$C$3)*1000 -> 0.0082 | AF6: =ABS(AF3-$C$3)*1000 -> 0.0262 | AG6: =ABS(AG3-$C$3)*1000 -> 0.066 | AH6: =ABS(AH3-$C$3)*1000 -> 0.1542 | AI6: =ABS(AI3-$C$3)*1000 -> 0.3491 | AJ6: =ABS(AJ3-$C$3)*1000 -> 2.8103 | AK6: =ABS(AK3-$C$3)*1000 -> 5.2715 | ... AN6: =ABS(AN3-$C$3)*1000 -> 12.6551 | AQ6: =ABS(AQ3-$C$3)*1000 -> 0 | AR6: =ABS(AR3-$C$3)*1000 -> 0.0082 | AS6: =ABS(AS3-$C$3)*1000 -> 0.0262 | AT6: =ABS(AT3-$C$3)*1000 -> 0.066 | AU6: =ABS(AU3-$C$3)*1000 -> 0.1542 | AV6: =ABS(AV3-$C$3)*1000 -> 0.3491 | AW6: =ABS(AW3-$C$3)*1000 -> 2.8103 | AX6: =ABS(AX3-$C$3)*1000 -> 5.2715 | ... BA6: =ABS(BA3-$C$3)*1000 -> 12.6551
B7: ='T und E'!B7 -> 0 | C7: =('T und E'!C8-'T und E'!C7)/('T und E'!$B8-'T und E'!$B7) -> 750.187 | D7: =('T und E'!D8-'T und E'!D7)/('T und E'!$B8-'T und E'!$B7) -> 749.344 | E7: =('T und E'!E8-'T und E'!E7)/('T und E'!$B8-'T und E'!$B7) -> 742.915 | F7: =('T und E'!F8-'T und E'!F7)/('T und E'!$B8-'T und E'!$B7) -> 717.433 | G7: =('T und E'!G8-'T und E'!G7)/('T und E'!$B8-'T und E'!$B7) -> 648.466 | H7: =('T und E'!H8-'T und E'!H7)/('T und E'!$B8-'T und E'!$B7) -> 502.581 | I7: =('T und E'!I8-'T und E'!I7)/('T und E'!$B8-'T und E'!$B7) -> 72.872 | J7: =('T und E'!J8-'T und E'!J7)/('T und E'!$B8-'T und E'!$B7) -> 10.401 | ... M7: =('T und E'!M8-'T und E'!M7)/('T und E'!$B8-'T und E'!$B7) -> 0.031 | P7: ='T und E'!P7 -> 0 | Q7: =('T und E'!Q8-'T und E'!Q7)/('T und E'!$B8-'T und E'!$B7) -> 0.015801 | R7: =('T und E'!R8-'T und E'!R7)/('T und E'!$B8-'T und E'!$B7) -> 0.0157835 | S7: =('T und E'!S8-'T und E'!S7)/('T und E'!$B8-'T und E'!$B7) -> 0.0156396 | T7: =('T und E'!T8-'T und E'!T7)/('T und E'!$B8-'T und E'!$B7) -> 0.0150674 | U7: =('T und E'!U8-'T und E'!U7)/('T und E'!$B8-'T und E'!$B7) -> 0.0135266 | V7: =('T und E'!V8-'T und E'!V7)/('T und E'!$B8-'T und E'!$B7) -> 0.00841414 | W7: =('T und E'!W8-'T und E'!W7)/('T und E'!$B8-'T und E'!$B7) -> 0.00330125 | X7: =('T und E'!X8-'T und E'!X7)/('T und E'!$B8-'T und E'!$B7) -> 0.000508201 | ... AA7: =('T und E'!AA8-'T und E'!AA7)/('T und E'!$B8-'T und E'!$B7) -> 0.000330649 | AC7: ='T und E'!AC7 -> 0 | AD7: =('T und E'!AD8-'T und E'!AD7)/('T und E'!$B8-'T und E'!$B7) -> 0.00180239 | AE7: =('T und E'!AE8-'T und E'!AE7)/('T und E'!$B8-'T und E'!$B7) -> 0.00180241 | AF7: =('T und E'!AF8-'T und E'!AF7)/('T und E'!$B8-'T und E'!$B7) -> 0.00180243 | AG7: =('T und E'!AG8-'T und E'!AG7)/('T und E'!$B8-'T und E'!$B7) -> 0.00180227 | AH7: =('T und E'!AH8-'T und E'!AH7)/('T und E'!$B8-'T und E'!$B7) -> 0.00180101 | AI7: =('T und E'!AI8-'T und E'!AI7)/('T und E'!$B8-'T und E'!$B7) -> 0.00171634 | AJ7: =('T und E'!AJ8-'T und E'!AJ7)/('T und E'!$B8-'T und E'!$B7) -> 0.0014401 | AK7: =('T und E'!AK8-'T und E'!AK7)/('T und E'!$B8-'T und E'!$B7) -> 0.00104217 | ... AN7: =('T und E'!AN8-'T und E'!AN7)/('T und E'!$B8-'T und E'!$B7) -> 0.000319459 | AP7: ='T und E'!AP7 -> 0 | AQ7: =('T und E'!AQ8-'T und E'!AQ7)/('T und E'!$B8-'T und E'!$B7) -> 0.00112703 | AR7: =('T und E'!AR8-'T und E'!AR7)/('T und E'!$B8-'T und E'!$B7) -> 0.00112284 | AS7: =('T und E'!AS8-'T und E'!AS7)/('T und E'!$B8-'T und E'!$B7) -> 0.00111184 | AT7: =('T und E'!AT8-'T und E'!AT7)/('T und E'!$B8-'T und E'!$B7) -> 0.00108732 | AU7: =('T und E'!AU8-'T und E'!AU7)/('T und E'!$B8-'T und E'!$B7) -> 0.00103642 | AV7: =('T und E'!AV8-'T und E'!AV7)/('T und E'!$B8-'T und E'!$B7) -> 0.00082094 | AW7: =('T und E'!AW8-'T und E'!AW7)/('T und E'!$B8-'T und E'!$B7) -> 0.000519563 | AX7: =('T und E'!AX8-'T und E'!AX7)/('T und E'!$B8-'T und E'!$B7) -> 0.000349775 | ... BA7: =('T und E'!BA8-'T und E'!BA7)/('T und E'!$B8-'T und E'!$B7) -> 0.000370749
B8: ='T und E'!B8 -> 0.1 | C8: =('T und E'!C9-'T und E'!C8)/('T und E'!$B9-'T und E'!$B8) -> 447.103 | D8: =('T und E'!D9-'T und E'!D8)/('T und E'!$B9-'T und E'!$B8) -> 447.096 | E8: =('T und E'!E9-'T und E'!E8)/('T und E'!$B9-'T und E'!$B8) -> 447.045 | F8: =('T und E'!F9-'T und E'!F8)/('T und E'!$B9-'T und E'!$B8) -> 446.667 | G8: =('T und E'!G9-'T und E'!G8)/('T und E'!$B9-'T und E'!$B8) -> 444.804 | H8: =('T und E'!H9-'T und E'!H8)/('T und E'!$B9-'T und E'!$B8) -> 437.139 | I8: =('T und E'!I9-'T und E'!I8)/('T und E'!$B9-'T und E'!$B8) -> 119.424 | J8: =('T und E'!J9-'T und E'!J8)/('T und E'!$B9-'T und E'!$B8) -> 25.009 | ... M8: =('T und E'!M9-'T und E'!M8)/('T und E'!$B9-'T und E'!$B8) -> 0.148 | P8: ='T und E'!P8 -> 0.1 | Q8: =('T und E'!Q9-'T und E'!Q8)/('T und E'!$B9-'T und E'!$B8) -> 0.00941 | R8: =('T und E'!R9-'T und E'!R8)/('T und E'!$B9-'T und E'!$B8) -> 0.0094107 | S8: =('T und E'!S9-'T und E'!S8)/('T und E'!$B9-'T und E'!$B8) -> 0.0094041 | T8: =('T und E'!T9-'T und E'!T8)/('T und E'!$B9-'T und E'!$B8) -> 0.0093656 | U8: =('T und E'!U9-'T und E'!U8)/('T und E'!$B9-'T und E'!$B8) -> 0.0092414 | V8: =('T und E'!V9-'T und E'!V8)/('T und E'!$B9-'T und E'!$B8) -> 0.00727026 | W8: =('T und E'!W9-'T und E'!W8)/('T und E'!$B9-'T und E'!$B8) -> 0.00347145 | X8: =('T und E'!X9-'T und E'!X8)/('T und E'!$B9-'T und E'!$B8) -> 0.000900089 | ... AA8: =('T und E'!AA9-'T und E'!AA8)/('T und E'!$B9-'T und E'!$B8) -> 0.000302329 | AC8: ='T und E'!AC8 -> 0.1 | AD8: =('T und E'!AD9-'T und E'!AD8)/('T und E'!$B9-'T und E'!$B8) -> 0.00182808 | AE8: =('T und E'!AE9-'T und E'!AE8)/('T und E'!$B9-'T und E'!$B8) -> 0.00182762 | AF8: =('T und E'!AF9-'T und E'!AF8)/('T und E'!$B9-'T und E'!$B8) -> 0.00182645 | AG8: =('T und E'!AG9-'T und E'!AG8)/('T und E'!$B9-'T und E'!$B8) -> 0.00182376 | AH8: =('T und E'!AH9-'T und E'!AH8)/('T und E'!$B9-'T und E'!$B8) -> 0.00181701 | AI8: =('T und E'!AI9-'T und E'!AI8)/('T und E'!$B9-'T und E'!$B8) -> 0.00171287 | AJ8: =('T und E'!AJ9-'T und E'!AJ8)/('T und E'!$B9-'T und E'!$B8) -> 0.00142391 | AK8: =('T und E'!AK9-'T und E'!AK8)/('T und E'!$B9-'T und E'!$B8) -> 0.00103904 | ... AN8: =('T und E'!AN9-'T und E'!AN8)/('T und E'!$B9-'T und E'!$B8) -> 0.000351601 | AP8: ='T und E'!AP8 -> 0.1 | AQ8: =('T und E'!AQ9-'T und E'!AQ8)/('T und E'!$B9-'T und E'!$B8) -> 0.00109245 | AR8: =('T und E'!AR9-'T und E'!AR8)/('T und E'!$B9-'T und E'!$B8) -> 0.00109018 | AS8: =('T und E'!AS9-'T und E'!AS8)/('T und E'!$B9-'T und E'!$B8) -> 0.00108405 | AT8: =('T und E'!AT9-'T und E'!AT8)/('T und E'!$B9-'T und E'!$B8) -> 0.00107025 | AU8: =('T und E'!AU9-'T und E'!AU8)/('T und E'!$B9-'T und E'!$B8) -> 0.00103985 | AV8: =('T und E'!AV9-'T und E'!AV8)/('T und E'!$B9-'T und E'!$B8) -> 0.00085939 | AW8: =('T und E'!AW9-'T und E'!AW8)/('T und E'!$B9-'T und E'!$B8) -> 0.000563597 | AX8: =('T und E'!AX9-'T und E'!AX8)/('T und E'!$B9-'T und E'!$B8) -> 0.000363592 | ... BA8: =('T und E'!BA9-'T und E'!BA8)/('T und E'!$B9-'T und E'!$B8) -> 0.000343356
B9: ='T und E'!B9 -> 0.2 | C9: =('T und E'!C10-'T und E'!C9)/('T und E'!$B10-'T und E'!$B9) -> 307.38 | D9: =('T und E'!D10-'T und E'!D9)/('T und E'!$B10-'T und E'!$B9) -> 307.49333 | E9: =('T und E'!E10-'T und E'!E9)/('T und E'!$B10-'T und E'!$B9) -> 308.25333 | F9: =('T und E'!F10-'T und E'!F9)/('T und E'!$B10-'T und E'!$B9) -> 310.82667 | G9: =('T und E'!G10-'T und E'!G9)/('T und E'!$B10-'T und E'!$B9) -> 316.18667 | H9: =('T und E'!H10-'T und E'!H9)/('T und E'!$B10-'T und E'!$B9) -> 324.67333 | I9: =('T und E'!I10-'T und E'!I9)/('T und E'!$B10-'T und E'!$B9) -> 142.55867 | J9: =('T und E'!J10-'T und E'!J9)/('T und E'!$B10-'T und E'!$B9) -> 41.638667 | ... M9: =('T und E'!M10-'T und E'!M9)/('T und E'!$B10-'T und E'!$B9) -> 0.45733333 | P9: ='T und E'!P9 -> 0.2 | Q9: =('T und E'!Q10-'T und E'!Q9)/('T und E'!$B10-'T und E'!$B9) -> 0.0065053333 | R9: =('T und E'!R10-'T und E'!R9)/('T und E'!$B10-'T und E'!$B9) -> 0.0065096667 | S9: =('T und E'!S10-'T und E'!S9)/('T und E'!$B10-'T und E'!$B9) -> 0.0065306 | T9: =('T und E'!T10-'T und E'!T9)/('T und E'!$B10-'T und E'!$B9) -> 0.0065907333 | U9: =('T und E'!U10-'T und E'!U9)/('T und E'!$B10-'T und E'!$B9) -> 0.0067052 | V9: =('T und E'!V10-'T und E'!V9)/('T und E'!$B10-'T und E'!$B9) -> 0.0057315333 | W9: =('T und E'!W10-'T und E'!W9)/('T und E'!$B10-'T und E'!$B9) -> 0.0032154667 | X9: =('T und E'!X10-'T und E'!X9)/('T und E'!$B10-'T und E'!$B9) -> 0.00119266 | ... AA9: =('T und E'!AA10-'T und E'!AA9)/('T und E'!$B10-'T und E'!$B9) -> 0.00024672133 | AC9: ='T und E'!AC9 -> 0.2 | AD9: =('T und E'!AD10-'T und E'!AD9)/('T und E'!$B10-'T und E'!$B9) -> 0.0016445067 | AE9: =('T und E'!AE10-'T und E'!AE9)/('T und E'!$B10-'T und E'!$B9) -> 0.00164372 | AF9: =('T und E'!AF10-'T und E'!AF9)/('T und E'!$B10-'T und E'!$B9) -> 0.0016417333 | AG9: =('T und E'!AG10-'T und E'!AG9)/('T und E'!$B10-'T und E'!$B9) -> 0.0016372467 | AH9: =('T und E'!AH10-'T und E'!AH9)/('T und E'!$B10-'T und E'!$B9) -> 0.0016270733 | AI9: =('T und E'!AI10-'T und E'!AI9)/('T und E'!$B10-'T und E'!$B9) -> 0.0015249667 | AJ9: =('T und E'!AJ10-'T und E'!AJ9)/('T und E'!$B10-'T und E'!$B9) -> 0.0012760733 | AK9: =('T und E'!AK10-'T und E'!AK9)/('T und E'!$B10-'T und E'!$B9) -> 0.00096659333 | ... AN9: =('T und E'!AN10-'T und E'!AN9)/('T und E'!$B10-'T und E'!$B9) -> 0.00039918667 | AP9: ='T und E'!AP9 -> 0.2 | AQ9: =('T und E'!AQ10-'T und E'!AQ9)/('T und E'!$B10-'T und E'!$B9) -> 0.00098624 | AR9: =('T und E'!AR10-'T und E'!AR9)/('T und E'!$B10-'T und E'!$B9) -> 0.00098476667 | AS9: =('T und E'!AS10-'T und E'!AS9)/('T und E'!$B10-'T und E'!$B9) -> 0.00098074667 | AT9: =('T und E'!AT10-'T und E'!AT9)/('T und E'!$B10-'T und E'!$B9) -> 0.00097159333 | AU9: =('T und E'!AU10-'T und E'!AU9)/('T und E'!$B10-'T und E'!$B9) -> 0.00095092667 | AV9: =('T und E'!AV10-'T und E'!AV9)/('T und E'!$B10-'T und E'!$B9) -> 0.00081018 | AW9: =('T und E'!AW10-'T und E'!AW9)/('T und E'!$B10-'T und E'!$B9) -> 0.00055453333 | AX9: =('T und E'!AX10-'T und E'!AX9)/('T und E'!$B10-'T und E'!$B9) -> 0.00035017533 | ... BA9: =('T und E'!BA10-'T und E'!BA9)/('T und E'!$B10-'T und E'!$B9) -> 0.00028407667
B10: ='T und E'!B10 -> 0.35 | C10: =('T und E'!C11-'T und E'!C10)/('T und E'!$B11-'T und E'!$B10) -> 228.86667 | D10: =('T und E'!D11-'T und E'!D10)/('T und E'!$B11-'T und E'!$B10) -> 228.88 | E10: =('T und E'!E11-'T und E'!E10)/('T und E'!$B11-'T und E'!$B10) -> 228.98222 | F10: =('T und E'!F11-'T und E'!F10)/('T und E'!$B11-'T und E'!$B10) -> 229.28889 | G10: =('T und E'!G11-'T und E'!G10)/('T und E'!$B11-'T und E'!$B10) -> 229.87556 | H10: =('T und E'!H11-'T und E'!H10)/('T und E'!$B11-'T und E'!$B10) -> 230.57333 | I10: =('T und E'!I11-'T und E'!I10)/('T und E'!$B11-'T und E'!$B10) -> 147.82844 | J10: =('T und E'!J11-'T und E'!J10)/('T und E'!$B11-'T und E'!$B10) -> 62.296444 | ... M10: =('T und E'!M11-'T und E'!M10)/('T und E'!$B11-'T und E'!$B10) -> 1.5573333 | P10: ='T und E'!P10 -> 0.35 | Q10: =('T und E'!Q11-'T und E'!Q10)/('T und E'!$B11-'T und E'!$B10) -> 0.0048561333 | R10: =('T und E'!R11-'T und E'!R10)/('T und E'!$B11-'T und E'!$B10) -> 0.0048576444 | S10: =('T und E'!S11-'T und E'!S10)/('T und E'!$B11-'T und E'!$B10) -> 0.0048617333 | T10: =('T und E'!T11-'T und E'!T10)/('T und E'!$B11-'T und E'!$B10) -> 0.0048690667 | U10: =('T und E'!U11-'T und E'!U10)/('T und E'!$B11-'T und E'!$B10) -> 0.0048768444 | V10: =('T und E'!V11-'T und E'!V10)/('T und E'!$B11-'T und E'!$B10) -> 0.0043575556 | W10: =('T und E'!W11-'T und E'!W10)/('T und E'!$B11-'T und E'!$B10) -> 0.0029367111 | X10: =('T und E'!X11-'T und E'!X10)/('T und E'!$B11-'T und E'!$B10) -> 0.0014468222 | ... AA10: =('T und E'!AA11-'T und E'!AA10)/('T und E'!$B11-'T und E'!$B10) -> 0.00023076889 | AC10: ='T und E'!AC10 -> 0.35 | AD10: =('T und E'!AD11-'T und E'!AD10)/('T und E'!$B11-'T und E'!$B10) -> 0.0015031778 | AE10: =('T und E'!AE11-'T und E'!AE10)/('T und E'!$B11-'T und E'!$B10) -> 0.0015023156 | AF10: =('T und E'!AF11-'T und E'!AF10)/('T und E'!$B11-'T und E'!$B10) -> 0.0015001911 | AG10: =('T und E'!AG11-'T und E'!AG10)/('T und E'!$B11-'T und E'!$B10) -> 0.00149548 | AH10: =('T und E'!AH11-'T und E'!AH10)/('T und E'!$B11-'T und E'!$B10) -> 0.0014850133 | AI10: =('T und E'!AI11-'T und E'!AI10)/('T und E'!$B11-'T und E'!$B10) -> 0.0013941333 | AJ10: =('T und E'!AJ11-'T und E'!AJ10)/('T und E'!$B11-'T und E'!$B10) -> 0.0011838933 | AK10: =('T und E'!AK11-'T und E'!AK10)/('T und E'!$B11-'T und E'!$B10) -> 0.00092904889 | ... AN10: =('T und E'!AN11-'T und E'!AN10)/('T und E'!$B11-'T und E'!$B10) -> 0.00043998667 | AP10: ='T und E'!AP10 -> 0.35 | AQ10: =('T und E'!AQ11-'T und E'!AQ10)/('T und E'!$B11-'T und E'!$B10) -> 0.00092069778 | AR10: =('T und E'!AR11-'T und E'!AR10)/('T und E'!$B11-'T und E'!$B10) -> 0.00091967556 | AS10: =('T und E'!AS11-'T und E'!AS10)/('T und E'!$B11-'T und E'!$B10) -> 0.00091679556 | AT10: =('T und E'!AT11-'T und E'!AT10)/('T und E'!$B11-'T und E'!$B10) -> 0.00091022222 | AU10: =('T und E'!AU11-'T und E'!AU10)/('T und E'!$B11-'T und E'!$B10) -> 0.00089561778 | AV10: =('T und E'!AV11-'T und E'!AV10)/('T und E'!$B11-'T und E'!$B10) -> 0.00078832 | AW10: =('T und E'!AW11-'T und E'!AW10)/('T und E'!$B11-'T und E'!$B10) -> 0.00057252 | AX10: =('T und E'!AX11-'T und E'!AX10)/('T und E'!$B11-'T und E'!$B10) -> 0.00037108444 | ... BA10: =('T und E'!BA11-'T und E'!BA10)/('T und E'!$B11-'T und E'!$B10) -> 0.00024623111
B11: ='T und E'!B11 -> 0.575 | C11: =('T und E'!C12-'T und E'!C11)/('T und E'!$B12-'T und E'!$B11) -> 166.62815 | D11: =('T und E'!D12-'T und E'!D11)/('T und E'!$B12-'T und E'!$B11) -> 166.64296 | E11: =('T und E'!E12-'T und E'!E11)/('T und E'!$B12-'T und E'!$B11) -> 166.71704 | F11: =('T und E'!F12-'T und E'!F11)/('T und E'!$B12-'T und E'!$B11) -> 166.96296 | G11: =('T und E'!G12-'T und E'!G11)/('T und E'!$B12-'T und E'!$B11) -> 167.41333 | H11: =('T und E'!H12-'T und E'!H11)/('T und E'!$B12-'T und E'!$B11) -> 167.89333 | I11: =('T und E'!I12-'T und E'!I11)/('T und E'!$B12-'T und E'!$B11) -> 134.33244 | J11: =('T und E'!J12-'T und E'!J11)/('T und E'!$B12-'T und E'!$B11) -> 76.72 | ... M11: =('T und E'!M12-'T und E'!M11)/('T und E'!$B12-'T und E'!$B11) -> 4.4527407 | P11: ='T und E'!P11 -> 0.575 | Q11: =('T und E'!Q12-'T und E'!Q11)/('T und E'!$B12-'T und E'!$B11) -> 0.0035246519 | R11: =('T und E'!R12-'T und E'!R11)/('T und E'!$B12-'T und E'!$B11) -> 0.0035257481 | S11: =('T und E'!S12-'T und E'!S11)/('T und E'!$B12-'T und E'!$B11) -> 0.0035289185 | T11: =('T und E'!T12-'T und E'!T11)/('T und E'!$B12-'T und E'!$B11) -> 0.0035345778 | U11: =('T und E'!U12-'T und E'!U11)/('T und E'!$B12-'T und E'!$B11) -> 0.0035398222 | V11: =('T und E'!V12-'T und E'!V11)/('T und E'!$B12-'T und E'!$B11) -> 0.0033135704 | W11: =('T und E'!W12-'T und E'!W11)/('T und E'!$B12-'T und E'!$B11) -> 0.0025466963 | X11: =('T und E'!X12-'T und E'!X11)/('T und E'!$B12-'T und E'!$B11) -> 0.0015514874 | ... AA11: =('T und E'!AA12-'T und E'!AA11)/('T und E'!$B12-'T und E'!$B11) -> 0.00025321778 | AC11: ='T und E'!AC11 -> 0.575 | AD11: =('T und E'!AD12-'T und E'!AD11)/('T und E'!$B12-'T und E'!$B11) -> 0.0013435911 | AE11: =('T und E'!AE12-'T und E'!AE11)/('T und E'!$B12-'T und E'!$B11) -> 0.0013428089 | AF11: =('T und E'!AF12-'T und E'!AF11)/('T und E'!$B12-'T und E'!$B11) -> 0.0013409156 | AG11: =('T und E'!AG12-'T und E'!AG11)/('T und E'!$B12-'T und E'!$B11) -> 0.0013367022 | AH11: =('T und E'!AH12-'T und E'!AH11)/('T und E'!$B12-'T und E'!$B11) -> 0.0013274637 | AI11: =('T und E'!AI12-'T und E'!AI11)/('T und E'!$B12-'T und E'!$B11) -> 0.0012519822 | AJ11: =('T und E'!AJ12-'T und E'!AJ11)/('T und E'!$B12-'T und E'!$B11) -> 0.0010825541 | AK11: =('T und E'!AK12-'T und E'!AK11)/('T und E'!$B12-'T und E'!$B11) -> 0.00088043852 | ... AN11: =('T und E'!AN12-'T und E'!AN11)/('T und E'!$B12-'T und E'!$B11) -> 0.00047424593 | AP11: ='T und E'!AP11 -> 0.575 | AQ11: =('T und E'!AQ12-'T und E'!AQ11)/('T und E'!$B12-'T und E'!$B11) -> 0.00085199111 | AR11: =('T und E'!AR12-'T und E'!AR11)/('T und E'!$B12-'T und E'!$B11) -> 0.00085132148 | AS11: =('T und E'!AS12-'T und E'!AS11)/('T und E'!$B12-'T und E'!$B11) -> 0.00084936889 | AT11: =('T und E'!AT12-'T und E'!AT11)/('T und E'!$B12-'T und E'!$B11) -> 0.00084488 | AU11: =('T und E'!AU12-'T und E'!AU11)/('T und E'!$B12-'T und E'!$B11) -> 0.0008349037 | AV11: =('T und E'!AV12-'T und E'!AV11)/('T und E'!$B12-'T und E'!$B11) -> 0.00075548444 | AW11: =('T und E'!AW12-'T und E'!AW11)/('T und E'!$B12-'T und E'!$B11) -> 0.00058263407 | AX11: =('T und E'!AX12-'T und E'!AX11)/('T und E'!$B12-'T und E'!$B11) -> 0.00039961778 | ... BA11: =('T und E'!BA12-'T und E'!BA11)/('T und E'!$B12-'T und E'!$B11) -> 0.00021650074
B12: ='T und E'!B12 -> 0.9125 | C12: =('T und E'!C13-'T und E'!C12)/('T und E'!$B13-'T und E'!$B12) -> 122.87802 | D12: =('T und E'!D13-'T und E'!D12)/('T und E'!$B13-'T und E'!$B12) -> 122.88395 | E12: =('T und E'!E13-'T und E'!E12)/('T und E'!$B13-'T und E'!$B12) -> 122.92543 | F12: =('T und E'!F13-'T und E'!F12)/('T und E'!$B13-'T und E'!$B12) -> 123.05185 | G12: =('T und E'!G13-'T und E'!G12)/('T und E'!$B13-'T und E'!$B12) -> 123.26321 | H12: =('T und E'!H13-'T und E'!H12)/('T und E'!$B13-'T und E'!$B12) -> 123.49432 | I12: =('T und E'!I13-'T und E'!I12)/('T und E'!$B13-'T und E'!$B12) -> 111.60099 | J12: =('T und E'!J13-'T und E'!J12)/('T und E'!$B13-'T und E'!$B12) -> 80.46321 | ... M12: =('T und E'!M13-'T und E'!M12)/('T und E'!$B13-'T und E'!$B12) -> 10.569086 | P12: ='T und E'!P12 -> 0.9125 | Q12: =('T und E'!Q13-'T und E'!Q12)/('T und E'!$B13-'T und E'!$B12) -> 0.0030865185 | R12: =('T und E'!R13-'T und E'!R12)/('T und E'!$B13-'T und E'!$B12) -> 0.0030890864 | S12: =('T und E'!S13-'T und E'!S12)/('T und E'!$B13-'T und E'!$B12) -> 0.003084563 | T12: =('T und E'!T13-'T und E'!T12)/('T und E'!$B13-'T und E'!$B12) -> 0.0030418765 | U12: =('T und E'!U13-'T und E'!U12)/('T und E'!$B13-'T und E'!$B12) -> 0.0028948543 | V12: =('T und E'!V13-'T und E'!V12)/('T und E'!$B13-'T und E'!$B12) -> 0.0025111111 | W12: =('T und E'!W13-'T und E'!W12)/('T und E'!$B13-'T und E'!$B12) -> 0.0021310025 | X12: =('T und E'!X13-'T und E'!X12)/('T und E'!$B13-'T und E'!$B12) -> 0.0015336494 | ... AA12: =('T und E'!AA13-'T und E'!AA12)/('T und E'!$B13-'T und E'!$B12) -> 0.00032748247 | AC12: ='T und E'!AC12 -> 0.9125 | AD12: =('T und E'!AD13-'T und E'!AD12)/('T und E'!$B13-'T und E'!$B12) -> 0.001155358 | AE12: =('T und E'!AE13-'T und E'!AE12)/('T und E'!$B13-'T und E'!$B12) -> 0.0011547852 | AF12: =('T und E'!AF13-'T und E'!AF12)/('T und E'!$B13-'T und E'!$B12) -> 0.001153284 | AG12: =('T und E'!AG13-'T und E'!AG12)/('T und E'!$B13-'T und E'!$B12) -> 0.0011498864 | AH12: =('T und E'!AH13-'T und E'!AH12)/('T und E'!$B13-'T und E'!$B12) -> 0.0011415506 | AI12: =('T und E'!AI13-'T und E'!AI12)/('T und E'!$B13-'T und E'!$B12) -> 0.0010904296 | AJ12: =('T und E'!AJ13-'T und E'!AJ12)/('T und E'!$B13-'T und E'!$B12) -> 0.00097538765 | AK12: =('T und E'!AK13-'T und E'!AK12)/('T und E'!$B13-'T und E'!$B12) -> 0.00083157728 | ... AN12: =('T und E'!AN13-'T und E'!AN12)/('T und E'!$B13-'T und E'!$B12) -> 0.00050682074 | AP12: ='T und E'!AP12 -> 0.9125 | AQ12: =('T und E'!AQ13-'T und E'!AQ12)/('T und E'!$B13-'T und E'!$B12) -> 0.00079058173 | AR12: =('T und E'!AR13-'T und E'!AR12)/('T und E'!$B13-'T und E'!$B12) -> 0.00078999506 | AS12: =('T und E'!AS13-'T und E'!AS12)/('T und E'!$B13-'T und E'!$B12) -> 0.00078830222 | AT12: =('T und E'!AT13-'T und E'!AT12)/('T und E'!$B13-'T und E'!$B12) -> 0.00078440889 | AU12: =('T und E'!AU13-'T und E'!AU12)/('T und E'!$B13-'T und E'!$B12) -> 0.00077601975 | AV12: =('T und E'!AV13-'T und E'!AV12)/('T und E'!$B13-'T und E'!$B12) -> 0.00071828543 | AW12: =('T und E'!AW13-'T und E'!AW12)/('T und E'!$B13-'T und E'!$B12) -> 0.00058706963 | AX12: =('T und E'!AX13-'T und E'!AX12)/('T und E'!$B13-'T und E'!$B12) -> 0.00043124741 | ... BA12: =('T und E'!BA13-'T und E'!BA12)/('T und E'!$B13-'T und E'!$B12) -> 0.00020324346
B13: ='T und E'!B13 -> 1.41875 | C13: =('T und E'!C14-'T und E'!C13)/('T und E'!$B14-'T und E'!$B13) -> 95.535 | D13: =('T und E'!D14-'T und E'!D13)/('T und E'!$B14-'T und E'!$B13) -> 95.54 | E13: =('T und E'!E14-'T und E'!E13)/('T und E'!$B14-'T und E'!$B13) -> 95.561667 | F13: =('T und E'!F14-'T und E'!F13)/('T und E'!$B14-'T und E'!$B13) -> 95.623333 | G13: =('T und E'!G14-'T und E'!G13)/('T und E'!$B14-'T und E'!$B13) -> 95.706667 | H13: =('T und E'!H14-'T und E'!H13)/('T und E'!$B14-'T und E'!$B13) -> 95.74 | I13: =('T und E'!I14-'T und E'!I13)/('T und E'!$B14-'T und E'!$B13) -> 90.211667 | J13: =('T und E'!J14-'T und E'!J13)/('T und E'!$B14-'T und E'!$B13) -> 74.42 | ... M13: =('T und E'!M14-'T und E'!M13)/('T und E'!$B14-'T und E'!$B13) -> 18.822333 | P13: ='T und E'!P13 -> 1.41875 | Q13: =('T und E'!Q14-'T und E'!Q13)/('T und E'!$B14-'T und E'!$B13) -> 0.0026219833 | R13: =('T und E'!R14-'T und E'!R13)/('T und E'!$B14-'T und E'!$B13) -> 0.0026235167 | S13: =('T und E'!S14-'T und E'!S13)/('T und E'!$B14-'T und E'!$B13) -> 0.0026294833 | T13: =('T und E'!T14-'T und E'!T13)/('T und E'!$B14-'T und E'!$B13) -> 0.00264755 | U13: =('T und E'!U14-'T und E'!U13)/('T und E'!$B14-'T und E'!$B13) -> 0.0026905 | V13: =('T und E'!V14-'T und E'!V13)/('T und E'!$B14-'T und E'!$B13) -> 0.0023025167 | W13: =('T und E'!W14-'T und E'!W13)/('T und E'!$B14-'T und E'!$B13) -> 0.0017462 | X13: =('T und E'!X14-'T und E'!X13)/('T und E'!$B14-'T und E'!$B13) -> 0.0013922167 | ... AA13: =('T und E'!AA14-'T und E'!AA13)/('T und E'!$B14-'T und E'!$B13) -> 0.00042318 | AC13: ='T und E'!AC13 -> 1.41875 | AD13: =('T und E'!AD14-'T und E'!AD13)/('T und E'!$B14-'T und E'!$B13) -> 0.0010065 | AE13: =('T und E'!AE14-'T und E'!AE13)/('T und E'!$B14-'T und E'!$B13) -> 0.0010059833 | AF13: =('T und E'!AF14-'T und E'!AF13)/('T und E'!$B14-'T und E'!$B13) -> 0.0010047 | AG13: =('T und E'!AG14-'T und E'!AG13)/('T und E'!$B14-'T und E'!$B13) -> 0.0010019167 | AH13: =('T und E'!AH14-'T und E'!AH13)/('T und E'!$B14-'T und E'!$B13) -> 0.0009967 | AI13: =('T und E'!AI14-'T und E'!AI13)/('T und E'!$B14-'T und E'!$B13) -> 0.00095375 | AJ13: =('T und E'!AJ14-'T und E'!AJ13)/('T und E'!$B14-'T und E'!$B13) -> 0.00086515 | AK13: =('T und E'!AK14-'T und E'!AK13)/('T und E'!$B14-'T und E'!$B13) -> 0.0007636 | ... AN13: =('T und E'!AN14-'T und E'!AN13)/('T und E'!$B14-'T und E'!$B13) -> 0.00052674333 | AP13: ='T und E'!AP13 -> 1.41875 | AQ13: =('T und E'!AQ14-'T und E'!AQ13)/('T und E'!$B14-'T und E'!$B13) -> 0.00073333333 | AR13: =('T und E'!AR14-'T und E'!AR13)/('T und E'!$B14-'T und E'!$B13) -> 0.00073283333 | AS13: =('T und E'!AS14-'T und E'!AS13)/('T und E'!$B14-'T und E'!$B13) -> 0.00073145 | AT13: =('T und E'!AT14-'T und E'!AT13)/('T und E'!$B14-'T und E'!$B13) -> 0.0007283 | AU13: =('T und E'!AU14-'T und E'!AU13)/('T und E'!$B14-'T und E'!$B13) -> 0.00072116667 | AV13: =('T und E'!AV14-'T und E'!AV13)/('T und E'!$B14-'T und E'!$B13) -> 0.0006751 | AW13: =('T und E'!AW14-'T und E'!AW13)/('T und E'!$B14-'T und E'!$B13) -> 0.00057607333 | AX13: =('T und E'!AX14-'T und E'!AX13)/('T und E'!$B14-'T und E'!$B13) -> 0.00045158667 | ... BA13: =('T und E'!BA14-'T und E'!BA13)/('T und E'!$B14-'T und E'!$B13) -> 0.00021105667
B14: ='T und E'!B14 -> 2.01875 | C14: =('T und E'!C15-'T und E'!C14)/('T und E'!$B15-'T und E'!$B14) -> 76.48 | D14: =('T und E'!D15-'T und E'!D14)/('T und E'!$B15-'T und E'!$B14) -> 76.485 | E14: =('T und E'!E15-'T und E'!E14)/('T und E'!$B15-'T und E'!$B14) -> 76.51 | F14: =('T und E'!F15-'T und E'!F14)/('T und E'!$B15-'T und E'!$B14) -> 76.591667 | G14: =('T und E'!G15-'T und E'!G14)/('T und E'!$B15-'T und E'!$B14) -> 76.763333 | H14: =('T und E'!H15-'T und E'!H14)/('T und E'!$B15-'T und E'!$B14) -> 77.04 | I14: =('T und E'!I15-'T und E'!I14)/('T und E'!$B15-'T und E'!$B14) -> 74.758333 | J14: =('T und E'!J15-'T und E'!J14)/('T und E'!$B15-'T und E'!$B14) -> 66.26 | ... M14: =('T und E'!M15-'T und E'!M14)/('T und E'!$B15-'T und E'!$B14) -> 25.682 | P14: ='T und E'!P14 -> 2.01875 | Q14: =('T und E'!Q15-'T und E'!Q14)/('T und E'!$B15-'T und E'!$B14) -> 0.0017385333 | R14: =('T und E'!R15-'T und E'!R14)/('T und E'!$B15-'T und E'!$B14) -> 0.0017394 | S14: =('T und E'!S15-'T und E'!S14)/('T und E'!$B15-'T und E'!$B14) -> 0.0017420333 | T14: =('T und E'!T15-'T und E'!T14)/('T und E'!$B15-'T und E'!$B14) -> 0.0017480167 | U14: =('T und E'!U15-'T und E'!U14)/('T und E'!$B15-'T und E'!$B14) -> 0.0017590833 | V14: =('T und E'!V15-'T und E'!V14)/('T und E'!$B15-'T und E'!$B14) -> 0.0016629833 | W14: =('T und E'!W15-'T und E'!W14)/('T und E'!$B15-'T und E'!$B14) -> 0.0014371333 | X14: =('T und E'!X15-'T und E'!X14)/('T und E'!$B15-'T und E'!$B14) -> 0.0012394 | ... AA14: =('T und E'!AA15-'T und E'!AA14)/('T und E'!$B15-'T und E'!$B14) -> 0.00049603833 | AC14: ='T und E'!AC14 -> 2.01875 | AD14: =('T und E'!AD15-'T und E'!AD14)/('T und E'!$B15-'T und E'!$B14) -> 0.00090856667 | AE14: =('T und E'!AE15-'T und E'!AE14)/('T und E'!$B15-'T und E'!$B14) -> 0.00090818333 | AF14: =('T und E'!AF15-'T und E'!AF14)/('T und E'!$B15-'T und E'!$B14) -> 0.0009072 | AG14: =('T und E'!AG15-'T und E'!AG14)/('T und E'!$B15-'T und E'!$B14) -> 0.00090508333 | AH14: =('T und E'!AH15-'T und E'!AH14)/('T und E'!$B15-'T und E'!$B14) -> 0.00090043333 | AI14: =('T und E'!AI15-'T und E'!AI14)/('T und E'!$B15-'T und E'!$B14) -> 0.00086578333 | AJ14: =('T und E'!AJ15-'T und E'!AJ14)/('T und E'!$B15-'T und E'!$B14) -> 0.00079181667 | AK14: =('T und E'!AK15-'T und E'!AK14)/('T und E'!$B15-'T und E'!$B14) -> 0.00070873333 | ... AN14: =('T und E'!AN15-'T und E'!AN14)/('T und E'!$B15-'T und E'!$B14) -> 0.000526695 | AP14: ='T und E'!AP14 -> 2.01875 | AQ14: =('T und E'!AQ15-'T und E'!AQ14)/('T und E'!$B15-'T und E'!$B14) -> 0.00067395 | AR14: =('T und E'!AR15-'T und E'!AR14)/('T und E'!$B15-'T und E'!$B14) -> 0.0006737 | AS14: =('T und E'!AS15-'T und E'!AS14)/('T und E'!$B15-'T und E'!$B14) -> 0.00067291667 | AT14: =('T und E'!AT15-'T und E'!AT14)/('T und E'!$B15-'T und E'!$B14) -> 0.0006711 | AU14: =('T und E'!AU15-'T und E'!AU14)/('T und E'!$B15-'T und E'!$B14) -> 0.00066705 | AV14: =('T und E'!AV15-'T und E'!AV14)/('T und E'!$B15-'T und E'!$B14) -> 0.00063641667 | AW14: =('T und E'!AW15-'T und E'!AW14)/('T und E'!$B15-'T und E'!$B14) -> 0.000564 | AX14: =('T und E'!AX15-'T und E'!AX14)/('T und E'!$B15-'T und E'!$B14) -> 0.00046681833 | ... BA14: =('T und E'!BA15-'T und E'!BA14)/('T und E'!$B15-'T und E'!$B14) -> 0.00024066333
B15: ='T und E'!B15 -> 2.61875 | C15: =('T und E'!C16-'T und E'!C15)/('T und E'!$B16-'T und E'!$B15) -> 65.941667 | D15: =('T und E'!D16-'T und E'!D15)/('T und E'!$B16-'T und E'!$B15) -> 65.943333 | E15: =('T und E'!E16-'T und E'!E15)/('T und E'!$B16-'T und E'!$B15) -> 65.948333 | F15: =('T und E'!F16-'T und E'!F15)/('T und E'!$B16-'T und E'!$B15) -> 65.958333 | G15: =('T und E'!G16-'T und E'!G15)/('T und E'!$B16-'T und E'!$B15) -> 65.96 | H15: =('T und E'!H16-'T und E'!H15)/('T und E'!$B16-'T und E'!$B15) -> 65.918333 | I15: =('T und E'!I16-'T und E'!I15)/('T und E'!$B16-'T und E'!$B15) -> 64.345 | J15: =('T und E'!J16-'T und E'!J15)/('T und E'!$B16-'T und E'!$B15) -> 59.101667 | ... M15: =('T und E'!M16-'T und E'!M15)/('T und E'!$B16-'T und E'!$B15) -> 29.8555 | P15: ='T und E'!P15 -> 2.61875 | Q15: =('T und E'!Q16-'T und E'!Q15)/('T und E'!$B16-'T und E'!$B15) -> 0.0015327333 | R15: =('T und E'!R16-'T und E'!R15)/('T und E'!$B16-'T und E'!$B15) -> 0.0015335333 | S15: =('T und E'!S16-'T und E'!S15)/('T und E'!$B16-'T und E'!$B15) -> 0.0015352833 | T15: =('T und E'!T16-'T und E'!T15)/('T und E'!$B16-'T und E'!$B15) -> 0.0015389 | U15: =('T und E'!U16-'T und E'!U15)/('T und E'!$B16-'T und E'!$B15) -> 0.0015451167 | V15: =('T und E'!V16-'T und E'!V15)/('T und E'!$B16-'T und E'!$B15) -> 0.00155455 | W15: =('T und E'!W16-'T und E'!W15)/('T und E'!$B16-'T und E'!$B15) -> 0.0013678167 | X15: =('T und E'!X16-'T und E'!X15)/('T und E'!$B16-'T und E'!$B15) -> 0.00107985 | ... AA15: =('T und E'!AA16-'T und E'!AA15)/('T und E'!$B16-'T und E'!$B15) -> 0.000506935 | AC15: ='T und E'!AC15 -> 2.61875 | AD15: =('T und E'!AD16-'T und E'!AD15)/('T und E'!$B16-'T und E'!$B15) -> 0.00070336667 | AE15: =('T und E'!AE16-'T und E'!AE15)/('T und E'!$B16-'T und E'!$B15) -> 0.00070285 | AF15: =('T und E'!AF16-'T und E'!AF15)/('T und E'!$B16-'T und E'!$B15) -> 0.00070168333 | AG15: =('T und E'!AG16-'T und E'!AG15)/('T und E'!$B16-'T und E'!$B15) -> 0.00069921667 | AH15: =('T und E'!AH16-'T und E'!AH15)/('T und E'!$B16-'T und E'!$B15) -> 0.0006938 | AI15: =('T und E'!AI16-'T und E'!AI15)/('T und E'!$B16-'T und E'!$B15) -> 0.00067058333 | AJ15: =('T und E'!AJ16-'T und E'!AJ15)/('T und E'!$B16-'T und E'!$B15) -> 0.000651 | AK15: =('T und E'!AK16-'T und E'!AK15)/('T und E'!$B16-'T und E'!$B15) -> 0.00064526667 | ... AN15: =('T und E'!AN16-'T und E'!AN15)/('T und E'!$B16-'T und E'!$B15) -> 0.00053423333 | AP15: ='T und E'!AP15 -> 2.61875 | AQ15: =('T und E'!AQ16-'T und E'!AQ15)/('T und E'!$B16-'T und E'!$B15) -> 0.00064935 | AR15: =('T und E'!AR16-'T und E'!AR15)/('T und E'!$B16-'T und E'!$B15) -> 0.00064915 | AS15: =('T und E'!AS16-'T und E'!AS15)/('T und E'!$B16-'T und E'!$B15) -> 0.00064851667 | AT15: =('T und E'!AT16-'T und E'!AT15)/('T und E'!$B16-'T und E'!$B15) -> 0.000647 | AU15: =('T und E'!AU16-'T und E'!AU15)/('T und E'!$B16-'T und E'!$B15) -> 0.00064363333 | AV15: =('T und E'!AV16-'T und E'!AV15)/('T und E'!$B16-'T und E'!$B15) -> 0.00061295 | AW15: =('T und E'!AW16-'T und E'!AW15)/('T und E'!$B16-'T und E'!$B15) -> 0.00054165 | AX15: =('T und E'!AX16-'T und E'!AX15)/('T und E'!$B16-'T und E'!$B15) -> 0.00045623333 | ... BA15: =('T und E'!BA16-'T und E'!BA15)/('T und E'!$B16-'T und E'!$B15) -> 0.00025827167
B16: ='T und E'!B16 -> 3.21875 | C16: =('T und E'!C17-'T und E'!C16)/('T und E'!$B17-'T und E'!$B16) -> 58.028333 | D16: =('T und E'!D17-'T und E'!D16)/('T und E'!$B17-'T und E'!$B16) -> 58.03 | E16: =('T und E'!E17-'T und E'!E16)/('T und E'!$B17-'T und E'!$B16) -> 58.043333 | F16: =('T und E'!F17-'T und E'!F16)/('T und E'!$B17-'T und E'!$B16) -> 58.08 | G16: =('T und E'!G17-'T und E'!G16)/('T und E'!$B17-'T und E'!$B16) -> 58.138333 | H16: =('T und E'!H17-'T und E'!H16)/('T und E'!$B17-'T und E'!$B16) -> 58.203333 | I16: =('T und E'!I17-'T und E'!I16)/('T und E'!$B17-'T und E'!$B16) -> 56.998333 | J16: =('T und E'!J17-'T und E'!J16)/('T und E'!$B17-'T und E'!$B16) -> 53.183333 | ... M16: =('T und E'!M17-'T und E'!M16)/('T und E'!$B17-'T und E'!$B16) -> 31.938333 | P16: ='T und E'!P16 -> 3.21875 | Q16: =('T und E'!Q17-'T und E'!Q16)/('T und E'!$B17-'T und E'!$B16) -> 0.0012711667 | R16: =('T und E'!R17-'T und E'!R16)/('T und E'!$B17-'T und E'!$B16) -> 0.0012718333 | S16: =('T und E'!S17-'T und E'!S16)/('T und E'!$B17-'T und E'!$B16) -> 0.001275 | T16: =('T und E'!T17-'T und E'!T16)/('T und E'!$B17-'T und E'!$B16) -> 0.001284 | U16: =('T und E'!U17-'T und E'!U16)/('T und E'!$B17-'T und E'!$B16) -> 0.001306 | V16: =('T und E'!V17-'T und E'!V16)/('T und E'!$B17-'T und E'!$B16) -> 0.0013522 | W16: =('T und E'!W17-'T und E'!W16)/('T und E'!$B17-'T und E'!$B16) -> 0.00120515 | X16: =('T und E'!X17-'T und E'!X16)/('T und E'!$B17-'T und E'!$B16) -> 0.00096933333 | ... AA16: =('T und E'!AA17-'T und E'!AA16)/('T und E'!$B17-'T und E'!$B16) -> 0.00049368333 | AC16: ='T und E'!AC16 -> 3.21875 | AD16: =('T und E'!AD17-'T und E'!AD16)/('T und E'!$B17-'T und E'!$B16) -> 0.00058878333 | AE16: =('T und E'!AE17-'T und E'!AE16)/('T und E'!$B17-'T und E'!$B16) -> 0.00058868333 | AF16: =('T und E'!AF17-'T und E'!AF16)/('T und E'!$B17-'T und E'!$B16) -> 0.0005884 | AG16: =('T und E'!AG17-'T und E'!AG16)/('T und E'!$B17-'T und E'!$B16) -> 0.00058773333 | AH16: =('T und E'!AH17-'T und E'!AH16)/('T und E'!$B17-'T und E'!$B16) -> 0.0005867 | AI16: =('T und E'!AI17-'T und E'!AI16)/('T und E'!$B17-'T und E'!$B16) -> 0.0005786 | AJ16: =('T und E'!AJ17-'T und E'!AJ16)/('T und E'!$B17-'T und E'!$B16) -> 0.00057166667 | AK16: =('T und E'!AK17-'T und E'!AK16)/('T und E'!$B17-'T und E'!$B16) -> 0.00057473333 | ... AN16: =('T und E'!AN17-'T und E'!AN16)/('T und E'!$B17-'T und E'!$B16) -> 0.00053388333 | AP16: ='T und E'!AP16 -> 3.21875 | AQ16: =('T und E'!AQ17-'T und E'!AQ16)/('T und E'!$B17-'T und E'!$B16) -> 0.00060203333 | AR16: =('T und E'!AR17-'T und E'!AR16)/('T und E'!$B17-'T und E'!$B16) -> 0.00060188333 | AS16: =('T und E'!AS17-'T und E'!AS16)/('T und E'!$B17-'T und E'!$B16) -> 0.00060138333 | AT16: =('T und E'!AT17-'T und E'!AT16)/('T und E'!$B17-'T und E'!$B16) -> 0.00060025 | AU16: =('T und E'!AU17-'T und E'!AU16)/('T und E'!$B17-'T und E'!$B16) -> 0.00059765 | AV16: =('T und E'!AV17-'T und E'!AV16)/('T und E'!$B17-'T und E'!$B16) -> 0.0005722 | AW16: =('T und E'!AW17-'T und E'!AW16)/('T und E'!$B17-'T und E'!$B16) -> 0.00051246667 | AX16: =('T und E'!AX17-'T und E'!AX16)/('T und E'!$B17-'T und E'!$B16) -> 0.00044046667 | ... BA16: =('T und E'!BA17-'T und E'!BA16)/('T und E'!$B17-'T und E'!$B16) -> 0.000267835
B17: ='T und E'!B17 -> 3.81875 | C17: =('T und E'!C18-'T und E'!C17)/('T und E'!$B18-'T und E'!$B17) -> 52.541667 | D17: =('T und E'!D18-'T und E'!D17)/('T und E'!$B18-'T und E'!$B17) -> 52.543333 | E17: =('T und E'!E18-'T und E'!E17)/('T und E'!$B18-'T und E'!$B17) -> 52.551667 | F17: =('T und E'!F18-'T und E'!F17)/('T und E'!$B18-'T und E'!$B17) -> 52.566667 | G17: =('T und E'!G18-'T und E'!G17)/('T und E'!$B18-'T und E'!$B17) -> 52.581667 | H17: =('T und E'!H18-'T und E'!H17)/('T und E'!$B18-'T und E'!$B17) -> 52.565 | I17: =('T und E'!I18-'T und E'!I17)/('T und E'!$B18-'T und E'!$B17) -> 51.461667 | J17: =('T und E'!J18-'T und E'!J17)/('T und E'!$B18-'T und E'!$B17) -> 48.678333 | ... M17: =('T und E'!M18-'T und E'!M17)/('T und E'!$B18-'T und E'!$B17) -> 32.851333 | P17: ='T und E'!P17 -> 3.81875 | Q17: =('T und E'!Q18-'T und E'!Q17)/('T und E'!$B18-'T und E'!$B17) -> 0.00143 | R17: =('T und E'!R18-'T und E'!R17)/('T und E'!$B18-'T und E'!$B17) -> 0.0014291667 | S17: =('T und E'!S18-'T und E'!S17)/('T und E'!$B18-'T und E'!$B17) -> 0.001419 | T17: =('T und E'!T18-'T und E'!T17)/('T und E'!$B18-'T und E'!$B17) -> 0.0013723333 | U17: =('T und E'!U18-'T und E'!U17)/('T und E'!$B18-'T und E'!$B17) -> 0.0012326667 | V17: =('T und E'!V18-'T und E'!V17)/('T und E'!$B18-'T und E'!$B17) -> 0.00113075 | W17: =('T und E'!W18-'T und E'!W17)/('T und E'!$B18-'T und E'!$B17) -> 0.0010474167 | X17: =('T und E'!X18-'T und E'!X17)/('T und E'!$B18-'T und E'!$B17) -> 0.00087628333 | ... AA17: =('T und E'!AA18-'T und E'!AA17)/('T und E'!$B18-'T und E'!$B17) -> 0.00050136667 | AC17: ='T und E'!AC17 -> 3.81875 | AD17: =('T und E'!AD18-'T und E'!AD17)/('T und E'!$B18-'T und E'!$B17) -> 0.00058826667 | AE17: =('T und E'!AE18-'T und E'!AE17)/('T und E'!$B18-'T und E'!$B17) -> 0.00058793333 | AF17: =('T und E'!AF18-'T und E'!AF17)/('T und E'!$B18-'T und E'!$B17) -> 0.00058723333 | AG17: =('T und E'!AG18-'T und E'!AG17)/('T und E'!$B18-'T und E'!$B17) -> 0.00058613333 | AH17: =('T und E'!AH18-'T und E'!AH17)/('T und E'!$B18-'T und E'!$B17) -> 0.0005835 | AI17: =('T und E'!AI18-'T und E'!AI17)/('T und E'!$B18-'T und E'!$B17) -> 0.00057598333 | AJ17: =('T und E'!AJ18-'T und E'!AJ17)/('T und E'!$B18-'T und E'!$B17) -> 0.00056716667 | AK17: =('T und E'!AK18-'T und E'!AK17)/('T und E'!$B18-'T und E'!$B17) -> 0.00055713333 | ... AN17: =('T und E'!AN18-'T und E'!AN17)/('T und E'!$B18-'T und E'!$B17) -> 0.0005145 | AP17: ='T und E'!AP17 -> 3.81875 | AQ17: =('T und E'!AQ18-'T und E'!AQ17)/('T und E'!$B18-'T und E'!$B17) -> 0.00057368333 | AR17: =('T und E'!AR18-'T und E'!AR17)/('T und E'!$B18-'T und E'!$B17) -> 0.00057345 | AS17: =('T und E'!AS18-'T und E'!AS17)/('T und E'!$B18-'T und E'!$B17) -> 0.00057281667 | AT17: =('T und E'!AT18-'T und E'!AT17)/('T und E'!$B18-'T und E'!$B17) -> 0.00057131667 | AU17: =('T und E'!AU18-'T und E'!AU17)/('T und E'!$B18-'T und E'!$B17) -> 0.0005683 | AV17: =('T und E'!AV18-'T und E'!AV17)/('T und E'!$B18-'T und E'!$B17) -> 0.00054816667 | AW17: =('T und E'!AW18-'T und E'!AW17)/('T und E'!$B18-'T und E'!$B17) -> 0.00050131667 | AX17: =('T und E'!AX18-'T und E'!AX17)/('T und E'!$B18-'T und E'!$B17) -> 0.0004436 | ... BA17: =('T und E'!BA18-'T und E'!BA17)/('T und E'!$B18-'T und E'!$B17) -> 0.00029289833
B18: ='T und E'!B18 -> 4.41875 | C18: =('T und E'!C19-'T und E'!C18)/('T und E'!$B19-'T und E'!$B18) -> 48.508333 | D18: =('T und E'!D19-'T und E'!D18)/('T und E'!$B19-'T und E'!$B18) -> 48.511667 | E18: =('T und E'!E19-'T und E'!E18)/('T und E'!$B19-'T und E'!$B18) -> 48.515 | F18: =('T und E'!F19-'T und E'!F18)/('T und E'!$B19-'T und E'!$B18) -> 48.518333 | G18: =('T und E'!G19-'T und E'!G18)/('T und E'!$B19-'T und E'!$B18) -> 48.5 | H18: =('T und E'!H19-'T und E'!H18)/('T und E'!$B19-'T und E'!$B18) -> 48.421667 | I18: =('T und E'!I19-'T und E'!I18)/('T und E'!$B19-'T und E'!$B18) -> 47.235 | J18: =('T und E'!J19-'T und E'!J18)/('T und E'!$B19-'T und E'!$B18) -> 45.108333 | ... M18: =('T und E'!M19-'T und E'!M18)/('T und E'!$B19-'T und E'!$B18) -> 33.018333 | P18: ='T und E'!P18 -> 4.41875 | Q18: =('T und E'!Q19-'T und E'!Q18)/('T und E'!$B19-'T und E'!$B18) -> 0.0017878333 | R18: =('T und E'!R19-'T und E'!R18)/('T und E'!$B19-'T und E'!$B18) -> 0.001788 | S18: =('T und E'!S19-'T und E'!S18)/('T und E'!$B19-'T und E'!$B18) -> 0.001787 | T18: =('T und E'!T19-'T und E'!T18)/('T und E'!$B19-'T und E'!$B18) -> 0.0017801667 | U18: =('T und E'!U19-'T und E'!U18)/('T und E'!$B19-'T und E'!$B18) -> 0.0017563333 | V18: =('T und E'!V19-'T und E'!V18)/('T und E'!$B19-'T und E'!$B18) -> 0.0013288333 | W18: =('T und E'!W19-'T und E'!W18)/('T und E'!$B19-'T und E'!$B18) -> 0.00094831667 | X18: =('T und E'!X19-'T und E'!X18)/('T und E'!$B19-'T und E'!$B18) -> 0.00080061667 | ... AA18: =('T und E'!AA19-'T und E'!AA18)/('T und E'!$B19-'T und E'!$B18) -> 0.00049588333 | AC18: ='T und E'!AC18 -> 4.41875 | AD18: =('T und E'!AD19-'T und E'!AD18)/('T und E'!$B19-'T und E'!$B18) -> 0.00052948333 | AE18: =('T und E'!AE19-'T und E'!AE18)/('T und E'!$B19-'T und E'!$B18) -> 0.0005295 | AF18: =('T und E'!AF19-'T und E'!AF18)/('T und E'!$B19-'T und E'!$B18) -> 0.00052938333 | AG18: =('T und E'!AG19-'T und E'!AG18)/('T und E'!$B19-'T und E'!$B18) -> 0.0005286 | AH18: =('T und E'!AH19-'T und E'!AH18)/('T und E'!$B19-'T und E'!$B18) -> 0.00052641667 | AI18: =('T und E'!AI19-'T und E'!AI18)/('T und E'!$B19-'T und E'!$B18) -> 0.00052493333 | AJ18: =('T und E'!AJ19-'T und E'!AJ18)/('T und E'!$B19-'T und E'!$B18) -> 0.00053086667 | AK18: =('T und E'!AK19-'T und E'!AK18)/('T und E'!$B19-'T und E'!$B18) -> 0.00053638333 | ... AN18: =('T und E'!AN19-'T und E'!AN18)/('T und E'!$B19-'T und E'!$B18) -> 0.0005037 | AP18: ='T und E'!AP18 -> 4.41875 | AQ18: =('T und E'!AQ19-'T und E'!AQ18)/('T und E'!$B19-'T und E'!$B18) -> 0.00055788333 | AR18: =('T und E'!AR19-'T und E'!AR18)/('T und E'!$B19-'T und E'!$B18) -> 0.00055751667 | AS18: =('T und E'!AS19-'T und E'!AS18)/('T und E'!$B19-'T und E'!$B18) -> 0.0005566 | AT18: =('T und E'!AT19-'T und E'!AT18)/('T und E'!$B19-'T und E'!$B18) -> 0.00055455 | AU18: =('T und E'!AU19-'T und E'!AU18)/('T und E'!$B19-'T und E'!$B18) -> 0.00055003333 | AV18: =('T und E'!AV19-'T und E'!AV18)/('T und E'!$B19-'T und E'!$B18) -> 0.00052758333 | AW18: =('T und E'!AW19-'T und E'!AW18)/('T und E'!$B19-'T und E'!$B18) -> 0.00048681667 | AX18: =('T und E'!AX19-'T und E'!AX18)/('T und E'!$B19-'T und E'!$B18) -> 0.00043825 | ... BA18: =('T und E'!BA19-'T und E'!BA18)/('T und E'!$B19-'T und E'!$B18) -> 0.00031071667
... B46: ='T und E'!B46 -> 8.44897 | C46: =('T und E'!C47-'T und E'!C46)/('T und E'!$B47-'T und E'!$B46) -> 971.96262 | D46: =('T und E'!D47-'T und E'!D46)/('T und E'!$B47-'T und E'!$B46) -> 973.13084 | E46: =('T und E'!E47-'T und E'!E46)/('T und E'!$B47-'T und E'!$B46) -> 971.96262 | F46: =('T und E'!F47-'T und E'!F46)/('T und E'!$B47-'T und E'!$B46) -> 973.13084 | G46: =('T und E'!G47-'T und E'!G46)/('T und E'!$B47-'T und E'!$B46) -> 975.46729 | H46: =('T und E'!H47-'T und E'!H46)/('T und E'!$B47-'T und E'!$B46) -> 984.81308 | I46: =('T und E'!I47-'T und E'!I46)/('T und E'!$B47-'T und E'!$B46) -> 567.87383 | J46: =('T und E'!J47-'T und E'!J46)/('T und E'!$B47-'T und E'!$B46) -> 149.76636 | ... M46: =('T und E'!M47-'T und E'!M46)/('T und E'!$B47-'T und E'!$B46) -> 31.191589 | P46: ='T und E'!P46 -> 8.44897 | Q46: =('T und E'!Q47-'T und E'!Q46)/('T und E'!$B47-'T und E'!$B46) -> 0.0075934579 | R46: =('T und E'!R47-'T und E'!R46)/('T und E'!$B47-'T und E'!$B46) -> 0.0075817757 | S46: =('T und E'!S47-'T und E'!S46)/('T und E'!$B47-'T und E'!$B46) -> 0.0075817757 | T46: =('T und E'!T47-'T und E'!T46)/('T und E'!$B47-'T und E'!$B46) -> 0.0077219626 | U46: =('T und E'!U47-'T und E'!U46)/('T und E'!$B47-'T und E'!$B46) -> 0.0083995327 | V46: =('T und E'!V47-'T und E'!V46)/('T und E'!$B47-'T und E'!$B46) -> 0.019415888 | W46: =('T und E'!W47-'T und E'!W46)/('T und E'!$B47-'T und E'!$B46) -> 0.024672897 | X46: =('T und E'!X47-'T und E'!X46)/('T und E'!$B47-'T und E'!$B46) -> 0.011873832 | ... AA46: =('T und E'!AA47-'T und E'!AA46)/('T und E'!$B47-'T und E'!$B46) -> 2.2196262e-05 | AC46: ='T und E'!AC46 -> 8.44897 | AD46: =('T und E'!AD47-'T und E'!AD46)/('T und E'!$B47-'T und E'!$B46) -> 0.031061916 | AE46: =('T und E'!AE47-'T und E'!AE46)/('T und E'!$B47-'T und E'!$B46) -> 0.030969626 | AF46: =('T und E'!AF47-'T und E'!AF46)/('T und E'!$B47-'T und E'!$B46) -> 0.030768692 | AG46: =('T und E'!AG47-'T und E'!AG46)/('T und E'!$B47-'T und E'!$B46) -> 0.03033528 | AH46: =('T und E'!AH47-'T und E'!AH46)/('T und E'!$B47-'T und E'!$B46) -> -0.031533879 | AI46: =('T und E'!AI47-'T und E'!AI46)/('T und E'!$B47-'T und E'!$B46) -> 0.016808411 | AJ46: =('T und E'!AJ47-'T und E'!AJ46)/('T und E'!$B47-'T und E'!$B46) -> 0.0026413551 | AK46: =('T und E'!AK47-'T und E'!AK46)/('T und E'!$B47-'T und E'!$B46) -> -0.002432243 | ... AN46: =('T und E'!AN47-'T und E'!AN46)/('T und E'!$B47-'T und E'!$B46) -> 0.00072313084 | AP46: ='T und E'!AP46 -> 8.44897 | AQ46: =('T und E'!AQ47-'T und E'!AQ46)/('T und E'!$B47-'T und E'!$B46) -> 0.005228972 | AR46: =('T und E'!AR47-'T und E'!AR46)/('T und E'!$B47-'T und E'!$B46) -> 0.0052278037 | AS46: =('T und E'!AS47-'T und E'!AS46)/('T und E'!$B47-'T und E'!$B46) -> 0.0052266355 | AT46: =('T und E'!AT47-'T und E'!AT46)/('T und E'!$B47-'T und E'!$B46) -> 0.0052207944 | AU46: =('T und E'!AU47-'T und E'!AU46)/('T und E'!$B47-'T und E'!$B46) -> 0.0052102804 | AV46: =('T und E'!AV47-'T und E'!AV46)/('T und E'!$B47-'T und E'!$B46) -> 0.0046086449 | AW46: =('T und E'!AW47-'T und E'!AW46)/('T und E'!$B47-'T und E'!$B46) -> 0.0028095794 | AX46: =('T und E'!AX47-'T und E'!AX46)/('T und E'!$B47-'T und E'!$B46) -> 0.00088084112 | ... BA46: =('T und E'!BA47-'T und E'!BA46)/('T und E'!$B47-'T und E'!$B46) -> 0.00013901869
